From mboxrd@z Thu Jan  1 00:00:00 1970
Return-Path: <test-report-bounces@dpdk.org>
Received: from mails.dpdk.org (mails.dpdk.org [217.70.189.124])
	by inbox.dpdk.org (Postfix) with ESMTP id C02FA461A2
	for <public@inbox.dpdk.org>; Wed,  5 Feb 2025 22:22:12 +0100 (CET)
Received: from mails.dpdk.org (localhost [127.0.0.1])
	by mails.dpdk.org (Postfix) with ESMTP id BB98B402E7;
	Wed,  5 Feb 2025 22:22:12 +0100 (CET)
Received: from mail-qt1-f228.google.com (mail-qt1-f228.google.com
 [209.85.160.228])
 by mails.dpdk.org (Postfix) with ESMTP id 40F13402B3
 for <test-report@dpdk.org>; Wed,  5 Feb 2025 22:22:12 +0100 (CET)
Received: by mail-qt1-f228.google.com with SMTP id
 d75a77b69052e-467a3c85e11so1836511cf.2
 for <test-report@dpdk.org>; Wed, 05 Feb 2025 13:22:12 -0800 (PST)
DKIM-Signature: v=1; a=rsa-sha256; c=relaxed/relaxed;
 d=iol.unh.edu; s=unh-iol; t=1738790531; x=1739395331; darn=dpdk.org;
 h=references:in-reply-to:cc:to:from:subject:message-id:date:from:to
 :cc:subject:date:message-id:reply-to;
 bh=3zQcEHrpu16Ce9Lw8TjrY1Qr04Qq2BREGXgw0eeh2RA=;
 b=fnE4O2Y8sVZZG2np0W2/DLWk2sgOstQNCWz2mFZjcwB0epGvJlbkEmWVM9YRbi5NT7
 D5HVp2NRlglYdIp1zjQoFYP+6i2jDz/O9LlZ8TY9KaK8gFhfGtcqssIeGobkb4D9V548
 3uWKFSST+43xt5FE6+1jGF4quvtI8fivO9HmQ=
X-Google-DKIM-Signature: v=1; a=rsa-sha256; c=relaxed/relaxed;
 d=1e100.net; s=20230601; t=1738790531; x=1739395331;
 h=references:in-reply-to:cc:to:from:subject:message-id:date
 :x-gm-message-state:from:to:cc:subject:date:message-id:reply-to;
 bh=3zQcEHrpu16Ce9Lw8TjrY1Qr04Qq2BREGXgw0eeh2RA=;
 b=pfaqo0kyvfQnAGRrqDHOzphh+/TwzaSSY4aGjrHmjz215OC3cmWTWb+ByPKY8PyOlz
 Djz2927wY+Qh1f7AItO6AdFrJASoyUJK9EspRz4d4GwBZVBqhZxG6pXPfgCvOv4dmm7T
 5y93FXKDRM0pKrLlIFwTNC3AzYCFnILt6wfs50naB6HFXmChui4HtzRDKdhEeOqqxVnR
 2JW9BZhRtzB2dJhZnys+qkhB3/aF44A+OtdrZxdcwYherg8923622ddKotYlQhf7yPgB
 cKjDVsKGM8e1e9bHj5NIWsmSIy+5PmrkYsWEsF2p0eojBvH/FNS9IgG37zrFujrMpicz
 4UkQ==
X-Gm-Message-State: AOJu0YyFKl7+pp0N5+VdwfYIjbb0wjKdp3LKT13eMhYzNtzXTadd5SDm
 h47u/F9NFtGGlWV6U8U7F0gkkRE7OcwREoGR7Lo6SZDtHaPK5vtkJi73Gg53kEjVphtvrvIKjZY
 1RJqJW/rgHwtEajVpRmdW4JFY5bluo20L3MlQGXrjkTMO85TK3gJG7g3y
X-Gm-Gg: ASbGncsMnEeoYGXwOX+SqCk7H/1wYa1xytqbanbb/2VrBPZbb95Re1tj1fiBKIFi0RA
 EIOH/CVhMkkdu/rI6Ln+qMvptjtqzRGtT01pyw0fDLpw2bh+SF+uUqJQDhWyUqRHhnhhI7zRyg6
 OxVXRdPGhZMw9YF4uxvtx39laIrDuA0iMZuEe8CY32qKPNjN1cRbzgx3BtXsRzIvbupw7oKlDpY
 EPqPt19OLqXUi2LUNo3+ljk0aNoGi7fAxUiSd0GfAGX+sWB6YvRNwW+fKP9M353U4npvQBrwSPe
 2dcDrC56D6fRVQsy5HGLbJ6E3zXI25/0fTUG3t0rYA==
X-Google-Smtp-Source: AGHT+IFhAHM1iS4rWIDFFzA1OcD/7jOjBosbWvxRIZ6JFJA7JSydjemP17AgTYUcZRLMqBvgjfd+zEg0nSNj
X-Received: by 2002:ad4:5ec9:0:b0:6d8:a188:369f with SMTP id
 6a1803df08f44-6e42fbbdcb5mr63955166d6.14.1738790531614; 
 Wed, 05 Feb 2025 13:22:11 -0800 (PST)
Received: from postal.iol.unh.edu (postal.iol.unh.edu.
 [2606:4100:3880:1234::84]) by smtp-relay.gmail.com with ESMTPS id
 6a1803df08f44-6e42d6e3720sm2274336d6.34.2025.02.05.13.22.11
 (version=TLS1_2 cipher=ECDHE-ECDSA-AES128-GCM-SHA256 bits=128/128);
 Wed, 05 Feb 2025 13:22:11 -0800 (PST)
X-Relaying-Domain: iol.unh.edu
Date: Wed, 05 Feb 2025 13:22:11 -0800 (PST)
Message-ID: <67a3d683.050a0220.261007.acb0SMTPIN_ADDED_MISSING@mx.google.com>
Received: from [172.21.0.5] (unknown [172.18.0.240])
 by postal.iol.unh.edu (Postfix) with ESMTP id 54D366052471;
 Wed,  5 Feb 2025 16:22:11 -0500 (EST)
Subject: |SUCCESS| pw150930-150931 [PATCH] [v5,2/2] net/cnxk: support rte flo
From: dpdklab@iol.unh.edu
To: Test Report <test-report@dpdk.org>
Cc: dpdk-test-reports@iol.unh.edu
In-Reply-To: <20250205054247.1214565-2-psatheesh@marvell.com>
References: <20250205054247.1214565-2-psatheesh@marvell.com>
Content-Type: text/plain
X-BeenThere: test-report@dpdk.org
X-Mailman-Version: 2.1.29
Precedence: list
List-Id: automatic DPDK test reports <test-report.dpdk.org>
List-Unsubscribe: <https://mails.dpdk.org/options/test-report>,
 <mailto:test-report-request@dpdk.org?subject=unsubscribe>
List-Archive: <http://mails.dpdk.org/archives/test-report/>
List-Post: <mailto:test-report@dpdk.org>
List-Help: <mailto:test-report-request@dpdk.org?subject=help>
List-Subscribe: <https://mails.dpdk.org/listinfo/test-report>,
 <mailto:test-report-request@dpdk.org?subject=subscribe>
Errors-To: test-report-bounces@dpdk.org

Test-Label: iol-unit-arm64-testing
Test-Status: SUCCESS
http://dpdk.org/patch/150931

_Testing PASS_

Submitter: Satheesh Paul Antonysamy <psatheesh@marvell.com>
Date: Wednesday, February 05 2025 05:42:47 
DPDK git baseline: Repo:dpdk
  Branch: master
  CommitID:1509e93efb980d1e4da3dabd332748b26cab76fd

150930-150931 --> testing pass

Upstream job id: Generic-Unit-Test-DPDK#311766

Test environment and result as below:

+-----------------------------+--------------+---------------------------+------------------------------+----------------+
|         Environment         | lpm_autotest | cryptodev_sw_zuc_autotest | cryptodev_sw_snow3g_autotest | dpdk_unit_test |
+=============================+==============+===========================+==============================+================+
| Ubuntu 20.04 ARM SVE        | PASS         | SKIPPED                   | SKIPPED                      | SKIPPED        |
+-----------------------------+--------------+---------------------------+------------------------------+----------------+
| Debian 12 (arm)             | SKIPPED      | PASS                      | PASS                         | PASS           |
+-----------------------------+--------------+---------------------------+------------------------------+----------------+
| CentOS Stream 9 (ARM)       | SKIPPED      | SKIPPED                   | SKIPPED                      | PASS           |
+-----------------------------+--------------+---------------------------+------------------------------+----------------+
| Fedora 41 (ARM)             | SKIPPED      | SKIPPED                   | SKIPPED                      | PASS           |
+-----------------------------+--------------+---------------------------+------------------------------+----------------+
| Debian 11 (Buster) (ARM)    | SKIPPED      | SKIPPED                   | SKIPPED                      | PASS           |
+-----------------------------+--------------+---------------------------+------------------------------+----------------+
| Fedora 40 (ARM)             | SKIPPED      | SKIPPED                   | SKIPPED                      | PASS           |
+-----------------------------+--------------+---------------------------+------------------------------+----------------+
| Fedora 40 (ARM Clang)       | SKIPPED      | SKIPPED                   | SKIPPED                      | PASS           |
+-----------------------------+--------------+---------------------------+------------------------------+----------------+
| RHEL9 (ARM)                 | SKIPPED      | SKIPPED                   | SKIPPED                      | PASS           |
+-----------------------------+--------------+---------------------------+------------------------------+----------------+
| Fedora 41 (ARM Clang)       | SKIPPED      | SKIPPED                   | SKIPPED                      | PASS           |
+-----------------------------+--------------+---------------------------+------------------------------+----------------+
| Ubuntu 22.04 (ARM)          | SKIPPED      | SKIPPED                   | SKIPPED                      | PASS           |
+-----------------------------+--------------+---------------------------+------------------------------+----------------+
| Ubuntu 20.04 (ARM)          | SKIPPED      | SKIPPED                   | SKIPPED                      | PASS           |
+-----------------------------+--------------+---------------------------+------------------------------+----------------+
| Ubuntu 24.04 (ARM)          | SKIPPED      | SKIPPED                   | SKIPPED                      | PASS           |
+-----------------------------+--------------+---------------------------+------------------------------+----------------+
| 32-bit Ubuntu 22.04.4 (ARM) | SKIPPED      | SKIPPED                   | SKIPPED                      | PASS           |
+-----------------------------+--------------+---------------------------+------------------------------+----------------+


Ubuntu 20.04 ARM SVE
	Kernel: Depends on container host
	Compiler: gcc (Ubuntu 10.5.0-1ubuntu1~20.04) 10.5.0

Debian 12 (arm)
	Kernel: Depends on container host
	Compiler: gcc (Debian 12.2.0-14) 12.2.0

CentOS Stream 9 (ARM)
	Kernel: Depends on container host
	Compiler: gcc 11.5.0 20240719 (Red Hat 11.5.0-2)

Fedora 41 (ARM)
	Kernel: Depends on container host
	Compiler: gcc 14.2.1 20240912 (Red Hat 14.2.1-3)

Debian 11 (Buster) (ARM)
	Kernel: Depends on container host
	Compiler: gcc (Debian 10.2.1-6) 10.2.1 20210110

Fedora 40 (ARM)
	Kernel: Depends on container host
	Compiler: gcc 14.2.1 20240912 (Red Hat 14.2.1-3)

Fedora 40 (ARM Clang)
	Kernel: Depends on container host
	Compiler: clang 18.1.8 (Fedora 18.1.8-1.fc40)

RHEL9 (ARM)
	Kernel: Depends on container host
	Compiler: gcc 11.5.0 20240719 (Red Hat 11.5.0-2)

Fedora 41 (ARM Clang)
	Kernel: Depends on container host
	Compiler: clang 19.1.5 (Fedora 19.1.5-1.fc41)

Ubuntu 22.04 (ARM)
	Kernel: Depends on container host
	Compiler: gcc (Ubuntu 11.4.0-1ubuntu1~22.04) 11.4.0

Ubuntu 20.04 (ARM)
	Kernel: Depends on container host
	Compiler: gcc (Ubuntu 9.4.0-1ubuntu1~20.04.2) 9.4.0

Ubuntu 24.04 (ARM)
	Kernel: Depends on container host
	Compiler: gcc (Ubuntu 13.3.0-6ubuntu2~24.04) 13.3.0

32-bit Ubuntu 22.04.4 (ARM)
	Kernel: 5.15.83+ aarch64
	Compiler: gcc (Ubuntu 11.4.0-1ubuntu1~22.04) 11.4.0

To view detailed results, visit:
https://lab.dpdk.org/results/dashboard/patchsets/32495/

UNH-IOL DPDK Community Lab

To manage your email subscriptions, visit: 
https://lab.dpdk.org/results/dashboard/preferences/subscriptions/