From mboxrd@z Thu Jan 1 00:00:00 1970 Return-Path: Received: from mails.dpdk.org (mails.dpdk.org [217.70.189.124]) by inbox.dpdk.org (Postfix) with ESMTP id D04A1461A2 for ; Wed, 5 Feb 2025 22:52:07 +0100 (CET) Received: from mails.dpdk.org (localhost [127.0.0.1]) by mails.dpdk.org (Postfix) with ESMTP id B093E402E7; Wed, 5 Feb 2025 22:52:07 +0100 (CET) Received: from mail-vk1-f225.google.com (mail-vk1-f225.google.com [209.85.221.225]) by mails.dpdk.org (Postfix) with ESMTP id E5066402B3 for ; Wed, 5 Feb 2025 22:52:06 +0100 (CET) Received: by mail-vk1-f225.google.com with SMTP id 71dfb90a1353d-5174f9c0d2aso77239e0c.1 for ; Wed, 05 Feb 2025 13:52:06 -0800 (PST) DKIM-Signature: v=1; a=rsa-sha256; c=relaxed/relaxed; d=iol.unh.edu; s=unh-iol; t=1738792326; x=1739397126; darn=dpdk.org; h=references:in-reply-to:cc:to:from:subject:message-id:date:from:to :cc:subject:date:message-id:reply-to; bh=CdHlVO8UPcSihkLQAsNJw9nmsr2UWYCqtPfwJSQChNg=; b=ceOW+UZJrh7LgmEoFkVmSBU0Gia+3EC+DKvuVMbeyX450bME6guouTk29IK5vGwcL6 +YfC29eXbdKzrxb0xUuxFj4KJvSbpNepHbg4/yocaryiR11urCT1LbDes/dHE3sKlwi1 xjBBveRbrzvyZkgB8CkV8kBFaWadAxPhEenEI= X-Google-DKIM-Signature: v=1; a=rsa-sha256; c=relaxed/relaxed; d=1e100.net; s=20230601; t=1738792326; x=1739397126; h=references:in-reply-to:cc:to:from:subject:message-id:date :x-gm-message-state:from:to:cc:subject:date:message-id:reply-to; bh=CdHlVO8UPcSihkLQAsNJw9nmsr2UWYCqtPfwJSQChNg=; b=klbsgUP39swzjIFQA0ak0LSz6LWyMTFyO4yatIUfoaEtponAm2BD+584BnamVfxtGr 540xJ/YQ2FUQfPpXA3DdxNlQ92rcPLYfH4d2yV2+zRXFrH9s1hOQqkW5IdKcmjzHHMqe UZmxIrIsIRB+C4Z57bL/2mhJRLM0OUNW2x/b8Ngsw6EI0pcz3QD9DgFEs2q0PAfB1SbM Sn6WaLtsM4U7yP+Ck9qktHS4mofO7T1Os7RHuZCI0CVUAZm/JyN62t8HBiif3CLWjMFG H76ffKpLCw+GRv0wZP/Gt2iDzyJloiH7AzXYY+o9ZXGz76c9QgY2HqrCdPfGXZcNXUge /lyw== X-Gm-Message-State: AOJu0YxpNqz/FB/AHTXr2tEQrCmKyg+lzr+CATPQcxHcqZu9+qYf85jK y/YhfKK4fyvY0gDxG2d6sScrjG4IwB81pTGtISutZGGYbPnH5GTGGWcdYbkvnGycUuKFiUg1VpF RAslsaTu+heqkNmH0gcMFsk9tRzT69MqyFnoX89VaLsjhWhDQOjd6GHkT X-Gm-Gg: ASbGncv3Ulxn57vSpXbfFFBONvM4l1r96IQJBUAKjchGMpCWoRUfohVjmxNACsL8bHq J/Ypo7O3KbAy8lRjRe0f8ui5cRM4aAjvZo7W/ftCa6ZARTEpuEkAGqcT/xfMfim8tfFSOFQsqX2 anEKCAp1PTi+4K8KEo6Wz5oL7ZNtRl6/qrmihR0oBB3WJSdR1B879Vm+VgzSsqz7AlBW1pfgXBN Z6qjDx+7Mb2H175zm3DO1XEkULSDAUSRLfeW2nLYWenjHfqcE4Jt9DUycS4WMRocJpQQVg1c5Dj FX3mIwyw2LsOIPGIAqK+WsXtCxSu55O9+OlIyrHcWg== X-Google-Smtp-Source: AGHT+IGmFwzOm5DgcRjtJPK6sIz9Vrh3njUXyRX/Pb86vxit+HEV1a6UEvuJIHDN92E3Va+j7JbQjfwYlSPX X-Received: by 2002:a05:6122:2104:b0:516:1a78:bfb with SMTP id 71dfb90a1353d-51f0c4c1de6mr3235754e0c.7.1738792326246; Wed, 05 Feb 2025 13:52:06 -0800 (PST) Received: from postal.iol.unh.edu (postal.iol.unh.edu. [2606:4100:3880:1234::84]) by smtp-relay.gmail.com with ESMTPS id 71dfb90a1353d-51eb1dfae83sm595175e0c.11.2025.02.05.13.52.06 (version=TLS1_2 cipher=ECDHE-ECDSA-AES128-GCM-SHA256 bits=128/128); Wed, 05 Feb 2025 13:52:06 -0800 (PST) X-Relaying-Domain: iol.unh.edu Date: Wed, 05 Feb 2025 13:52:06 -0800 (PST) Message-ID: <67a3dd86.050a0220.3c9d9e.b80bSMTPIN_ADDED_MISSING@mx.google.com> Received: from [172.21.0.5] (unknown [172.18.0.240]) by postal.iol.unh.edu (Postfix) with ESMTP id E1F436052472; Wed, 5 Feb 2025 16:52:05 -0500 (EST) Subject: |SUCCESS| pw150992-151002 [PATCH] [11/11] net/bnxt: address coverity From: dpdklab@iol.unh.edu To: Test Report Cc: dpdk-test-reports@iol.unh.edu In-Reply-To: <20250205172004.50395-12-ajit.khaparde@broadcom.com> References: <20250205172004.50395-12-ajit.khaparde@broadcom.com> Content-Type: text/plain X-BeenThere: test-report@dpdk.org X-Mailman-Version: 2.1.29 Precedence: list List-Id: automatic DPDK test reports List-Unsubscribe: , List-Archive: List-Post: List-Help: List-Subscribe: , Errors-To: test-report-bounces@dpdk.org Test-Label: iol-unit-amd64-testing Test-Status: SUCCESS http://dpdk.org/patch/151002 _Testing PASS_ Submitter: Ajit Khaparde Date: Wednesday, February 05 2025 17:20:04 DPDK git baseline: Repo:dpdk Branch: master CommitID:32c18e7364e30a8e43cc7cc6709a7ce606fa285e 150992-151002 --> testing pass Upstream job id: Generic-VM-Unit-Test-DPDK#27112 Test environment and result as below: +---------------------+----------------+ | Environment | dpdk_unit_test | +=====================+================+ | CentOS Stream 9 | PASS | +---------------------+----------------+ | Debian Bullseye | PASS | +---------------------+----------------+ | Fedora 40 | PASS | +---------------------+----------------+ | Fedora 41 | PASS | +---------------------+----------------+ | RHEL8 | PASS | +---------------------+----------------+ | Ubuntu 20.04 | PASS | +---------------------+----------------+ | Debian 12 | PASS | +---------------------+----------------+ | RHEL9 | PASS | +---------------------+----------------+ | Fedora 40 (Clang) | PASS | +---------------------+----------------+ | Ubuntu 22.04 | PASS | +---------------------+----------------+ | Fedora 41 (Clang) | PASS | +---------------------+----------------+ | Ubuntu 24.04 | PASS | +---------------------+----------------+ | Windows Server 2022 | PASS | +---------------------+----------------+ CentOS Stream 9 Kernel: Depends on container host Compiler: gcc 11.5.0 20240719 (Red Hat 11.5.0-2) Debian Bullseye Kernel: Depends on container host Compiler: gcc (Debian 10.2.1-6) 10.2.1 20210110 Fedora 40 Kernel: Depends on container host Compiler: gcc 14.2.1 20240912 (Red Hat 14.2.1-3) Fedora 41 Kernel: Depends on container host Compiler: gcc 14.2.1 20240912 (Red Hat 14.2.1-3) RHEL8 Kernel: Depends on container host Compiler: gcc 8.5.0 20210514 (Red Hat 8.5.0-22) Ubuntu 20.04 Kernel: Depends on container host Compiler: gcc (Ubuntu 9.4.0-1ubuntu1~20.04.2) 9.4.0 Debian 12 Kernel: Depends on container host Compiler: gcc (Debian 12.2.0-14) 12.2.0 RHEL9 Kernel: Depends on container host Compiler: gcc 11.5.0 20240719 (Red Hat 11.5.0-2) Fedora 40 (Clang) Kernel: Depends on container host Compiler: clang 18.1.8 (Fedora 18.1.8-1.fc40) Ubuntu 22.04 Kernel: Depends on container host Compiler: gcc (Ubuntu 11.4.0-1ubuntu1~22.04) 11.4.0 Fedora 41 (Clang) Kernel: Depends on container host Compiler: clang 19.1.5 (Fedora 19.1.5-1.fc41) Ubuntu 24.04 Kernel: Depends on container host Compiler: gcc (Ubuntu 13.3.0-6ubuntu2~24.04) 13.3.0 Windows Server 2022 Kernel: 10.0.20348.2031 Compiler: clang 15.0.7, gcc 14.1.0 (MinGW), and MSVC VS 19.39.33521 To view detailed results, visit: https://lab.dpdk.org/results/dashboard/patchsets/32502/ UNH-IOL DPDK Community Lab To manage your email subscriptions, visit: https://lab.dpdk.org/results/dashboard/preferences/subscriptions/