From mboxrd@z Thu Jan 1 00:00:00 1970 Return-Path: Received: from mails.dpdk.org (mails.dpdk.org [217.70.189.124]) by inbox.dpdk.org (Postfix) with ESMTP id CAC34461A2 for ; Wed, 5 Feb 2025 23:01:04 +0100 (CET) Received: from mails.dpdk.org (localhost [127.0.0.1]) by mails.dpdk.org (Postfix) with ESMTP id BDBA9402E7; Wed, 5 Feb 2025 23:01:04 +0100 (CET) Received: from mail-il1-f225.google.com (mail-il1-f225.google.com [209.85.166.225]) by mails.dpdk.org (Postfix) with ESMTP id 6C4E5402B3 for ; Wed, 5 Feb 2025 23:01:03 +0100 (CET) Received: by mail-il1-f225.google.com with SMTP id e9e14a558f8ab-3d05960a161so824765ab.0 for ; Wed, 05 Feb 2025 14:01:03 -0800 (PST) DKIM-Signature: v=1; a=rsa-sha256; c=relaxed/relaxed; d=iol.unh.edu; s=unh-iol; t=1738792863; x=1739397663; darn=dpdk.org; h=references:in-reply-to:cc:to:from:subject:message-id:date:from:to :cc:subject:date:message-id:reply-to; bh=CrZFTW63aSLg+1vkIYo9rlr4Se1yTTb11B4rMysWe1I=; b=DndSMbAlJy3eJWOpQ+4W2zeTQVftkibVle9PREv1Qk2Nb6/dBM8NlMcixHtM1Rd0d2 MsG6HocWPaCq2X4D6r1+VVIW0Bnsbpb2ZYJhaAArw8xY4gmBE29nuHPg17O6jWreHAr6 VABSVOovb/5GSlQ07qwgBUGDaB+/GXRWJa7Bs= X-Google-DKIM-Signature: v=1; a=rsa-sha256; c=relaxed/relaxed; d=1e100.net; s=20230601; t=1738792863; x=1739397663; h=references:in-reply-to:cc:to:from:subject:message-id:date :x-gm-message-state:from:to:cc:subject:date:message-id:reply-to; bh=CrZFTW63aSLg+1vkIYo9rlr4Se1yTTb11B4rMysWe1I=; b=IVSzT/ZbS4ZvHXT37hMCtRYLI0nzXhiQHhAQY2drDhtTHD6sVGRzffdU8D6EAYHXwN V4l+bn66YthPpbbOA57GDB5e6vGZWk5LJ5oh70ATzPcnWGH50SAAzfhizv1U5uROa2pk F5O5Zy3gkMnHwpoQfuJS0vlF1WKqGpPsEF8CCk5fmJjm1HGh/SC7A57UpKu3NRreJodf VmGxe1in9n29dAqAFRhNQkHmqIEmz9npfGbR091dYmwunalusxGmOzg/T+t3YOUS7e3O gG7uhCarFYtMMM/zk8nq8CMCbR43TaqzkD4QrKBHHucqk9TaOByFuK0DAXw82PS4FeIP eDuQ== X-Gm-Message-State: AOJu0YxQEOtU9EuODUd7CSRxEK2R13dqui1zTKo0C7iL6HlGz9HnFipG rb5QxBdjzG6kfXyIb2cIE1JbmbDbbHRX0vKa7r+6FRlK41Wukwppz5a+3FEAoiN9cfMjVPWpa1g pEFwcC16p7mbP9Up8NXKVEl6ZU5Q0yhG9IgNvNzAUwUFwswDb5Zxqtb8h X-Gm-Gg: ASbGnctaRDd2V8q/c3mJJhAKfAHjq+LoetTvzuI6B+XJhbpBIdfbr8gFDbki+PFpEnk 29SXl0Gho4PFKjXgG7ctmyoCwXUmlD0w5iZENds0zYvOG9ommNVHlOoFSMmbUUUlYV+zlA20Ef6 jMoF7TsrPBs4wR6SbB8deJ/YaXUyMmn/dcA06ql6pyssvPmaPn2vj6fXtrYWTe9X0XuN5QEYdEF mfzN+2LwlPXL262Ky2D3Yud80Od2k9zUzRwBGjOXRz82EBgmzAa4GPa+PCql1ulXvxhKOSY+E5b JqBo9+gmZcqum/aGEcQhS91rLC1OXlVBrBS1n47h1w== X-Google-Smtp-Source: AGHT+IHkFvpG6MR1zte9TvLdT9j3jQtxSxW48WwjxeyD9gUBWJJQfLhtofxSqTTX2HRPNh4ObWNQ4reoHrBj X-Received: by 2002:a92:c565:0:b0:3d0:47cf:869c with SMTP id e9e14a558f8ab-3d04f93131amr46374415ab.19.1738792862726; Wed, 05 Feb 2025 14:01:02 -0800 (PST) Received: from postal.iol.unh.edu (postal.iol.unh.edu. [2606:4100:3880:1234::84]) by smtp-relay.gmail.com with ESMTPS id e9e14a558f8ab-3d00a529da0sm10076395ab.41.2025.02.05.14.01.02 (version=TLS1_2 cipher=ECDHE-ECDSA-AES128-GCM-SHA256 bits=128/128); Wed, 05 Feb 2025 14:01:02 -0800 (PST) X-Relaying-Domain: iol.unh.edu Date: Wed, 05 Feb 2025 14:01:02 -0800 (PST) Message-ID: <67a3df9e.050a0220.262ba7.e7f7SMTPIN_ADDED_MISSING@mx.google.com> Received: from [172.21.0.9] (unknown [172.18.0.240]) by postal.iol.unh.edu (Postfix) with ESMTP id 5E0436052471; Wed, 5 Feb 2025 17:01:02 -0500 (EST) Subject: |SUCCESS| pw150992-151002 [PATCH] [11/11] net/bnxt: address coverity From: dpdklab@iol.unh.edu To: Test Report Cc: dpdk-test-reports@iol.unh.edu In-Reply-To: <20250205172004.50395-12-ajit.khaparde@broadcom.com> References: <20250205172004.50395-12-ajit.khaparde@broadcom.com> Content-Type: text/plain X-BeenThere: test-report@dpdk.org X-Mailman-Version: 2.1.29 Precedence: list List-Id: automatic DPDK test reports List-Unsubscribe: , List-Archive: List-Post: List-Help: List-Subscribe: , Errors-To: test-report-bounces@dpdk.org Test-Label: iol-compile-amd64-testing Test-Status: SUCCESS http://dpdk.org/patch/151002 _Testing PASS_ Submitter: Ajit Khaparde Date: Wednesday, February 05 2025 17:20:04 DPDK git baseline: Repo:dpdk Branch: master CommitID:32c18e7364e30a8e43cc7cc6709a7ce606fa285e 150992-151002 --> testing pass Upstream job id: Generic-VM-DPDK-Compile-Meson#33062 Test environment and result as below: +---------------------+--------------------+-------------------+ | Environment | dpdk_meson_compile | dpdk_msvc_compile | +=====================+====================+===================+ | FreeBSD 13.4 | PASS | SKIPPED | +---------------------+--------------------+-------------------+ | FreeBSD 14.2 | PASS | SKIPPED | +---------------------+--------------------+-------------------+ | Windows Server 2022 | SKIPPED | PASS | +---------------------+--------------------+-------------------+ FreeBSD 13.4 Kernel: 13.4-RELEASE-p1 Compiler: clang 18.1.6 FreeBSD 14.2 Kernel: 14.2-RELEASE Compiler: clang 18.1.6 Windows Server 2022 Kernel: 10.0.20348.2031 Compiler: clang 15.0.7, gcc 14.1.0 (MinGW), and MSVC VS 19.39.33521 To view detailed results, visit: https://lab.dpdk.org/results/dashboard/patchsets/32502/ UNH-IOL DPDK Community Lab To manage your email subscriptions, visit: https://lab.dpdk.org/results/dashboard/preferences/subscriptions/