From mboxrd@z Thu Jan 1 00:00:00 1970 Return-Path: Received: from mails.dpdk.org (mails.dpdk.org [217.70.189.124]) by inbox.dpdk.org (Postfix) with ESMTP id 8914C461A2 for ; Wed, 5 Feb 2025 23:21:43 +0100 (CET) Received: from mails.dpdk.org (localhost [127.0.0.1]) by mails.dpdk.org (Postfix) with ESMTP id 81F2A402E7; Wed, 5 Feb 2025 23:21:43 +0100 (CET) Received: from mail-pj1-f99.google.com (mail-pj1-f99.google.com [209.85.216.99]) by mails.dpdk.org (Postfix) with ESMTP id CEED6402B3 for ; Wed, 5 Feb 2025 23:21:41 +0100 (CET) Received: by mail-pj1-f99.google.com with SMTP id 98e67ed59e1d1-2f9c69aefdbso368765a91.2 for ; Wed, 05 Feb 2025 14:21:41 -0800 (PST) DKIM-Signature: v=1; a=rsa-sha256; c=relaxed/relaxed; d=iol.unh.edu; s=unh-iol; t=1738794101; x=1739398901; darn=dpdk.org; h=references:in-reply-to:cc:to:from:subject:message-id:date:from:to :cc:subject:date:message-id:reply-to; bh=3Xj6vWgwzMupQ7Fo0q0ZuYYl0XNq8bMeT5nQYgImo3E=; b=I7ITvPgXEu5XtxE7SsYAmAbP64bmBwrNUlc+R0GP0Qet5hodIEpI+IlyKkty+Njs8O 2328uzdvimfrvi+V/GZjuP3QL7O9SvsLZETcC3huD/pZWBFzEaHnogy8u3YHIILxP+bY 3AtZjkkNvGARH4Pqe5MishUJQ2UzyBuh2B824= X-Google-DKIM-Signature: v=1; a=rsa-sha256; c=relaxed/relaxed; d=1e100.net; s=20230601; t=1738794101; x=1739398901; h=references:in-reply-to:cc:to:from:subject:message-id:date :x-gm-message-state:from:to:cc:subject:date:message-id:reply-to; bh=3Xj6vWgwzMupQ7Fo0q0ZuYYl0XNq8bMeT5nQYgImo3E=; b=tr5jekvcDCk9UFSxbe1WrCMLnWWLF5TX4ffWQNAvlrbAsYIVkDejxlXb4qi51KX8NQ z922Y4+pxxEblBhNsEdr3xEYdKziXXnaGjXUAFQYzwG4kxH4/DBW9MWd8kn6vZjy9dbs 6U6N1YMYIyVwC+lfdOL7tTJ8SrMZu3PK5QLvU7322jAoeb3uc/6iNHTRW0aF+X+ctF6E VgcQUpxh6WdspRRbF5lSaIV/BJ7X857Y1LE9yVRctl/yRAcZ2y2STYhY6cwuZcjEWRMi w63UgK/x83ztr+FeqhajGbL/Sa2mPjhwk9UpgTUAla0t1GNGxIrtCBC6wr1o41PRrlc1 okcg== X-Gm-Message-State: AOJu0Yw3u4NhHIGRDKk5FVWo4edtlv3rD1/Uus9mTqX4FINUfI7ZMHyT mzcG+QCz+voaxpOXArg7EF6TXAPMwK26VhN4YuR0l9fHGgU1Eh49SpgFEUN3yS/D0SMxGOs+Z6Y RHdnT46QoONlQkr4u9yM8beNac/QFYDR2Twozq9ut X-Gm-Gg: ASbGncuxEntaH/fAnSkyu25Rue+10lAnsfXbn5myD5hNvaXajcBNRTIYazWxTL5R5sW RTdaxVOCb/JKVq+HRvRbRtErvSVwGmoygpt/agkUBpT5Avc94igecfwMRyNMcO8IdV+6IiAXUJB PKwtonMW/+rYNqO/wybq04BLxMHq8KlwYsU0jzLDUUJ1WX1uRuWEOx7iMAghNrOtdWVzc8pbI5g MR+FbBIjW+n+NFA9rHgThK76auOCI4yk/Vej7W7ZNJGKMtGt1DuAb/LQEwwvDn1Or7THAvJMpZJ Fiyice+lxdBK4J2ZJQgZlLrsh83yWQ== X-Google-Smtp-Source: AGHT+IHp4zwiNEfV/myTeYUhTpFe0geCkbCc9WzOvbE5Il4X25kjCLQq9xfmhqgcf9hqS2phqy90e6jUDvg7 X-Received: by 2002:a17:90b:234a:b0:2ee:7870:8835 with SMTP id 98e67ed59e1d1-2f9e08555d2mr7750636a91.33.1738794100899; Wed, 05 Feb 2025 14:21:40 -0800 (PST) Received: from postal.iol.unh.edu (postal.iol.unh.edu. [132.177.123.84]) by smtp-relay.gmail.com with ESMTPS id 98e67ed59e1d1-2f9e1e2f01bsm198878a91.11.2025.02.05.14.21.40 (version=TLS1_2 cipher=ECDHE-ECDSA-AES128-GCM-SHA256 bits=128/128); Wed, 05 Feb 2025 14:21:40 -0800 (PST) X-Relaying-Domain: iol.unh.edu Date: Wed, 05 Feb 2025 14:21:40 -0800 (PST) Message-ID: <67a3e474.170a0220.130c03.8a90SMTPIN_ADDED_MISSING@mx.google.com> Received: from [172.21.0.5] (unknown [172.18.0.240]) by postal.iol.unh.edu (Postfix) with ESMTP id 031A66052471; Wed, 5 Feb 2025 17:21:40 -0500 (EST) Subject: |SUCCESS| pw150974-150991 [PATCH] [v3,19/19] common/cnxk: fix null p From: dpdklab@iol.unh.edu To: Test Report Cc: dpdk-test-reports@iol.unh.edu In-Reply-To: <20250205162448.161161-20-stephen@networkplumber.org> References: <20250205162448.161161-20-stephen@networkplumber.org> Content-Type: text/plain X-BeenThere: test-report@dpdk.org X-Mailman-Version: 2.1.29 Precedence: list List-Id: automatic DPDK test reports List-Unsubscribe: , List-Archive: List-Post: List-Help: List-Subscribe: , Errors-To: test-report-bounces@dpdk.org Test-Label: iol-compile-amd64-testing Test-Status: SUCCESS http://dpdk.org/patch/150991 _Testing PASS_ Submitter: Stephen Hemminger Date: Wednesday, February 05 2025 16:23:20 DPDK git baseline: Repo:dpdk Branch: master CommitID:32c18e7364e30a8e43cc7cc6709a7ce606fa285e 150974-150991 --> testing pass Upstream job id: Windows-Compile-DPDK-VS#4823 Test environment and result as below: +---------------------+--------------------+-------------------+ | Environment | dpdk_meson_compile | dpdk_msvc_compile | +=====================+====================+===================+ | FreeBSD 13.4 | PASS | SKIPPED | +---------------------+--------------------+-------------------+ | FreeBSD 14.2 | PASS | SKIPPED | +---------------------+--------------------+-------------------+ | Windows Server 2022 | SKIPPED | PASS | +---------------------+--------------------+-------------------+ FreeBSD 13.4 Kernel: 13.4-RELEASE-p1 Compiler: clang 18.1.6 FreeBSD 14.2 Kernel: 14.2-RELEASE Compiler: clang 18.1.6 Windows Server 2022 Kernel: 10.0.20348.2031 Compiler: clang 15.0.7, gcc 14.1.0 (MinGW), and MSVC VS 19.39.33521 To view detailed results, visit: https://lab.dpdk.org/results/dashboard/patchsets/32501/ UNH-IOL DPDK Community Lab To manage your email subscriptions, visit: https://lab.dpdk.org/results/dashboard/preferences/subscriptions/