From mboxrd@z Thu Jan 1 00:00:00 1970 Return-Path: Received: from mails.dpdk.org (mails.dpdk.org [217.70.189.124]) by inbox.dpdk.org (Postfix) with ESMTP id 1D128461A2 for ; Wed, 5 Feb 2025 23:25:56 +0100 (CET) Received: from mails.dpdk.org (localhost [127.0.0.1]) by mails.dpdk.org (Postfix) with ESMTP id F0F0D402E7; Wed, 5 Feb 2025 23:25:55 +0100 (CET) Received: from mail-qv1-f100.google.com (mail-qv1-f100.google.com [209.85.219.100]) by mails.dpdk.org (Postfix) with ESMTP id 02606402B3 for ; Wed, 5 Feb 2025 23:25:54 +0100 (CET) Received: by mail-qv1-f100.google.com with SMTP id 6a1803df08f44-6dd43aa1558so2812336d6.0 for ; Wed, 05 Feb 2025 14:25:54 -0800 (PST) DKIM-Signature: v=1; a=rsa-sha256; c=relaxed/relaxed; d=iol.unh.edu; s=unh-iol; t=1738794354; x=1739399154; darn=dpdk.org; h=cc:to:from:subject:message-id:date:from:to:cc:subject:date :message-id:reply-to; bh=UPLv8qqLLDr/4iUu0/RJhctyB66Fhms1NKBmb5Yq1d0=; b=TiVksOmPvQzlgMf25xrQCNRWLj/aL6k2N0nu1pjAu2Ndumvrr5eJAuNuFLPxUJ5M0R AHG07WHDteGmughOmRtet9/sdmyfWoddlGQ/eZzWc8Kc9BJ30gkY3UNwf+mYCVG0402Z WCl+vbHqTcUSdbkabAzE2QVEYVFBmravj7p70= X-Google-DKIM-Signature: v=1; a=rsa-sha256; c=relaxed/relaxed; d=1e100.net; s=20230601; t=1738794354; x=1739399154; h=cc:to:from:subject:message-id:date:x-gm-message-state:from:to:cc :subject:date:message-id:reply-to; bh=UPLv8qqLLDr/4iUu0/RJhctyB66Fhms1NKBmb5Yq1d0=; b=EuI8f5raI6FCTI9mm8tDaeCeBRQtKtxFOp/68DW5PVllxnwpzfnSBeqaYwjt2JMt2w 09c+L+MjgaY6nGqdjWfGd7bDK4sIyzzQDaHnfSQtMpUs8xu4b4jlakKgGDjxjf6xwBgI kCn7SimwnXkYeuR3PPCaMF/zug8HuhiSBbdkPNmb4k/iPWdnfdXPEl6IAyd/O4pLYKo5 mZx8J6IQUR9MDhC37edEw7UdBvshfNc2TUtz4vn0xzwUAnYU5GWrenz0FjXPDwUwVauU xSC6k7H49FbQo2x7VzGycw9iu5LJWxrg2sm6oLVKktAhOXK018TeEnorkVzlYePIziZz DlDg== X-Gm-Message-State: AOJu0YyT9Oe2rCFCW0Mhi38KdVX90J4XZzAwH1Gi8t8UD94MLvU3LSBF IXpzq8YDvGLQzAXamqkJZaZG4+UEIs6ElEqxBKgFEWYr5eJz3vGZHdbSU5k6zajaY5b2ODYQ1Id mys8LPFLWeEP9ES5f7fMI0XSnmaNcXo73X/qEB94D5MjC46+OQ8n0PCb7 X-Gm-Gg: ASbGncs+QaPi0WQADtAkBqhKhpLM0tU3Cs0Nen07ed7WVP96sx2muZaOSEMatCO639V X0sgsZhPw929OwGzJ0nRD9lwjcsX1MRDe6W6SGxoX6aV9DSbwHpg2G2eOYBOff63V5iawxKRCPe Xph7gNN0e+JDhCh8fWKDC/v84tHC4XMTyMGPZ8R56rzcU/AMbulpKE5OyG0kX6/HRXob6JhxpFb GstweS3+Kr6v7LRfFgtG7GfxPOlIPMOL++ZHxU7G45nHaKhmrlV8bWcQU9DlC7z6IZOk/j2veDG 0+CprI1sHpmjQ5MgnuMmpx9C32TczqinaCtfG6eguA== X-Google-Smtp-Source: AGHT+IGtnrOG6EDqd5e+OG+XYHV2dinkLF+dT9utqurg4GMAxG5E5o6lMDVjTyD9Rq4OBTbxo+su9Sk63sIM X-Received: by 2002:a05:6214:19ef:b0:6e4:2c59:57d with SMTP id 6a1803df08f44-6e42fb77a27mr87945846d6.16.1738794354387; Wed, 05 Feb 2025 14:25:54 -0800 (PST) Received: from postal.iol.unh.edu (postal.iol.unh.edu. [2606:4100:3880:1234::84]) by smtp-relay.gmail.com with ESMTPS id 6a1803df08f44-6e254965f56sm10799056d6.67.2025.02.05.14.25.54 (version=TLS1_2 cipher=ECDHE-ECDSA-AES128-GCM-SHA256 bits=128/128); Wed, 05 Feb 2025 14:25:54 -0800 (PST) X-Relaying-Domain: iol.unh.edu Date: Wed, 05 Feb 2025 14:25:54 -0800 (PST) Message-ID: <67a3e572.050a0220.39cb9b.3817SMTPIN_ADDED_MISSING@mx.google.com> Received: from [172.21.0.6] (unknown [172.18.0.240]) by postal.iol.unh.edu (Postfix) with ESMTP id 140416052471; Wed, 5 Feb 2025 17:25:54 -0500 (EST) Subject: |SUCCESS| [GIT MASTER] 595535be66b103f7ce3ba61939b8013032987404 From: dpdklab@iol.unh.edu To: Test Report Cc: dpdk-test-reports@iol.unh.edu, Stephen Hemminger Content-Type: text/plain X-BeenThere: test-report@dpdk.org X-Mailman-Version: 2.1.29 Precedence: list List-Id: automatic DPDK test reports List-Unsubscribe: , List-Archive: List-Post: List-Help: List-Subscribe: , Errors-To: test-report-bounces@dpdk.org _Testing PASS_ Branch: dpdk-next-net 595535be66b103f7ce3ba61939b8013032987404 --> testing pass Upstream job id: Generic-Unit-Test-DPDK#311787 Test environment and result as below: +-----------------------------+----------------+------------------------------+---------------------------+--------------+ | Environment | dpdk_unit_test | cryptodev_sw_snow3g_autotest | cryptodev_sw_zuc_autotest | lpm_autotest | +=============================+================+==============================+===========================+==============+ | CentOS Stream 9 (ARM) | PASS | SKIPPED | SKIPPED | SKIPPED | +-----------------------------+----------------+------------------------------+---------------------------+--------------+ | Debian 11 (Buster) (ARM) | PASS | SKIPPED | SKIPPED | SKIPPED | +-----------------------------+----------------+------------------------------+---------------------------+--------------+ | Debian 12 (arm) | PASS | PASS | PASS | SKIPPED | +-----------------------------+----------------+------------------------------+---------------------------+--------------+ | Fedora 40 (ARM) | PASS | SKIPPED | SKIPPED | SKIPPED | +-----------------------------+----------------+------------------------------+---------------------------+--------------+ | Fedora 40 (ARM Clang) | PASS | SKIPPED | SKIPPED | SKIPPED | +-----------------------------+----------------+------------------------------+---------------------------+--------------+ | Fedora 41 (ARM) | PASS | SKIPPED | SKIPPED | SKIPPED | +-----------------------------+----------------+------------------------------+---------------------------+--------------+ | Fedora 41 (ARM Clang) | PASS | SKIPPED | SKIPPED | SKIPPED | +-----------------------------+----------------+------------------------------+---------------------------+--------------+ | Ubuntu 20.04 (ARM) | PASS | SKIPPED | SKIPPED | SKIPPED | +-----------------------------+----------------+------------------------------+---------------------------+--------------+ | RHEL9 (ARM) | PASS | SKIPPED | SKIPPED | SKIPPED | +-----------------------------+----------------+------------------------------+---------------------------+--------------+ | Ubuntu 22.04 (ARM) | PASS | SKIPPED | SKIPPED | SKIPPED | +-----------------------------+----------------+------------------------------+---------------------------+--------------+ | Ubuntu 24.04 (ARM) | PASS | SKIPPED | SKIPPED | SKIPPED | +-----------------------------+----------------+------------------------------+---------------------------+--------------+ | 32-bit Ubuntu 22.04.4 (ARM) | PASS | SKIPPED | SKIPPED | SKIPPED | +-----------------------------+----------------+------------------------------+---------------------------+--------------+ | Ubuntu 20.04 ARM SVE | SKIPPED | SKIPPED | SKIPPED | PASS | +-----------------------------+----------------+------------------------------+---------------------------+--------------+ CentOS Stream 9 (ARM) Kernel: Depends on container host Compiler: gcc 11.5.0 20240719 (Red Hat 11.5.0-2) Debian 11 (Buster) (ARM) Kernel: Depends on container host Compiler: gcc (Debian 10.2.1-6) 10.2.1 20210110 Debian 12 (arm) Kernel: Depends on container host Compiler: gcc (Debian 12.2.0-14) 12.2.0 Fedora 40 (ARM) Kernel: Depends on container host Compiler: gcc 14.2.1 20240912 (Red Hat 14.2.1-3) Fedora 40 (ARM Clang) Kernel: Depends on container host Compiler: clang 18.1.8 (Fedora 18.1.8-1.fc40) Fedora 41 (ARM) Kernel: Depends on container host Compiler: gcc 14.2.1 20240912 (Red Hat 14.2.1-3) Fedora 41 (ARM Clang) Kernel: Depends on container host Compiler: clang 19.1.5 (Fedora 19.1.5-1.fc41) Ubuntu 20.04 (ARM) Kernel: Depends on container host Compiler: gcc (Ubuntu 9.4.0-1ubuntu1~20.04.2) 9.4.0 RHEL9 (ARM) Kernel: Depends on container host Compiler: gcc 11.5.0 20240719 (Red Hat 11.5.0-2) Ubuntu 22.04 (ARM) Kernel: Depends on container host Compiler: gcc (Ubuntu 11.4.0-1ubuntu1~22.04) 11.4.0 Ubuntu 24.04 (ARM) Kernel: Depends on container host Compiler: gcc (Ubuntu 13.3.0-6ubuntu2~24.04) 13.3.0 32-bit Ubuntu 22.04.4 (ARM) Kernel: 5.15.83+ aarch64 Compiler: gcc (Ubuntu 11.4.0-1ubuntu1~22.04) 11.4.0 Ubuntu 20.04 ARM SVE Kernel: Depends on container host Compiler: gcc (Ubuntu 10.5.0-1ubuntu1~20.04) 10.5.0 To view detailed results, visit: https://lab.dpdk.org/results/dashboard/tarballs/32449/ UNH-IOL DPDK Community Lab To manage your email subscriptions, visit: https://lab.dpdk.org/results/dashboard/preferences/subscriptions/