From mboxrd@z Thu Jan 1 00:00:00 1970 Return-Path: Received: from mails.dpdk.org (mails.dpdk.org [217.70.189.124]) by inbox.dpdk.org (Postfix) with ESMTP id A6CFB461A2 for ; Wed, 5 Feb 2025 23:32:23 +0100 (CET) Received: from mails.dpdk.org (localhost [127.0.0.1]) by mails.dpdk.org (Postfix) with ESMTP id A2024402D0; Wed, 5 Feb 2025 23:32:23 +0100 (CET) Received: from mail-yb1-f226.google.com (mail-yb1-f226.google.com [209.85.219.226]) by mails.dpdk.org (Postfix) with ESMTP id C6D52402B3 for ; Wed, 5 Feb 2025 23:32:21 +0100 (CET) Received: by mail-yb1-f226.google.com with SMTP id 3f1490d57ef6-e5ad75ca787so256002276.0 for ; Wed, 05 Feb 2025 14:32:21 -0800 (PST) DKIM-Signature: v=1; a=rsa-sha256; c=relaxed/relaxed; d=iol.unh.edu; s=unh-iol; t=1738794741; x=1739399541; darn=dpdk.org; h=references:in-reply-to:cc:to:from:subject:message-id:date:from:to :cc:subject:date:message-id:reply-to; bh=481fC7BVGcPkUCvEeQywO6sazuNj/lH8CoKvmAjTpL0=; b=X6btuPM0pxg45NVAflr081KquYi9UVPL0HkUS3bAN2JyOCDFjkreI4fOAOOQHwU4lq /HZn3rB7b2LU3jhJE+50cRi/mxOIflvEe2tMATu9ST0FAemdwEtQglO1TMJwtUjwSO+G 7quBtAUpsj9jYUOdGE1OmBz0jFGe8nlqq9Qgs= X-Google-DKIM-Signature: v=1; a=rsa-sha256; c=relaxed/relaxed; d=1e100.net; s=20230601; t=1738794741; x=1739399541; h=references:in-reply-to:cc:to:from:subject:message-id:date :x-gm-message-state:from:to:cc:subject:date:message-id:reply-to; bh=481fC7BVGcPkUCvEeQywO6sazuNj/lH8CoKvmAjTpL0=; b=WSHS4VI22UcocAh3JAlFsm3+AByKf98wm9cOZMlCbK1fuU8u7iXSTNQSNb6KVjLK1h +qXMGDNAB5xvliMx60Tq4FNv2KGiuKNZZPm3250Bmk9Hep98GAvl9ErK523p7tKxiPRd KC/nWd6/y3C2FLcHTU1SbSZpjq3Wt30WQxkGJqRHno5ypGjC9lmG0x7duR8XNvBvhODb YxWeN703CK5FNNkPKcRv555OQzMGdKJLIGCOZ9z3V3bEyJ9qp1gnUGLOhP54X8J8FLFI l04wHj8uhbTjzYczkj2qnj5OTWrqNaEvvP5eL08b8Fj51uOoP+8/emL69BgoiPuipcn7 N+TA== X-Gm-Message-State: AOJu0YydBHA1niKDDdP/+7LM6QGMu3uvbbWQYhk4tZWgaz0yIzCcu9uG nDY5Bq72V99FBHFc7W8YiX3N1StvjQr+OFuvfp46gA4ZRPMwjNrj6aAdeg0JBLSOW745sxtvD/H E4ISJWHzb4x6xKpCR5S5kD9Pl3P53tPDqSGUQdzYT X-Gm-Gg: ASbGncsHMrL/950HFogovIA+CFqh6S4ytSbp9cj8J6Kzkp4SvZj3c58V4OyRBbTp5oa K/12DSH9dUJP5eMMTkhrTzWOEbQMzVeK7wyxu0jTRcYNJem2fonjYRIwX6oZ4ZU9Xi8IatLF5Ix T9vVEWIBl2ltxBj7vcTqMSYE7L0L3kG6ZZxbxE/ybTVF13tNKNdylRyEk1titlwtjiKZluC0QAc UI6Jk6GPnq0MtsmU+uCGyQdnUovblAiuLaLfP/IHWrmz97HWLkOtRBeHBDHKekXfg/e/cvkD8LQ gC2kxD6SqRkw5QCWKhqyVI+L2st8Zw== X-Google-Smtp-Source: AGHT+IGopogBHN4A9gGRPVXSyAzFjJa8b+7rOeMpn0i1BDiL8CbHAgdkkehm8MsihD95TcZBfcCjemArsKvp X-Received: by 2002:a05:6902:2082:b0:e38:9227:befa with SMTP id 3f1490d57ef6-e5b35231150mr1241091276.1.1738794741163; Wed, 05 Feb 2025 14:32:21 -0800 (PST) Received: from postal.iol.unh.edu (postal.iol.unh.edu. [132.177.123.84]) by smtp-relay.gmail.com with ESMTPS id 3f1490d57ef6-e5acb284c1fsm884867276.8.2025.02.05.14.32.21 (version=TLS1_2 cipher=ECDHE-ECDSA-AES128-GCM-SHA256 bits=128/128); Wed, 05 Feb 2025 14:32:21 -0800 (PST) X-Relaying-Domain: iol.unh.edu Date: Wed, 05 Feb 2025 14:32:21 -0800 (PST) Message-ID: <67a3e6f5.250a0220.35ec84.a739SMTPIN_ADDED_MISSING@mx.google.com> Received: from [172.21.0.6] (unknown [172.18.0.240]) by postal.iol.unh.edu (Postfix) with ESMTP id C261E6052471; Wed, 5 Feb 2025 17:32:20 -0500 (EST) Subject: |SUCCESS| pw150992-151002 [PATCH] [11/11] net/bnxt: address coverity From: dpdklab@iol.unh.edu To: Test Report Cc: dpdk-test-reports@iol.unh.edu In-Reply-To: <20250205172004.50395-12-ajit.khaparde@broadcom.com> References: <20250205172004.50395-12-ajit.khaparde@broadcom.com> Content-Type: text/plain X-BeenThere: test-report@dpdk.org X-Mailman-Version: 2.1.29 Precedence: list List-Id: automatic DPDK test reports List-Unsubscribe: , List-Archive: List-Post: List-Help: List-Subscribe: , Errors-To: test-report-bounces@dpdk.org Test-Label: iol-abi-testing Test-Status: SUCCESS http://dpdk.org/patch/151002 _Testing PASS_ Submitter: Ajit Khaparde Date: Wednesday, February 05 2025 17:20:04 DPDK git baseline: Repo:dpdk Branch: master CommitID:32c18e7364e30a8e43cc7cc6709a7ce606fa285e 150992-151002 --> testing pass Upstream job id: Generic-DPDK-Compile-ABI#114910 Test environment and result as below: +-------------------+----------+ | Environment | abi_test | +===================+==========+ | CentOS Stream 9 | PASS | +-------------------+----------+ | Fedora 41 (Clang) | PASS | +-------------------+----------+ | Debian 12 | PASS | +-------------------+----------+ | Debian Bullseye | PASS | +-------------------+----------+ | openSUSE Leap 15 | PASS | +-------------------+----------+ | Fedora 40 (Clang) | PASS | +-------------------+----------+ | Fedora 40 | PASS | +-------------------+----------+ | Fedora 41 | PASS | +-------------------+----------+ | RHEL9 | PASS | +-------------------+----------+ | RHEL8 | PASS | +-------------------+----------+ | Ubuntu 22.04 | PASS | +-------------------+----------+ | Ubuntu 24.04 | PASS | +-------------------+----------+ CentOS Stream 9 Kernel: Depends on container host Compiler: gcc 11.5.0 20240719 (Red Hat 11.5.0-2) Fedora 41 (Clang) Kernel: Depends on container host Compiler: clang 19.1.5 (Fedora 19.1.5-1.fc41) Debian 12 Kernel: Depends on container host Compiler: gcc (Debian 12.2.0-14) 12.2.0 Debian Bullseye Kernel: Depends on container host Compiler: gcc (Debian 10.2.1-6) 10.2.1 20210110 openSUSE Leap 15 Kernel: Depends on container host Compiler: gcc (SUSE Linux) 7.5.0 Fedora 40 (Clang) Kernel: Depends on container host Compiler: clang 18.1.8 (Fedora 18.1.8-1.fc40) Fedora 40 Kernel: Depends on container host Compiler: gcc 14.2.1 20240912 (Red Hat 14.2.1-3) Fedora 41 Kernel: Depends on container host Compiler: gcc 14.2.1 20240912 (Red Hat 14.2.1-3) RHEL9 Kernel: Depends on container host Compiler: gcc 11.5.0 20240719 (Red Hat 11.5.0-2) RHEL8 Kernel: Depends on container host Compiler: gcc 8.5.0 20210514 (Red Hat 8.5.0-22) Ubuntu 22.04 Kernel: Depends on container host Compiler: gcc (Ubuntu 11.4.0-1ubuntu1~22.04) 11.4.0 Ubuntu 24.04 Kernel: Depends on container host Compiler: gcc (Ubuntu 13.3.0-6ubuntu2~24.04) 13.3.0 To view detailed results, visit: https://lab.dpdk.org/results/dashboard/patchsets/32502/ UNH-IOL DPDK Community Lab To manage your email subscriptions, visit: https://lab.dpdk.org/results/dashboard/preferences/subscriptions/