From mboxrd@z Thu Jan 1 00:00:00 1970 Return-Path: Received: from mails.dpdk.org (mails.dpdk.org [217.70.189.124]) by inbox.dpdk.org (Postfix) with ESMTP id 3AA08461A2 for ; Wed, 5 Feb 2025 23:35:44 +0100 (CET) Received: from mails.dpdk.org (localhost [127.0.0.1]) by mails.dpdk.org (Postfix) with ESMTP id 186BA402D0; Wed, 5 Feb 2025 23:35:44 +0100 (CET) Received: from mail-pj1-f99.google.com (mail-pj1-f99.google.com [209.85.216.99]) by mails.dpdk.org (Postfix) with ESMTP id 74571402B3 for ; Wed, 5 Feb 2025 23:35:42 +0100 (CET) Received: by mail-pj1-f99.google.com with SMTP id 98e67ed59e1d1-2f9d9ee2ec2so310888a91.1 for ; Wed, 05 Feb 2025 14:35:42 -0800 (PST) DKIM-Signature: v=1; a=rsa-sha256; c=relaxed/relaxed; d=iol.unh.edu; s=unh-iol; t=1738794941; x=1739399741; darn=dpdk.org; h=references:in-reply-to:cc:to:from:subject:message-id:date:from:to :cc:subject:date:message-id:reply-to; bh=tVIdfj/e0QV/1SNfk7NGi32OVwxSGtK/r5bjWKPjA3I=; b=OdhTN5xB5vc3mzwLuLu4/+MonMU2Xb0IfpuEJAm/tPjLAJ61aT9JpLHWUSzT2QxWAF g359+LgKR0vMmSv9nnRBY1XpoNEgVAFyPeeD0t/8fdqMsaBOIW+FgjJSIf3IYfODks1L xEvuM2Y+DayKGZn+A8nN7F2iZKcy4wuXK10FQ= X-Google-DKIM-Signature: v=1; a=rsa-sha256; c=relaxed/relaxed; d=1e100.net; s=20230601; t=1738794941; x=1739399741; h=references:in-reply-to:cc:to:from:subject:message-id:date :x-gm-message-state:from:to:cc:subject:date:message-id:reply-to; bh=tVIdfj/e0QV/1SNfk7NGi32OVwxSGtK/r5bjWKPjA3I=; b=axu+bYdQoUap5aauDfpxeUBlNe103nSzHtL14Uk6MGHwrmUxugAXEijs8+9pm65ixP ck7TqULyfWw5FAFXKtvhbyhojuCvcerypnxoJqBm0bxnlM3AawPruHj4emDE2FeT8Hz4 DeBJzsov80UG+UBfqLgi57Zzj8+p/B7Q776GRAchL6PGEWwdo7pyl/Stkui5WOnjNrWk 2FlpBYm3GpWpktRNfjyiAvzV7HSNGly6EfXMhAqTFwlz3nLmrYld+JyXkF2xKh8IRGp1 qGr+J5D5A4eF0w2kA4N1iLL7uur87pr1TuQqT4cGe2rS2TwWsWXK4ZqbnmKKpkaZSIle /E7g== X-Gm-Message-State: AOJu0YwWVgPKzvnSx96x1XFcT6K3oTSW/mTT34nz3t7tJChJ3GqM5/5+ FhTmz+XLr4sityBSl8QCNOpV6JFGmamNbVtj0C5pt4KMSdg3liGKb2H84ncynOC+xjo+pPu3rp5 O/GtXubwIq8yBXiYovYsOG4me9Vei3VYKZGeUalVRl8/+275qstxqpQkK X-Gm-Gg: ASbGnctCGYm6CVcQk12rrB64y3+1F3c0X+OQEhFlpPXsazNqlu99SCpbZneVYzqwBD9 7EIEJ++TnCyteoKcWBk/oOLuPkFdFhgibVYadMFygIc6kmwoqNKis6cDTgoYBkWDDFcDf63WLjj tOel6SNVyEKqxtKeZQ6WBo44JEO9I/QvWX1vkIMD5AXpuEWLZ1xbV/nP3vkvd3cHo52uOCzipMa 8Jk/igazZHlplR4BWp+BqFcN7GU1cahSeTUzbUZzy9fxYr8oZ/GisVWeZzvwWYbmRDjswgR7uQM Lvr5/BBMJRO6Eb494N7bwd0BfVC/+TDVsDeSLmHw4g== X-Google-Smtp-Source: AGHT+IEQ7fuiSr3rJi5Afl4ipzap8vMDlOL2yNiqiLlV6VcJy+RhQu9F3Rq9+Uoe2NcUTAwZqWbNM+hZA+w9 X-Received: by 2002:a17:90b:3696:b0:2ee:aa28:79aa with SMTP id 98e67ed59e1d1-2f9e074d16amr6524270a91.6.1738794941422; Wed, 05 Feb 2025 14:35:41 -0800 (PST) Received: from postal.iol.unh.edu (postal.iol.unh.edu. [2606:4100:3880:1234::84]) by smtp-relay.gmail.com with ESMTPS id 98e67ed59e1d1-2f9e1e2f00dsm212690a91.12.2025.02.05.14.35.41 (version=TLS1_2 cipher=ECDHE-ECDSA-AES128-GCM-SHA256 bits=128/128); Wed, 05 Feb 2025 14:35:41 -0800 (PST) X-Relaying-Domain: iol.unh.edu Date: Wed, 05 Feb 2025 14:35:41 -0800 (PST) Message-ID: <67a3e7bd.170a0220.bc96f.9a8cSMTPIN_ADDED_MISSING@mx.google.com> Received: from [172.21.0.7] (unknown [172.18.0.240]) by postal.iol.unh.edu (Postfix) with ESMTP id CEEC46052471; Wed, 5 Feb 2025 17:35:40 -0500 (EST) Subject: |SUCCESS| pw150992-151002 [PATCH] [11/11] net/bnxt: address coverity From: dpdklab@iol.unh.edu To: Test Report Cc: dpdk-test-reports@iol.unh.edu In-Reply-To: <20250205172004.50395-12-ajit.khaparde@broadcom.com> References: <20250205172004.50395-12-ajit.khaparde@broadcom.com> Content-Type: text/plain X-BeenThere: test-report@dpdk.org X-Mailman-Version: 2.1.29 Precedence: list List-Id: automatic DPDK test reports List-Unsubscribe: , List-Archive: List-Post: List-Help: List-Subscribe: , Errors-To: test-report-bounces@dpdk.org Test-Label: iol-compile-amd64-testing Test-Status: SUCCESS http://dpdk.org/patch/151002 _Testing PASS_ Submitter: Ajit Khaparde Date: Wednesday, February 05 2025 17:20:04 DPDK git baseline: Repo:dpdk Branch: master CommitID:32c18e7364e30a8e43cc7cc6709a7ce606fa285e 150992-151002 --> testing pass Upstream job id: Windows-Compile-DPDK-Native#26451 Test environment and result as below: +---------------------+--------------------+-------------------+----------------------+ | Environment | dpdk_meson_compile | dpdk_msvc_compile | dpdk_mingw64_compile | +=====================+====================+===================+======================+ | FreeBSD 13.4 | PASS | SKIPPED | SKIPPED | +---------------------+--------------------+-------------------+----------------------+ | FreeBSD 14.2 | PASS | SKIPPED | SKIPPED | +---------------------+--------------------+-------------------+----------------------+ | Windows Server 2022 | SKIPPED | PASS | PASS | +---------------------+--------------------+-------------------+----------------------+ FreeBSD 13.4 Kernel: 13.4-RELEASE-p1 Compiler: clang 18.1.6 FreeBSD 14.2 Kernel: 14.2-RELEASE Compiler: clang 18.1.6 Windows Server 2022 Kernel: 10.0.20348.2031 Compiler: clang 15.0.7, gcc 14.1.0 (MinGW), and MSVC VS 19.39.33521 To view detailed results, visit: https://lab.dpdk.org/results/dashboard/patchsets/32502/ UNH-IOL DPDK Community Lab To manage your email subscriptions, visit: https://lab.dpdk.org/results/dashboard/preferences/subscriptions/