From mboxrd@z Thu Jan 1 00:00:00 1970 Return-Path: Received: from mails.dpdk.org (mails.dpdk.org [217.70.189.124]) by inbox.dpdk.org (Postfix) with ESMTP id 4A4EE461A2 for ; Wed, 5 Feb 2025 23:37:36 +0100 (CET) Received: from mails.dpdk.org (localhost [127.0.0.1]) by mails.dpdk.org (Postfix) with ESMTP id 56A3F402D0; Wed, 5 Feb 2025 23:37:35 +0100 (CET) Received: from mail-vs1-f98.google.com (mail-vs1-f98.google.com [209.85.217.98]) by mails.dpdk.org (Postfix) with ESMTP id 9D7C5402B3 for ; Wed, 5 Feb 2025 23:37:34 +0100 (CET) Received: by mail-vs1-f98.google.com with SMTP id ada2fe7eead31-4b9486a15a0so817197137.0 for ; Wed, 05 Feb 2025 14:37:34 -0800 (PST) DKIM-Signature: v=1; a=rsa-sha256; c=relaxed/relaxed; d=iol.unh.edu; s=unh-iol; t=1738795054; x=1739399854; darn=dpdk.org; h=cc:to:from:subject:message-id:date:from:to:cc:subject:date :message-id:reply-to; bh=2Fg+V5XRMdD+cetzoatgaeRPR0ZMwKKEJ0xGvBRXPbY=; b=hx6a/O/iklLLbs8rJJPyOwk697Ib/u3rTzr8cnZtiyZSComD3g6n8c7cVnJUlR/UrX h1D4+s/6rBbD8Jmr+6DCQUb2iLJhOLvWaPuEGm9dXDHH4iXTpCHj0wU6/vdOwiylHNz+ YnslopVc9yjQlOrentJIh3St2I2GVcOXJ0aSk= X-Google-DKIM-Signature: v=1; a=rsa-sha256; c=relaxed/relaxed; d=1e100.net; s=20230601; t=1738795054; x=1739399854; h=cc:to:from:subject:message-id:date:x-gm-message-state:from:to:cc :subject:date:message-id:reply-to; bh=2Fg+V5XRMdD+cetzoatgaeRPR0ZMwKKEJ0xGvBRXPbY=; b=swT3foIv8KofhQ8xCK2s44PUOmw/At5KRalGiCU6z21mUJ/4yuZ8MFZoqj3u7VfCCW wTjzXorvG42FvCB+VuRjJK0eChZEh2nMwqZs4H7GxwnvSuEhxOOk1Ex1FMzvG2gLNYdd +FAjJTiW/QirUwYNq5cyv1m2/PqMMQhl+4rRJ1iZ1EPkCIUK+BaOTxbex89Fnq/eOu8Y rz4iwrgQpU11id7a8ED7twKGBswKqzmLDl4uOWK8krWYw82wVEWe4uzbmlBbh3wIKtsL tWRk1vLoaRgEcKD0IoVcZ4f8NTQ0FnPtLlTUeGM5N74eoIPkomdyO2wtDM55SQDm4nxi 8Z8A== X-Gm-Message-State: AOJu0YzNIgecncTdNCG48m+hrE56U1VBOe0wUGwdMOFBK4VMLMCAKFBM oQPUmTq9TotkQe1tC9JPr2Pi/GMEZj9S6V9yVPQPX6T/YhN6nx8JH7voLlbYeTrhcYd5Ehmv3rc 2EQORHv9OtkRVT9hVTuRx5Q5jdjnC+IagbzQuUL5v X-Gm-Gg: ASbGncvqhjwUmkzXLSHkRtp4k5FcyrtqpXrtQo4r3zqtKy8tqOyWipLfkr5Vsiot+Sr S56KU80MupFSkfFSvf5C+j3K7Z7frGhBPwMg02vGtMCkeDzfhziznd8D62ecOSkDd/ch7fbWN2e nUaauiS0bEC5dK0zqPF6mA/jLzTtg4dh91rnn4mgdb57gDSTp8DOdl1a04UtCEH2gqiGURWYguy pgn33GAVMHu//iu+CCrmygeD1a0JCjokdIZwjuV1hf17YoVI141m9ewR6x2gPF6mAB/Q9Ja4k38 r0bnI3S753E/QyK6lQFyNQHtIeIDJw== X-Google-Smtp-Source: AGHT+IFbs5uqo71EunMtP3G33jXHJKy2eb11bKh7IKokifaCUvw+Bj9U/LcfcwfsxBWIusy57Jp3WfW4k+d8 X-Received: by 2002:a67:f847:0:b0:4b6:8bd1:6b5d with SMTP id ada2fe7eead31-4ba71f5968bmr666231137.1.1738795053923; Wed, 05 Feb 2025 14:37:33 -0800 (PST) Received: from postal.iol.unh.edu (postal.iol.unh.edu. [132.177.123.84]) by smtp-relay.gmail.com with ESMTPS id a1e0cc1a2514c-8669417fb53sm208564241.16.2025.02.05.14.37.33 (version=TLS1_2 cipher=ECDHE-ECDSA-AES128-GCM-SHA256 bits=128/128); Wed, 05 Feb 2025 14:37:33 -0800 (PST) X-Relaying-Domain: iol.unh.edu Date: Wed, 05 Feb 2025 14:37:33 -0800 (PST) Message-ID: <67a3e82d.b00a0220.3594e0.9dc8SMTPIN_ADDED_MISSING@mx.google.com> Received: from [172.21.0.5] (unknown [172.18.0.240]) by postal.iol.unh.edu (Postfix) with ESMTP id 8F4536052471; Wed, 5 Feb 2025 17:37:33 -0500 (EST) Subject: |SUCCESS| [GIT MASTER] 595535be66b103f7ce3ba61939b8013032987404 From: dpdklab@iol.unh.edu To: Test Report Cc: dpdk-test-reports@iol.unh.edu, Stephen Hemminger Content-Type: text/plain X-BeenThere: test-report@dpdk.org X-Mailman-Version: 2.1.29 Precedence: list List-Id: automatic DPDK test reports List-Unsubscribe: , List-Archive: List-Post: List-Help: List-Subscribe: , Errors-To: test-report-bounces@dpdk.org _Testing PASS_ Branch: dpdk-next-net 595535be66b103f7ce3ba61939b8013032987404 --> testing pass Upstream job id: Generic-DPDK-Compile-Meson#357995 Test environment and result as below: +----------------------------------------+--------------------+ | Environment | dpdk_meson_compile | +========================================+====================+ | Ubuntu 20.04 aarch32 GCC Cross Compile | PASS | +----------------------------------------+--------------------+ | Fedora 41 (ARM Clang) | PASS | +----------------------------------------+--------------------+ | Ubuntu 20.04 ARM Clang Cross Compile | PASS | +----------------------------------------+--------------------+ | Ubuntu 24.04 (ARM) | PASS | +----------------------------------------+--------------------+ | Ubuntu 20.04 ARM SVE | PASS | +----------------------------------------+--------------------+ | Fedora 40 (ARM Clang) | PASS | +----------------------------------------+--------------------+ | Fedora 40 (ARM) | PASS | +----------------------------------------+--------------------+ | RHEL9 (ARM) | PASS | +----------------------------------------+--------------------+ | Ubuntu 20.04 ARM GCC Cross Compile | PASS | +----------------------------------------+--------------------+ | Ubuntu 20.04 (ARM) | PASS | +----------------------------------------+--------------------+ | Ubuntu 22.04 (ARM) | PASS | +----------------------------------------+--------------------+ | Debian 12 (arm) | PASS | +----------------------------------------+--------------------+ | Fedora 41 (ARM) | PASS | +----------------------------------------+--------------------+ Ubuntu 20.04 aarch32 GCC Cross Compile Kernel: Depends on container host Compiler: gcc 9.4.0 Fedora 41 (ARM Clang) Kernel: Depends on container host Compiler: clang 19.1.5 (Fedora 19.1.5-1.fc41) Ubuntu 20.04 ARM Clang Cross Compile Kernel: Depends on container host Compiler: clang 10.0.0-4ubuntu1 Ubuntu 24.04 (ARM) Kernel: Depends on container host Compiler: gcc (Ubuntu 13.3.0-6ubuntu2~24.04) 13.3.0 Ubuntu 20.04 ARM SVE Kernel: Depends on container host Compiler: gcc (Ubuntu 10.5.0-1ubuntu1~20.04) 10.5.0 Fedora 40 (ARM Clang) Kernel: Depends on container host Compiler: clang 18.1.8 (Fedora 18.1.8-1.fc40) Fedora 40 (ARM) Kernel: Depends on container host Compiler: gcc 14.2.1 20240912 (Red Hat 14.2.1-3) RHEL9 (ARM) Kernel: Depends on container host Compiler: gcc 11.5.0 20240719 (Red Hat 11.5.0-2) Ubuntu 20.04 ARM GCC Cross Compile Kernel: Depends on container host Compiler: aarch64-linux-gnu-gcc (Ubuntu 9.4.0-1ubuntu1~20.04.2) 9.4.0 Ubuntu 20.04 (ARM) Kernel: Depends on container host Compiler: gcc (Ubuntu 9.4.0-1ubuntu1~20.04.2) 9.4.0 Ubuntu 22.04 (ARM) Kernel: Depends on container host Compiler: gcc (Ubuntu 11.4.0-1ubuntu1~22.04) 11.4.0 Debian 12 (arm) Kernel: Depends on container host Compiler: gcc (Debian 12.2.0-14) 12.2.0 Fedora 41 (ARM) Kernel: Depends on container host Compiler: gcc 14.2.1 20240912 (Red Hat 14.2.1-3) To view detailed results, visit: https://lab.dpdk.org/results/dashboard/tarballs/32449/ UNH-IOL DPDK Community Lab To manage your email subscriptions, visit: https://lab.dpdk.org/results/dashboard/preferences/subscriptions/