From mboxrd@z Thu Jan 1 00:00:00 1970 Return-Path: Received: from mails.dpdk.org (mails.dpdk.org [217.70.189.124]) by inbox.dpdk.org (Postfix) with ESMTP id 275C0461A2 for ; Thu, 6 Feb 2025 00:08:25 +0100 (CET) Received: from mails.dpdk.org (localhost [127.0.0.1]) by mails.dpdk.org (Postfix) with ESMTP id 3208C402A0; Thu, 6 Feb 2025 00:08:24 +0100 (CET) Received: from mail-qt1-f225.google.com (mail-qt1-f225.google.com [209.85.160.225]) by mails.dpdk.org (Postfix) with ESMTP id C97694029E for ; Thu, 6 Feb 2025 00:08:22 +0100 (CET) Received: by mail-qt1-f225.google.com with SMTP id d75a77b69052e-4679eacf2c5so3741411cf.0 for ; Wed, 05 Feb 2025 15:08:22 -0800 (PST) DKIM-Signature: v=1; a=rsa-sha256; c=relaxed/relaxed; d=iol.unh.edu; s=unh-iol; t=1738796902; x=1739401702; darn=dpdk.org; h=references:in-reply-to:cc:to:from:subject:message-id:date:from:to :cc:subject:date:message-id:reply-to; bh=l8VadFLVlYfAyA0vj8xxjNxn2B7dt+Yl0ym/IRDPrSw=; b=PEtJspQDzW6Py1aqVIpyYlIsE4t7G0/fTAAbpPmA3kt+IsSRHvpFcFjDzmUiXHFKc4 SNcOKYLsZ1YjqPieUJXUuAW+FyuqEKG9sTw/TDTjODIY80Ji7by/idPhuqGcn3gnUOs1 KDX6D0KXqpsqqo3GGw9nFfQY4CWEemHqqwXeM= X-Google-DKIM-Signature: v=1; a=rsa-sha256; c=relaxed/relaxed; d=1e100.net; s=20230601; t=1738796902; x=1739401702; h=references:in-reply-to:cc:to:from:subject:message-id:date :x-gm-message-state:from:to:cc:subject:date:message-id:reply-to; bh=l8VadFLVlYfAyA0vj8xxjNxn2B7dt+Yl0ym/IRDPrSw=; b=MZgD4+KX/SJj+0YbdwWgYPR32WrhRq0X0h1ckimfpUI38XWrcgUoCQr4PbZAsxGdUy qanoVILHM5m3eac9yJvlWhe7Vsyq7PQnyqVdRxan671li9qUzd4tHyUdF5lwnXHfupaw KPbskokpd3zbZOT9+lvjJapXq9IQjvRFpjyxSmBevuwsmYKCpmQDZn0/FHEYDQUu3cDh kH0iqFUCh93s27W8FqPWjel5HfEnuwU2Jp/T1+Kg/pDzrHY+5KaGKS++OhhihTxPpI9i vxALXxLkGit5lbSk4RHWWOEanPivPV7x5WVZePmxC6KN8EhOpeIv/C9tYKyd1LYUsRMi 3lOQ== X-Gm-Message-State: AOJu0Yxcn9L1GzVgdBBX3m6gLy0fWrA6vYRY21FpEAeUzdDNJcaC6nXv gUHNANee2vRclqNvbIObXcb9CqOAWtKESdDN4hsoacYYuzTOf4I1dGZGO2GtVepvHonz8eMXjFl ViIkd4XwMLq/29EG7rfej8DwNfcK0H6nESp1/FNXms56bC925cs6uH3YE X-Gm-Gg: ASbGncseDn2xoj/7rE134qrK7dIDYEDQc8LNSFMJoeKCqh3coVkg4MpkdL9dQePWk0U J6ElkiaZpZhM90nEuq5ClXbyIyvxVxD67fLA1GoPECJKI9kzWoT5xtB5D+jU3IpW7W/B2S0aR1C iwR7fu4yTqNCYIjPFEZa2hUOdGPiWIZ2hJaI/8WV06n9uFYMmcuwn83AuYFUNlLmG5DsARMQNpS LO4W6w7dyqwdlFfZdLeNrP4Mn3No3km0FbLDz4feU1dnTDRwHcKbDGmAswasdXpxzAwPSxkvaT9 Q1QzTDK6yehIa/CPKO0sW8XfYz9K2ARGepX5g255mw== X-Google-Smtp-Source: AGHT+IFvajhwkGFVjocJ/WyF+brDGN+8ms2d0yBhsgA29kLa7D6RXK7QGkitHPlPwpc1vI8H4Ds3IUmHpNX2 X-Received: by 2002:a05:622a:4a83:b0:463:4bb6:bfe2 with SMTP id d75a77b69052e-470282def4emr84387961cf.50.1738796902133; Wed, 05 Feb 2025 15:08:22 -0800 (PST) Received: from postal.iol.unh.edu (postal.iol.unh.edu. [2606:4100:3880:1234::84]) by smtp-relay.gmail.com with ESMTPS id d75a77b69052e-46fdf0c62c9sm4515171cf.8.2025.02.05.15.08.22 (version=TLS1_2 cipher=ECDHE-ECDSA-AES128-GCM-SHA256 bits=128/128); Wed, 05 Feb 2025 15:08:22 -0800 (PST) X-Relaying-Domain: iol.unh.edu Date: Wed, 05 Feb 2025 15:08:22 -0800 (PST) Message-ID: <67a3ef66.050a0220.27533.5d4fSMTPIN_ADDED_MISSING@mx.google.com> Received: from [172.21.0.6] (unknown [172.18.0.240]) by postal.iol.unh.edu (Postfix) with ESMTP id C50C16052471; Wed, 5 Feb 2025 18:08:21 -0500 (EST) Subject: |SUCCESS| pw150974-150991 [PATCH] [v3,19/19] common/cnxk: fix null p From: dpdklab@iol.unh.edu To: Test Report Cc: dpdk-test-reports@iol.unh.edu In-Reply-To: <20250205162448.161161-20-stephen@networkplumber.org> References: <20250205162448.161161-20-stephen@networkplumber.org> Content-Type: text/plain X-BeenThere: test-report@dpdk.org X-Mailman-Version: 2.1.29 Precedence: list List-Id: automatic DPDK test reports List-Unsubscribe: , List-Archive: List-Post: List-Help: List-Subscribe: , Errors-To: test-report-bounces@dpdk.org Test-Label: iol-compile-amd64-testing Test-Status: SUCCESS http://dpdk.org/patch/150991 _Testing PASS_ Submitter: Stephen Hemminger Date: Wednesday, February 05 2025 16:23:20 DPDK git baseline: Repo:dpdk Branch: master CommitID:32c18e7364e30a8e43cc7cc6709a7ce606fa285e 150974-150991 --> testing pass Upstream job id: Windows-Compile-DPDK-Native#26452 Test environment and result as below: +---------------------+--------------------+-------------------+-------------------------+ | Environment | dpdk_meson_compile | dpdk_msvc_compile | dpdk_llvm_clang_compile | +=====================+====================+===================+=========================+ | FreeBSD 13.4 | PASS | SKIPPED | SKIPPED | +---------------------+--------------------+-------------------+-------------------------+ | FreeBSD 14.2 | PASS | SKIPPED | SKIPPED | +---------------------+--------------------+-------------------+-------------------------+ | Windows Server 2022 | SKIPPED | PASS | PASS | +---------------------+--------------------+-------------------+-------------------------+ FreeBSD 13.4 Kernel: 13.4-RELEASE-p1 Compiler: clang 18.1.6 FreeBSD 14.2 Kernel: 14.2-RELEASE Compiler: clang 18.1.6 Windows Server 2022 Kernel: 10.0.20348.2031 Compiler: clang 15.0.7, gcc 14.1.0 (MinGW), and MSVC VS 19.39.33521 To view detailed results, visit: https://lab.dpdk.org/results/dashboard/patchsets/32501/ UNH-IOL DPDK Community Lab To manage your email subscriptions, visit: https://lab.dpdk.org/results/dashboard/preferences/subscriptions/