From mboxrd@z Thu Jan 1 00:00:00 1970 Return-Path: Received: from mails.dpdk.org (mails.dpdk.org [217.70.189.124]) by inbox.dpdk.org (Postfix) with ESMTP id 3F00A461A2 for ; Thu, 6 Feb 2025 00:17:59 +0100 (CET) Received: from mails.dpdk.org (localhost [127.0.0.1]) by mails.dpdk.org (Postfix) with ESMTP id 3AD77402A0; Thu, 6 Feb 2025 00:17:59 +0100 (CET) Received: from mail-qt1-f227.google.com (mail-qt1-f227.google.com [209.85.160.227]) by mails.dpdk.org (Postfix) with ESMTP id 00A054029E for ; Thu, 6 Feb 2025 00:17:57 +0100 (CET) Received: by mail-qt1-f227.google.com with SMTP id d75a77b69052e-467a3c85e11so2412811cf.2 for ; Wed, 05 Feb 2025 15:17:57 -0800 (PST) DKIM-Signature: v=1; a=rsa-sha256; c=relaxed/relaxed; d=iol.unh.edu; s=unh-iol; t=1738797477; x=1739402277; darn=dpdk.org; h=references:in-reply-to:cc:to:from:subject:message-id:date:from:to :cc:subject:date:message-id:reply-to; bh=WdVFQ4jyxNi+nacRWR3HGuzJ+jByKejL1FrRrfiBweY=; b=jPSRcr/aFXsQHPSUykqEQJJYuYkNiTaYw44G0EdbC8S9UlRQqjJTDlQx+akgZEkVSB ZM94D1MjjmGbU5E5ZswmOABGUAT/LK5rAyJxzE7qFjuLaz/Ss5qLYoErnBaFq/3puEx6 3helH+d/1kABzRHnPEMNOmIQaGNaauE4s2b00= X-Google-DKIM-Signature: v=1; a=rsa-sha256; c=relaxed/relaxed; d=1e100.net; s=20230601; t=1738797477; x=1739402277; h=references:in-reply-to:cc:to:from:subject:message-id:date :x-gm-message-state:from:to:cc:subject:date:message-id:reply-to; bh=WdVFQ4jyxNi+nacRWR3HGuzJ+jByKejL1FrRrfiBweY=; b=HfkU2/mmzs/lfk2A+isHrcrX+KNQidwiNMJ5gXjpuIUMwRSiTBdezFTc4nIDnn+lo2 q/oyHUgebiGvW74tJF70xz/oU2Bel39AScMdYMWNxF/re5S1lwVJ0q7fAgQYGk7xzi8/ 95UedInKqGkZAaq/W7ChQRQa7Erf1YXW2hUqDQlbCFKzBIrxnIEFmezT8RumrZStzERU zip+Lw8SHI6jN7nZbEsUctBvQy1/Qj1fW2pBP3sBozaUds96fKzc7qN/57Q0pebFic6P VrCvHHnqbDjVO1gCyai5CFgnOhmeEYkugAWiZypgf6etBOvKzsaBXrugtjJtQ3N16l86 6qnw== X-Gm-Message-State: AOJu0YyBAucqyI1fQ4MxpkMgExmjBVyTdQFlrPtXhaYeZTqSrVvoYAW+ u+MufgAzu8IQ3C5yTn3qX+jLYkkKjzCW70NInpmuImx/26ap/W6sBSAUFeUcRT22uslrQYMmNP6 WoXv2CSRxBYVhPzDn0I4rQtS3B9xepN1ABBvpUGgG X-Gm-Gg: ASbGncvDqnseNntwCKrS3/M+nS8L3RydWpHsd351NS09HYoyzeSR3udgryTqbiJAZDM r55OvJp8/lxsUioHanVoGWmR/k4lz2dPmhAPAFfUBO5wNNThSaX0QYRL6y+SMIVA3TpNT9fsSl4 1Z07r52WMOJqWxyotvFr8lLBCMpQqBrB5nndfrFxIrwSBRQDoafo1na6m6eTeZMf5eMBZAVZ5OT SFdtbSB1H0pwDo4/7G2tFbsWKruhzhN+clcjtTUVJFQUWDoJu+S5Vza2hWRMqt6pXYeWZ2VxN54 cOHfaPCilEUOiEHJudUwhmu7saB/GQ== X-Google-Smtp-Source: AGHT+IFGB9kuzPmB6BQmc2BmUMgD8nU9tZLjp9PCzOAo1BhJ6Xa5RMZEL8EyD/0Nv6Rodt1Y9qODV1HmdFo/ X-Received: by 2002:a05:6214:3f8a:b0:6e4:2962:6d04 with SMTP id 6a1803df08f44-6e42fc6d1b5mr84448016d6.34.1738797477319; Wed, 05 Feb 2025 15:17:57 -0800 (PST) Received: from postal.iol.unh.edu (postal.iol.unh.edu. [132.177.123.84]) by smtp-relay.gmail.com with ESMTPS id 6a1803df08f44-6e434720e9bsm1338826d6.51.2025.02.05.15.17.57 (version=TLS1_2 cipher=ECDHE-ECDSA-AES128-GCM-SHA256 bits=128/128); Wed, 05 Feb 2025 15:17:57 -0800 (PST) X-Relaying-Domain: iol.unh.edu Date: Wed, 05 Feb 2025 15:17:57 -0800 (PST) Message-ID: <67a3f1a5.050a0220.19f1b6.631eSMTPIN_ADDED_MISSING@mx.google.com> Received: from [172.21.0.7] (unknown [172.18.0.240]) by postal.iol.unh.edu (Postfix) with ESMTP id 0D59A6052471; Wed, 5 Feb 2025 18:17:57 -0500 (EST) Subject: |SUCCESS| pw150992-151002 [PATCH] [11/11] net/bnxt: address coverity From: dpdklab@iol.unh.edu To: Test Report Cc: dpdk-test-reports@iol.unh.edu In-Reply-To: <20250205172004.50395-12-ajit.khaparde@broadcom.com> References: <20250205172004.50395-12-ajit.khaparde@broadcom.com> Content-Type: text/plain X-BeenThere: test-report@dpdk.org X-Mailman-Version: 2.1.29 Precedence: list List-Id: automatic DPDK test reports List-Unsubscribe: , List-Archive: List-Post: List-Help: List-Subscribe: , Errors-To: test-report-bounces@dpdk.org Test-Label: iol-abi-testing Test-Status: SUCCESS http://dpdk.org/patch/151002 _Testing PASS_ Submitter: Ajit Khaparde Date: Wednesday, February 05 2025 17:20:04 DPDK git baseline: Repo:dpdk Branch: master CommitID:32c18e7364e30a8e43cc7cc6709a7ce606fa285e 150992-151002 --> testing pass Upstream job id: Generic-DPDK-Compile-ABI#114918 Test environment and result as below: +-------------------+----------+ | Environment | abi_test | +===================+==========+ | CentOS Stream 9 | PASS | +-------------------+----------+ | Debian Bullseye | PASS | +-------------------+----------+ | Debian 12 | PASS | +-------------------+----------+ | Fedora 40 (Clang) | PASS | +-------------------+----------+ | Fedora 40 | PASS | +-------------------+----------+ | Fedora 41 (Clang) | PASS | +-------------------+----------+ | Fedora 41 | PASS | +-------------------+----------+ | RHEL8 | PASS | +-------------------+----------+ | RHEL9 | PASS | +-------------------+----------+ | Ubuntu 22.04 | PASS | +-------------------+----------+ | Ubuntu 24.04 | PASS | +-------------------+----------+ | openSUSE Leap 15 | PASS | +-------------------+----------+ CentOS Stream 9 Kernel: Depends on container host Compiler: gcc 11.5.0 20240719 (Red Hat 11.5.0-2) Debian Bullseye Kernel: Depends on container host Compiler: gcc (Debian 10.2.1-6) 10.2.1 20210110 Debian 12 Kernel: Depends on container host Compiler: gcc (Debian 12.2.0-14) 12.2.0 Fedora 40 (Clang) Kernel: Depends on container host Compiler: clang 18.1.8 (Fedora 18.1.8-1.fc40) Fedora 40 Kernel: Depends on container host Compiler: gcc 14.2.1 20240912 (Red Hat 14.2.1-3) Fedora 41 (Clang) Kernel: Depends on container host Compiler: clang 19.1.5 (Fedora 19.1.5-1.fc41) Fedora 41 Kernel: Depends on container host Compiler: gcc 14.2.1 20240912 (Red Hat 14.2.1-3) RHEL8 Kernel: Depends on container host Compiler: gcc 8.5.0 20210514 (Red Hat 8.5.0-22) RHEL9 Kernel: Depends on container host Compiler: gcc 11.5.0 20240719 (Red Hat 11.5.0-2) Ubuntu 22.04 Kernel: Depends on container host Compiler: gcc (Ubuntu 11.4.0-1ubuntu1~22.04) 11.4.0 Ubuntu 24.04 Kernel: Depends on container host Compiler: gcc (Ubuntu 13.3.0-6ubuntu2~24.04) 13.3.0 openSUSE Leap 15 Kernel: Depends on container host Compiler: gcc (SUSE Linux) 7.5.0 To view detailed results, visit: https://lab.dpdk.org/results/dashboard/patchsets/32502/ UNH-IOL DPDK Community Lab To manage your email subscriptions, visit: https://lab.dpdk.org/results/dashboard/preferences/subscriptions/