From mboxrd@z Thu Jan 1 00:00:00 1970 Return-Path: Received: from mails.dpdk.org (mails.dpdk.org [217.70.189.124]) by inbox.dpdk.org (Postfix) with ESMTP id 674B1461A2 for ; Thu, 6 Feb 2025 00:19:03 +0100 (CET) Received: from mails.dpdk.org (localhost [127.0.0.1]) by mails.dpdk.org (Postfix) with ESMTP id 6327E402A0; Thu, 6 Feb 2025 00:19:03 +0100 (CET) Received: from mail-oa1-f99.google.com (mail-oa1-f99.google.com [209.85.160.99]) by mails.dpdk.org (Postfix) with ESMTP id E69544029E for ; Thu, 6 Feb 2025 00:19:01 +0100 (CET) Received: by mail-oa1-f99.google.com with SMTP id 586e51a60fabf-2b7f4ed0468so163686fac.0 for ; Wed, 05 Feb 2025 15:19:01 -0800 (PST) DKIM-Signature: v=1; a=rsa-sha256; c=relaxed/relaxed; d=iol.unh.edu; s=unh-iol; t=1738797541; x=1739402341; darn=dpdk.org; h=references:in-reply-to:cc:to:from:subject:message-id:date:from:to :cc:subject:date:message-id:reply-to; bh=jGoZp3J1W6umEIbJzrtOSFIjOasAEFTN/AHqm9YPppM=; b=FQtxNbwgFC4jBfhxaUFRNn2ngM/tDZdhFP7v5q+DH0bWNNTGTy52iVPBzwGK1oG8uD 1rjR8G5SkD63vdmtvjMOVafiil03OSj9zZcBm96wxIzOiOX5q4GHKgrctySM8BAc+Xg+ QVP7Zpbeb5Sj9Ja/XwhKoXxekgpkZox1HGGf4= X-Google-DKIM-Signature: v=1; a=rsa-sha256; c=relaxed/relaxed; d=1e100.net; s=20230601; t=1738797541; x=1739402341; h=references:in-reply-to:cc:to:from:subject:message-id:date :x-gm-message-state:from:to:cc:subject:date:message-id:reply-to; bh=jGoZp3J1W6umEIbJzrtOSFIjOasAEFTN/AHqm9YPppM=; b=hd90hq/OsNN6ZKRfp0Sk7XnxdnU/mp70clk0Ss4tBnOqm6hCxEYeCEhQ+RQCZYzIpQ uaQL1cRuiRHgqWR884DxJq5QivQJqtW186RcKtSMsQQQch/zVAmot65WF4mcHzwjtJkM 20sJqhuAlkKgn6UcAdzUdBOdkcZTHqBNFxOoZscVxmzQL+tLekAOEm3r4+HesyLCfkWN op8qdFRJoiERVkTQvzICpAupXVJVAeEuyMgPEca4ZMaYyicsD4K3voLWskWluhU6bRlW UzFxDOw6vVLhK9/ZsJiWzHa7COSAiRImtUvIF1yO9kG34ibqHxJH9pD441BL75yJVO7I 0wRg== X-Gm-Message-State: AOJu0YwEbs+XbGHuEvzJvQZvrnwpXVThA0PKYFLp0HMirNouzVHfXmqI fFrCaqB9bxl38IhG8VHgOIy07o9WQDeT9slvXJYtOvoTeRXHisGz32scxjCr52GPJsNdWMhOfNV FrMD+3XBxXJchvDgpsCsYbiCPzvYj6NNpkllKyHpoN8pMOq3QeidOGanD X-Gm-Gg: ASbGncsfopaI9Sp0WQB+5WZyZVUuvDCuZrAQta8YAj/A1R78oejvLB5cLcYbXDTMFqD HxR2E1rAR29LlO8bQWare9ROZBwsiQrjeEwxA1N2zy9U69kQa1DDtL3ii6fBsY3VXe0RU3aKepj fUTe2tVefcdRrkPGEa4LQzvdwwih7b9j3azHAI7SV/4QqTe+0ma5VnPB2AjlPWXQx06lgT+8IBw KEpQrhRHu+w1G1OPFVRndbN/IDkM2CzNGCIyFVigJectuPeHOle6vkIMys403P9UZmNWhYReRIW GT6zpTkZq8shoNeGBC54mydnPq5omd7dY9emGYmwGw== X-Google-Smtp-Source: AGHT+IGIwjhHu/Y/OQ/ryUowaxO4CyFwfmnaC2WDfyhh4dHWTySfgPRwBxxfxWDMe/fUC2iHuUKITxjFCg3y X-Received: by 2002:a05:6870:7a18:b0:29e:2594:81e with SMTP id 586e51a60fabf-2b804f4e987mr3045909fac.13.1738797541249; Wed, 05 Feb 2025 15:19:01 -0800 (PST) Received: from postal.iol.unh.edu (postal.iol.unh.edu. [2606:4100:3880:1234::84]) by smtp-relay.gmail.com with ESMTPS id 586e51a60fabf-2b82601b516sm3582fac.21.2025.02.05.15.19.01 (version=TLS1_2 cipher=ECDHE-ECDSA-AES128-GCM-SHA256 bits=128/128); Wed, 05 Feb 2025 15:19:01 -0800 (PST) X-Relaying-Domain: iol.unh.edu Date: Wed, 05 Feb 2025 15:19:01 -0800 (PST) Message-ID: <67a3f1e5.050a0220.1bdc98.0324SMTPIN_ADDED_MISSING@mx.google.com> Received: from [172.21.0.8] (unknown [172.18.0.240]) by postal.iol.unh.edu (Postfix) with ESMTP id B230D6052471; Wed, 5 Feb 2025 18:19:00 -0500 (EST) Subject: |SUCCESS| pw151007 [PATCH] [v4] drivers/net: use 64-bit shift and av From: dpdklab@iol.unh.edu To: Test Report Cc: dpdk-test-reports@iol.unh.edu In-Reply-To: <1738783944-10172-1-git-send-email-andremue@linux.microsoft.com> References: <1738783944-10172-1-git-send-email-andremue@linux.microsoft.com> Content-Type: text/plain X-BeenThere: test-report@dpdk.org X-Mailman-Version: 2.1.29 Precedence: list List-Id: automatic DPDK test reports List-Unsubscribe: , List-Archive: List-Post: List-Help: List-Subscribe: , Errors-To: test-report-bounces@dpdk.org Test-Label: iol-compile-amd64-testing Test-Status: SUCCESS http://dpdk.org/patch/151007 _Testing PASS_ Submitter: Andre Muezerie Date: Wednesday, February 05 2025 19:32:24 DPDK git baseline: Repo:dpdk Branch: master CommitID:e595e7b5758fc73d99b810f5a8748f94bd467084 151007 --> testing pass Upstream job id: Generic-VM-DPDK-Compile-Meson#33066 Test environment and result as below: +---------------------+-------------------+--------------------+ | Environment | dpdk_msvc_compile | dpdk_meson_compile | +=====================+===================+====================+ | Windows Server 2022 | PASS | SKIPPED | +---------------------+-------------------+--------------------+ | FreeBSD 13.4 | SKIPPED | PASS | +---------------------+-------------------+--------------------+ | FreeBSD 14.2 | SKIPPED | PASS | +---------------------+-------------------+--------------------+ Windows Server 2022 Kernel: 10.0.20348.2031 Compiler: clang 15.0.7, gcc 14.1.0 (MinGW), and MSVC VS 19.39.33521 FreeBSD 13.4 Kernel: 13.4-RELEASE-p1 Compiler: clang 18.1.6 FreeBSD 14.2 Kernel: 14.2-RELEASE Compiler: clang 18.1.6 To view detailed results, visit: https://lab.dpdk.org/results/dashboard/patchsets/32505/ UNH-IOL DPDK Community Lab To manage your email subscriptions, visit: https://lab.dpdk.org/results/dashboard/preferences/subscriptions/