From mboxrd@z Thu Jan 1 00:00:00 1970 Return-Path: Received: from mails.dpdk.org (mails.dpdk.org [217.70.189.124]) by inbox.dpdk.org (Postfix) with ESMTP id 5A85C461A2 for ; Thu, 6 Feb 2025 00:24:48 +0100 (CET) Received: from mails.dpdk.org (localhost [127.0.0.1]) by mails.dpdk.org (Postfix) with ESMTP id 5014A402A0; Thu, 6 Feb 2025 00:24:48 +0100 (CET) Received: from mail-oo1-f100.google.com (mail-oo1-f100.google.com [209.85.161.100]) by mails.dpdk.org (Postfix) with ESMTP id 0C2194029E for ; Thu, 6 Feb 2025 00:24:47 +0100 (CET) Received: by mail-oo1-f100.google.com with SMTP id 006d021491bc7-5f31b3db5ecso147622eaf.0 for ; Wed, 05 Feb 2025 15:24:46 -0800 (PST) DKIM-Signature: v=1; a=rsa-sha256; c=relaxed/relaxed; d=iol.unh.edu; s=unh-iol; t=1738797886; x=1739402686; darn=dpdk.org; h=references:in-reply-to:cc:to:from:subject:message-id:date:from:to :cc:subject:date:message-id:reply-to; bh=qa3rzI0ruyBVnpulpG3X9WacBt3iGfb0v7PSD4+71eI=; b=URxwGmy+3XiFIhgZ0ceLQaUVrmaRtf61gjnfqRhulUmIhM0VLfvN8K4s1CN7W99v9B mn5zH/9+6Hq/oRceVyBVnBEZNXuyan8pRmPfAholM0tAUgpRGcluYjT16ksVUS/SyJOR 7FeuOgfBTU4VD3lBYm/BGQC7ebnulfSpdBYy4= X-Google-DKIM-Signature: v=1; a=rsa-sha256; c=relaxed/relaxed; d=1e100.net; s=20230601; t=1738797886; x=1739402686; h=references:in-reply-to:cc:to:from:subject:message-id:date :x-gm-message-state:from:to:cc:subject:date:message-id:reply-to; bh=qa3rzI0ruyBVnpulpG3X9WacBt3iGfb0v7PSD4+71eI=; b=Z+DacstLW75pP2HiDp9eM8mqtHib9ERRhRgBiRJAjT9HON2yzFFY8tZW917lH/d88p 43Ms9fw1GGCpO6DAzTPwSOEjftmNETEJwtMHPzeEHKc9Ghl482XwBxZXC4y2KMzDc3e6 y+Siu3qQFAZBkoj29BVEMItqwKWxBTvPOBkMdrPyzFJPf1vMf8IDA4pPBWccd5IfrnYQ YpogtHRrZxU19mnGNa0S4Ri7lk7lpOt/l9/jQCbVb4mEE4e5bHGgIVexkWjmt7ypLM8Q p3cP0v3EfNgcYZ9fhx4vgdlkQkvClWkj/6eY0carom/6nAnzQgu3YLXtoI0lZfsDvjBB cRKA== X-Gm-Message-State: AOJu0Yzz93MuELhNhC0wn4rLClo/Jl69mSPGbSS7dcV+wyNNJ4kLarN9 /HKTUnVGgHYOlc4+4uF/KkAKxuhYqPlIUT9/Oh5I1LrxKKJI4uw6qrYzAVsi507QPeQEVRnkxvB uHHVOusZWFDJQTzvygXe0iHnzhikzpBeKGKhtChq4oe59FWUJ3gkhxRCw X-Gm-Gg: ASbGncuTG+p5m6gufzIES6+pez0j/eoNw+c2AXiBlasovsK+q5Qwe5MR29+Z9XwzhkR z+XTEFAxGj2UPN9ayBwP4Fip2LqlMb2lYIqJjxeFp5SDF0OvXTNV47lj0kiy0FjKe1W3KRcu0qC gVpG9LHpuba/Cj9w8tIdIJzlohh4niFQM8czVL6hlfRF5lWwOG5gQQkatP7/PUz5nzdu/cTuYFn OZ8YBCtzBd+YMPUxACzs2rdwkwEzlU/BFxCRoWCcFderom7/wfHy/SuXqNP0PeVv0LjfrXxjkkO Cyrtv/4X9+luF0ib9BJ/E/gAyCd00+GvCJTZNIN3jg== X-Google-Smtp-Source: AGHT+IHFP8iMD8UTaqGqg+Cmk8c6B0VATmSLdRe3FfhTgDLveIWkeSdOnlk/G5Gx6wfcsD35A7e43W/N/RkS X-Received: by 2002:a05:6870:9a1b:b0:29e:3c90:148b with SMTP id 586e51a60fabf-2b8051698d8mr3380327fac.26.1738797885976; Wed, 05 Feb 2025 15:24:45 -0800 (PST) Received: from postal.iol.unh.edu (postal.iol.unh.edu. [2606:4100:3880:1234::84]) by smtp-relay.gmail.com with ESMTPS id 586e51a60fabf-2b82583f3c8sm5414fac.0.2025.02.05.15.24.45 (version=TLS1_2 cipher=ECDHE-ECDSA-AES128-GCM-SHA256 bits=128/128); Wed, 05 Feb 2025 15:24:45 -0800 (PST) X-Relaying-Domain: iol.unh.edu Date: Wed, 05 Feb 2025 15:24:45 -0800 (PST) Message-ID: <67a3f33d.050a0220.1d3944.0539SMTPIN_ADDED_MISSING@mx.google.com> Received: from [172.21.0.6] (unknown [172.18.0.240]) by postal.iol.unh.edu (Postfix) with ESMTP id 779CA6052471; Wed, 5 Feb 2025 18:24:45 -0500 (EST) Subject: |SUCCESS| pw150992-151002 [PATCH] [11/11] net/bnxt: address coverity From: dpdklab@iol.unh.edu To: Test Report Cc: dpdk-test-reports@iol.unh.edu In-Reply-To: <20250205172004.50395-12-ajit.khaparde@broadcom.com> References: <20250205172004.50395-12-ajit.khaparde@broadcom.com> Content-Type: text/plain X-BeenThere: test-report@dpdk.org X-Mailman-Version: 2.1.29 Precedence: list List-Id: automatic DPDK test reports List-Unsubscribe: , List-Archive: List-Post: List-Help: List-Subscribe: , Errors-To: test-report-bounces@dpdk.org Test-Label: iol-unit-amd64-testing Test-Status: SUCCESS http://dpdk.org/patch/151002 _Testing PASS_ Submitter: Ajit Khaparde Date: Wednesday, February 05 2025 17:20:04 DPDK git baseline: Repo:dpdk Branch: master CommitID:32c18e7364e30a8e43cc7cc6709a7ce606fa285e 150992-151002 --> testing pass Upstream job id: Generic-Unit-Test-DPDK#311906 Test environment and result as below: +---------------------+----------------+ | Environment | dpdk_unit_test | +=====================+================+ | Debian Bullseye | PASS | +---------------------+----------------+ | CentOS Stream 9 | PASS | +---------------------+----------------+ | Fedora 40 | PASS | +---------------------+----------------+ | Debian 12 | PASS | +---------------------+----------------+ | Fedora 41 (Clang) | PASS | +---------------------+----------------+ | Fedora 41 | PASS | +---------------------+----------------+ | Fedora 40 (Clang) | PASS | +---------------------+----------------+ | RHEL8 | PASS | +---------------------+----------------+ | RHEL9 | PASS | +---------------------+----------------+ | Ubuntu 22.04 | PASS | +---------------------+----------------+ | Ubuntu 20.04 | PASS | +---------------------+----------------+ | Ubuntu 24.04 | PASS | +---------------------+----------------+ | Windows Server 2022 | PASS | +---------------------+----------------+ Debian Bullseye Kernel: Depends on container host Compiler: gcc (Debian 10.2.1-6) 10.2.1 20210110 CentOS Stream 9 Kernel: Depends on container host Compiler: gcc 11.5.0 20240719 (Red Hat 11.5.0-2) Fedora 40 Kernel: Depends on container host Compiler: gcc 14.2.1 20240912 (Red Hat 14.2.1-3) Debian 12 Kernel: Depends on container host Compiler: gcc (Debian 12.2.0-14) 12.2.0 Fedora 41 (Clang) Kernel: Depends on container host Compiler: clang 19.1.5 (Fedora 19.1.5-1.fc41) Fedora 41 Kernel: Depends on container host Compiler: gcc 14.2.1 20240912 (Red Hat 14.2.1-3) Fedora 40 (Clang) Kernel: Depends on container host Compiler: clang 18.1.8 (Fedora 18.1.8-1.fc40) RHEL8 Kernel: Depends on container host Compiler: gcc 8.5.0 20210514 (Red Hat 8.5.0-22) RHEL9 Kernel: Depends on container host Compiler: gcc 11.5.0 20240719 (Red Hat 11.5.0-2) Ubuntu 22.04 Kernel: Depends on container host Compiler: gcc (Ubuntu 11.4.0-1ubuntu1~22.04) 11.4.0 Ubuntu 20.04 Kernel: Depends on container host Compiler: gcc (Ubuntu 9.4.0-1ubuntu1~20.04.2) 9.4.0 Ubuntu 24.04 Kernel: Depends on container host Compiler: gcc (Ubuntu 13.3.0-6ubuntu2~24.04) 13.3.0 Windows Server 2022 Kernel: 10.0.20348.2031 Compiler: clang 15.0.7, gcc 14.1.0 (MinGW), and MSVC VS 19.39.33521 To view detailed results, visit: https://lab.dpdk.org/results/dashboard/patchsets/32502/ UNH-IOL DPDK Community Lab To manage your email subscriptions, visit: https://lab.dpdk.org/results/dashboard/preferences/subscriptions/