From mboxrd@z Thu Jan 1 00:00:00 1970 Return-Path: Received: from mails.dpdk.org (mails.dpdk.org [217.70.189.124]) by inbox.dpdk.org (Postfix) with ESMTP id 1AE13461A2 for ; Thu, 6 Feb 2025 00:31:33 +0100 (CET) Received: from mails.dpdk.org (localhost [127.0.0.1]) by mails.dpdk.org (Postfix) with ESMTP id F3457402A0; Thu, 6 Feb 2025 00:31:32 +0100 (CET) Received: from mail-qv1-f97.google.com (mail-qv1-f97.google.com [209.85.219.97]) by mails.dpdk.org (Postfix) with ESMTP id B62C14029E for ; Thu, 6 Feb 2025 00:31:31 +0100 (CET) Received: by mail-qv1-f97.google.com with SMTP id 6a1803df08f44-6e43941e843so3003496d6.3 for ; Wed, 05 Feb 2025 15:31:31 -0800 (PST) DKIM-Signature: v=1; a=rsa-sha256; c=relaxed/relaxed; d=iol.unh.edu; s=unh-iol; t=1738798291; x=1739403091; darn=dpdk.org; h=references:in-reply-to:cc:to:from:subject:message-id:date:from:to :cc:subject:date:message-id:reply-to; bh=OrHPFW7oKd/kOkzdVkO9l8tc7njU9j4E8igTBa4fyCg=; b=HmPmturCt6+ARCAwgsdvhogwclfPWQsMVW1tFJim7WF72zTPNW0CL8+Tf2TKRwoFwB nfq2QaNV4Dk3s5WHHMTH/MmzZkI/AzQo+SxHKZEos3gcBNWF/ldc5Dh88cXT9ajhuSL1 ozg2rN0GSfMIJN69b8oAftFeZkDkPe7kARBGQ= X-Google-DKIM-Signature: v=1; a=rsa-sha256; c=relaxed/relaxed; d=1e100.net; s=20230601; t=1738798291; x=1739403091; h=references:in-reply-to:cc:to:from:subject:message-id:date :x-gm-message-state:from:to:cc:subject:date:message-id:reply-to; bh=OrHPFW7oKd/kOkzdVkO9l8tc7njU9j4E8igTBa4fyCg=; b=YdUomYZ16ivuCxD2Z/D/Sb2W4IKcf827J4/fF9xWw0Vonz3RAA+NOzTmYc7IaE0r6U plZ72aFpt84CALh7ErbrGmGRX3Gdac/Wu/3ZzdIdknV46H3+CGvMLBih5NXB2C1wSRoB dV39NMfoaxK+XWbbMjHnAgvqeuLJaCGyB2XQpiT6so8ze7HpOjB5aeN/1ljf4mW73Z40 LgL7h4CGBebmK+sCzBY7+o+rX2ZTshfM44u0SNYHiQNNghINpSnZXZYD8ne0jPSissN9 qgxUvWcacO6dBwdPF1YpfkimlbwchzVP6AfBvnfTMFKbtkg/uaklaxXWEINWSB+0xAgq 8Nzg== X-Gm-Message-State: AOJu0Ywaq62e8creJvCV4wbe67c85YALLolvbcapsgvXKaSe6gJ+CVsu WAHZwtSO6GVqm3xelImU7JoOAjMij3t5CGaPWA5rMOzLyeEPzZPhWBbMhjYbBlWmDKhk1lJIujH AuRpk1pby1m9WzZyCatNZ+DaV1zyWHKfBNBglcmLzRcVTMN0WoF9jjsoh X-Gm-Gg: ASbGncsh+ARo3fgvspGP0hnKZ7/4sgBm1vMk1RssNnzZGdEuVgfRZX/9DiCvBIglL7/ RMjSrZNL449sbAl8nKpj4ZS7pwm01iDXFcD71L4WcKKDJSsjtkpcerAaOTgp9Wpr9/JN/1uPDCO iA4wEK6AkZiPywKPGrHnvbtE+K/HgQTR90Ly58CdFeYbydiRaubPmwCBDO/UuyvK1+ROMiXyiRl vzxVJKowqenJ4LLjBWmF8+Al66scxo9R8lKn+6bG4IgZ9GfEeJ3MH+aWwZY++yJ6I8hwnwe6LEH V1Xm0aFdrqnm4gkuqQcLn0hNj//6cNqbwqXM7KtNfA== X-Google-Smtp-Source: AGHT+IG3jtRwLnLdBYwdp2/AjQO0ho/xDaBN988+5SgIuBWtyRh0kLfle/5PCeCkJ4WHhRvkEdVFIKACa1tV X-Received: by 2002:ad4:5ba3:0:b0:6d4:19a0:202 with SMTP id 6a1803df08f44-6e42fc4596emr64022846d6.33.1738798291013; Wed, 05 Feb 2025 15:31:31 -0800 (PST) Received: from postal.iol.unh.edu (postal.iol.unh.edu. [2606:4100:3880:1234::84]) by smtp-relay.gmail.com with ESMTPS id 6a1803df08f44-6e43ba33dd4sm10766d6.8.2025.02.05.15.31.30 (version=TLS1_2 cipher=ECDHE-ECDSA-AES128-GCM-SHA256 bits=128/128); Wed, 05 Feb 2025 15:31:31 -0800 (PST) X-Relaying-Domain: iol.unh.edu Date: Wed, 05 Feb 2025 15:31:31 -0800 (PST) Message-ID: <67a3f4d3.050a0220.32cdf5.010bSMTPIN_ADDED_MISSING@mx.google.com> Received: from [172.21.0.5] (unknown [172.18.0.240]) by postal.iol.unh.edu (Postfix) with ESMTP id AFF946052471; Wed, 5 Feb 2025 18:31:30 -0500 (EST) Subject: |SUCCESS| pw150971 [PATCH] log: avoid call close with negative value From: dpdklab@iol.unh.edu To: Test Report Cc: dpdk-test-reports@iol.unh.edu In-Reply-To: <20250205161518.143865-1-stephen@networkplumber.org> References: <20250205161518.143865-1-stephen@networkplumber.org> Content-Type: text/plain X-BeenThere: test-report@dpdk.org X-Mailman-Version: 2.1.29 Precedence: list List-Id: automatic DPDK test reports List-Unsubscribe: , List-Archive: List-Post: List-Help: List-Subscribe: , Errors-To: test-report-bounces@dpdk.org Test-Label: iol-compile-amd64-testing Test-Status: SUCCESS http://dpdk.org/patch/150971 _Testing PASS_ Submitter: Stephen Hemminger Date: Wednesday, February 05 2025 16:15:18 DPDK git baseline: Repo:dpdk Branch: master CommitID:32c18e7364e30a8e43cc7cc6709a7ce606fa285e 150971 --> testing pass Upstream job id: Generic-DPDK-Compile-Meson#358069 Test environment and result as below: +---------------------+-------------------------+--------------------+-------------------+----------------------+------------------+-------------------+ | Environment | dpdk_llvm_clang_compile | dpdk_meson_compile | dpdk_msvc_compile | dpdk_mingw64_compile | dpdk_compile_ovs | dpdk_compile_spdk | +=====================+=========================+====================+===================+======================+==================+===================+ | Windows Server 2022 | PASS | SKIPPED | PASS | PASS | SKIPPED | SKIPPED | +---------------------+-------------------------+--------------------+-------------------+----------------------+------------------+-------------------+ | FreeBSD 13.4 | SKIPPED | PASS | SKIPPED | SKIPPED | SKIPPED | SKIPPED | +---------------------+-------------------------+--------------------+-------------------+----------------------+------------------+-------------------+ | FreeBSD 14.2 | SKIPPED | PASS | SKIPPED | SKIPPED | SKIPPED | SKIPPED | +---------------------+-------------------------+--------------------+-------------------+----------------------+------------------+-------------------+ | CentOS Stream 9 | SKIPPED | PASS | SKIPPED | SKIPPED | PASS | PASS | +---------------------+-------------------------+--------------------+-------------------+----------------------+------------------+-------------------+ | Debian Bullseye | SKIPPED | PASS | SKIPPED | SKIPPED | PASS | PASS | +---------------------+-------------------------+--------------------+-------------------+----------------------+------------------+-------------------+ | Debian 12 | SKIPPED | PASS | SKIPPED | SKIPPED | PASS | PASS | +---------------------+-------------------------+--------------------+-------------------+----------------------+------------------+-------------------+ | Fedora 40 (Clang) | SKIPPED | PASS | SKIPPED | SKIPPED | PASS | PASS | +---------------------+-------------------------+--------------------+-------------------+----------------------+------------------+-------------------+ | Fedora 40 | SKIPPED | PASS | SKIPPED | SKIPPED | PASS | PASS | +---------------------+-------------------------+--------------------+-------------------+----------------------+------------------+-------------------+ | Fedora 41 (Clang) | SKIPPED | PASS | SKIPPED | SKIPPED | PASS | PASS | +---------------------+-------------------------+--------------------+-------------------+----------------------+------------------+-------------------+ | Fedora 41 | SKIPPED | PASS | SKIPPED | SKIPPED | PASS | PASS | +---------------------+-------------------------+--------------------+-------------------+----------------------+------------------+-------------------+ | openSUSE Leap 15 | SKIPPED | PASS | SKIPPED | SKIPPED | SKIPPED | SKIPPED | +---------------------+-------------------------+--------------------+-------------------+----------------------+------------------+-------------------+ | RHEL9 | SKIPPED | PASS | SKIPPED | SKIPPED | PASS | SKIPPED | +---------------------+-------------------------+--------------------+-------------------+----------------------+------------------+-------------------+ | Ubuntu 20.04 | SKIPPED | PASS | SKIPPED | SKIPPED | SKIPPED | SKIPPED | +---------------------+-------------------------+--------------------+-------------------+----------------------+------------------+-------------------+ | Ubuntu 22.04 | SKIPPED | PASS | SKIPPED | SKIPPED | PASS | PASS | +---------------------+-------------------------+--------------------+-------------------+----------------------+------------------+-------------------+ | Ubuntu 24.04 | SKIPPED | PASS | SKIPPED | SKIPPED | PASS | PASS | +---------------------+-------------------------+--------------------+-------------------+----------------------+------------------+-------------------+ | Alpine | SKIPPED | PASS | SKIPPED | SKIPPED | PASS | SKIPPED | +---------------------+-------------------------+--------------------+-------------------+----------------------+------------------+-------------------+ | RHEL8 | SKIPPED | PASS | SKIPPED | SKIPPED | PASS | SKIPPED | +---------------------+-------------------------+--------------------+-------------------+----------------------+------------------+-------------------+ Windows Server 2022 Kernel: 10.0.20348.2031 Compiler: clang 15.0.7, gcc 14.1.0 (MinGW), and MSVC VS 19.39.33521 FreeBSD 13.4 Kernel: 13.4-RELEASE-p1 Compiler: clang 18.1.6 FreeBSD 14.2 Kernel: 14.2-RELEASE Compiler: clang 18.1.6 CentOS Stream 9 Kernel: Depends on container host Compiler: gcc 11.5.0 20240719 (Red Hat 11.5.0-2) Debian Bullseye Kernel: Depends on container host Compiler: gcc (Debian 10.2.1-6) 10.2.1 20210110 Debian 12 Kernel: Depends on container host Compiler: gcc (Debian 12.2.0-14) 12.2.0 Fedora 40 (Clang) Kernel: Depends on container host Compiler: clang 18.1.8 (Fedora 18.1.8-1.fc40) Fedora 40 Kernel: Depends on container host Compiler: gcc 14.2.1 20240912 (Red Hat 14.2.1-3) Fedora 41 (Clang) Kernel: Depends on container host Compiler: clang 19.1.5 (Fedora 19.1.5-1.fc41) Fedora 41 Kernel: Depends on container host Compiler: gcc 14.2.1 20240912 (Red Hat 14.2.1-3) openSUSE Leap 15 Kernel: Depends on container host Compiler: gcc (SUSE Linux) 7.5.0 RHEL9 Kernel: Depends on container host Compiler: gcc 11.5.0 20240719 (Red Hat 11.5.0-2) Ubuntu 20.04 Kernel: Depends on container host Compiler: gcc (Ubuntu 9.4.0-1ubuntu1~20.04.2) 9.4.0 Ubuntu 22.04 Kernel: Depends on container host Compiler: gcc (Ubuntu 11.4.0-1ubuntu1~22.04) 11.4.0 Ubuntu 24.04 Kernel: Depends on container host Compiler: gcc (Ubuntu 13.3.0-6ubuntu2~24.04) 13.3.0 Alpine Kernel: Depends on container host Compiler: gcc (Alpine 14.2.0) 14.2.0 RHEL8 Kernel: Depends on container host Compiler: gcc 8.5.0 20210514 (Red Hat 8.5.0-22) To view detailed results, visit: https://lab.dpdk.org/results/dashboard/patchsets/32499/ UNH-IOL DPDK Community Lab To manage your email subscriptions, visit: https://lab.dpdk.org/results/dashboard/preferences/subscriptions/