From mboxrd@z Thu Jan 1 00:00:00 1970 Return-Path: Received: from mails.dpdk.org (mails.dpdk.org [217.70.189.124]) by inbox.dpdk.org (Postfix) with ESMTP id 4C490461A2 for ; Thu, 6 Feb 2025 00:36:44 +0100 (CET) Received: from mails.dpdk.org (localhost [127.0.0.1]) by mails.dpdk.org (Postfix) with ESMTP id 47581402A0; Thu, 6 Feb 2025 00:36:44 +0100 (CET) Received: from mail-io1-f99.google.com (mail-io1-f99.google.com [209.85.166.99]) by mails.dpdk.org (Postfix) with ESMTP id E1B084029E for ; Thu, 6 Feb 2025 00:36:42 +0100 (CET) Received: by mail-io1-f99.google.com with SMTP id ca18e2360f4ac-844dfe4b136so10830339f.3 for ; Wed, 05 Feb 2025 15:36:42 -0800 (PST) DKIM-Signature: v=1; a=rsa-sha256; c=relaxed/relaxed; d=iol.unh.edu; s=unh-iol; t=1738798602; x=1739403402; darn=dpdk.org; h=references:in-reply-to:cc:to:from:subject:message-id:date:from:to :cc:subject:date:message-id:reply-to; bh=zxOisNxHD2qOGXCdqCCCxztpNTxKde+CuOl6ytva8dk=; b=VDGpnvk0aziG5ILoGYWWKwMHu71uBprZTzEWC9dKCWJo8reDIulw3NNrheLCF22Dpm IDedmDUMRxEg1g1gFiZWYaQ8t5SuesU+EYe6ENWQkiv2c3utew9kLmAQ2KvxbsxA/atO iwcRD3T6fs1WIKNidFhiKKhtagqJKmGkU6KaQ= X-Google-DKIM-Signature: v=1; a=rsa-sha256; c=relaxed/relaxed; d=1e100.net; s=20230601; t=1738798602; x=1739403402; h=references:in-reply-to:cc:to:from:subject:message-id:date :x-gm-message-state:from:to:cc:subject:date:message-id:reply-to; bh=zxOisNxHD2qOGXCdqCCCxztpNTxKde+CuOl6ytva8dk=; b=o5F/w/+Zp2DyCU1AzjqdSx0pWWsjnK1PTcENHnbVr0RMrH7nsRSVDWdbQgbDR55SAM Lh9D/qjrrIcBFsjiRfqwM+VB9vHVxJeHIIjc3nt2sJcsSWZKTgGzWua1IC6jOe1bNY4u liQSE17i/yMWZ3FS3YCs20hs73VeZVOVZM7S6+JcRe7TOUUPxKQiPfHanKb6FJFguPYP axiepz2L9KWLH/mQQJIN+yAjiF8txlFn3pUEJH99O+w9+kcpyWLE85ygF+cAj+QZyk/K MHBPV0BJsQVSxbuMBJyJAMuyZPZRLhOK/XR100X7Of5y8AbnsxgXjjbSNo2vm5LAXSmJ gzNg== X-Gm-Message-State: AOJu0Yxw6Uve0xiSaE2nvo0eMyedOo/4zs1IHXt9QuefmLA9IhkHWA0a Q10FYUOJ1IPLmoVPiKzQFIft0Jnsdl4ynJ4eZT4aEBiiwxCs4+HEC69iAeP6GKUIdaYX29NBuIq yLfmH3sE6ECL11iU1siygVVvDrV2rJlij9zlbLe9O X-Gm-Gg: ASbGncvQgjw5J3WRliKjh/GwF5/pqcBSaOp4XWq2LA1C5C2jDWQqfRUfhq1EPEYsRSZ S1SelF6dYteQ9o94YYVTM1kD8w2ptSDpacJKPnKOYFd5V9tdi8zzPJSV0gpCLrUxAgmYwQPRgZS 6PGbn6g4F3XRHRro9ry+5A9ouWeMfMiav+3HANWZhVigBJDL+jZaiQQ1eXaz+ixyCgjZKV5gztu yDTr7sCGTDsCkwpYU3haAf8OfM8JO24PYjtC4fza/znrdsHjOoXFqpLAN4N/At30OJC4S0OsVbv BMQQyw8DTNbZn1I8nEN+mQyUKXU0vQ== X-Google-Smtp-Source: AGHT+IHTKDWxV6+zs5RfL/aVeW/4oY0AVFXw9b/bWSDliDum+93Tp3tOv9dsWgGOTIfHdV3iaBCHy2ah+BP3 X-Received: by 2002:a05:6602:7503:b0:834:d7b6:4fea with SMTP id ca18e2360f4ac-854ea440408mr511422839f.6.1738798602204; Wed, 05 Feb 2025 15:36:42 -0800 (PST) Received: from postal.iol.unh.edu (postal.iol.unh.edu. [132.177.123.84]) by smtp-relay.gmail.com with ESMTPS id ca18e2360f4ac-854a18401b5sm88475539f.28.2025.02.05.15.36.42 (version=TLS1_2 cipher=ECDHE-ECDSA-AES128-GCM-SHA256 bits=128/128); Wed, 05 Feb 2025 15:36:42 -0800 (PST) X-Relaying-Domain: iol.unh.edu Date: Wed, 05 Feb 2025 15:36:42 -0800 (PST) Message-ID: <67a3f60a.050a0220.5b6cf.a20eSMTPIN_ADDED_MISSING@mx.google.com> Received: from [172.21.0.5] (unknown [172.18.0.240]) by postal.iol.unh.edu (Postfix) with ESMTP id AC6986052471; Wed, 5 Feb 2025 18:36:41 -0500 (EST) Subject: |SUCCESS| pw150974-150991 [PATCH] [v3,19/19] common/cnxk: fix null p From: dpdklab@iol.unh.edu To: Test Report Cc: dpdk-test-reports@iol.unh.edu In-Reply-To: <20250205162448.161161-20-stephen@networkplumber.org> References: <20250205162448.161161-20-stephen@networkplumber.org> Content-Type: text/plain X-BeenThere: test-report@dpdk.org X-Mailman-Version: 2.1.29 Precedence: list List-Id: automatic DPDK test reports List-Unsubscribe: , List-Archive: List-Post: List-Help: List-Subscribe: , Errors-To: test-report-bounces@dpdk.org Test-Label: iol-compile-amd64-testing Test-Status: SUCCESS http://dpdk.org/patch/150991 _Testing PASS_ Submitter: Stephen Hemminger Date: Wednesday, February 05 2025 16:23:20 DPDK git baseline: Repo:dpdk Branch: master CommitID:32c18e7364e30a8e43cc7cc6709a7ce606fa285e 150974-150991 --> testing pass Upstream job id: Windows-Compile-DPDK-Native#26453 Test environment and result as below: +---------------------+--------------------+-------------------+-------------------------+----------------------+ | Environment | dpdk_meson_compile | dpdk_msvc_compile | dpdk_llvm_clang_compile | dpdk_mingw64_compile | +=====================+====================+===================+=========================+======================+ | FreeBSD 13.4 | PASS | SKIPPED | SKIPPED | SKIPPED | +---------------------+--------------------+-------------------+-------------------------+----------------------+ | FreeBSD 14.2 | PASS | SKIPPED | SKIPPED | SKIPPED | +---------------------+--------------------+-------------------+-------------------------+----------------------+ | Windows Server 2022 | SKIPPED | PASS | PASS | PASS | +---------------------+--------------------+-------------------+-------------------------+----------------------+ FreeBSD 13.4 Kernel: 13.4-RELEASE-p1 Compiler: clang 18.1.6 FreeBSD 14.2 Kernel: 14.2-RELEASE Compiler: clang 18.1.6 Windows Server 2022 Kernel: 10.0.20348.2031 Compiler: clang 15.0.7, gcc 14.1.0 (MinGW), and MSVC VS 19.39.33521 To view detailed results, visit: https://lab.dpdk.org/results/dashboard/patchsets/32501/ UNH-IOL DPDK Community Lab To manage your email subscriptions, visit: https://lab.dpdk.org/results/dashboard/preferences/subscriptions/