From mboxrd@z Thu Jan 1 00:00:00 1970 Return-Path: Received: from mails.dpdk.org (mails.dpdk.org [217.70.189.124]) by inbox.dpdk.org (Postfix) with ESMTP id 56760461A2 for ; Thu, 6 Feb 2025 00:51:47 +0100 (CET) Received: from mails.dpdk.org (localhost [127.0.0.1]) by mails.dpdk.org (Postfix) with ESMTP id 49FC0402A0; Thu, 6 Feb 2025 00:51:47 +0100 (CET) Received: from mail-oo1-f100.google.com (mail-oo1-f100.google.com [209.85.161.100]) by mails.dpdk.org (Postfix) with ESMTP id 2B4414029E for ; Thu, 6 Feb 2025 00:51:45 +0100 (CET) Received: by mail-oo1-f100.google.com with SMTP id 006d021491bc7-5f2dee7d218so159905eaf.2 for ; Wed, 05 Feb 2025 15:51:45 -0800 (PST) DKIM-Signature: v=1; a=rsa-sha256; c=relaxed/relaxed; d=iol.unh.edu; s=unh-iol; t=1738799504; x=1739404304; darn=dpdk.org; h=references:in-reply-to:cc:to:from:subject:message-id:date:from:to :cc:subject:date:message-id:reply-to; bh=3XM+VQFG3RlqL6gzNi6QEw51R9z8xtEQfDV9etK7zSk=; b=YWQpF3BVIouFxoiNruXaDufOS56gphViWifJBZiUVqbrxLehrAoaH9bkOrRsaIrvp+ 01BahKDkN9/I3Bv03UzqjaMMbA26azhTkIMuTutGx+NE/AjhiXypUH836gbo8P7hnxsi E0ZknLk2ndwPPZBpvW34pGh6+jx3zuZ7kWfpM= X-Google-DKIM-Signature: v=1; a=rsa-sha256; c=relaxed/relaxed; d=1e100.net; s=20230601; t=1738799504; x=1739404304; h=references:in-reply-to:cc:to:from:subject:message-id:date :x-gm-message-state:from:to:cc:subject:date:message-id:reply-to; bh=3XM+VQFG3RlqL6gzNi6QEw51R9z8xtEQfDV9etK7zSk=; b=rAIfBWnQfPYcxeGmpVjpM67ePkkwrGqt3rs1Q6fWQws6UKSk3yucIvTMS/QOSR+YGW oOFbPSiVG1osfDxHnpbFJWqwiWAQtPRilXyhLncepdffL2I6F9rgH4npEkMuegBpGyPQ s4ZCr6wAgBE3qSvzT0nmNJm2LY6/9f52X55s4eSff5WruFJ6IQ+G8QBrNGYVjrh0xJAy /nyMkrjuSREK4WAjw/CRF2MjVb1yAWT7bvecYcGN2Kb9hUyYnxDwZMILYDX0UlxAwwaV vn/kED5avveHr/IB9M5lg7hDtYYMt/+tHfgZTH5V6vwg+iULMcKmwUdGBb2jp5tNYtBb 4q6Q== X-Gm-Message-State: AOJu0Yx5yIJR23lMnvUlF8MEIMKU7UCjmr7hgJ+n7KkCoB0a+3YTpWuP QvMBtOjLo7OzRPzs+DClAVrIfzW6uvpSE3tBrlfg2ItmHRzxFkIUDbh0dd13NbG2w4l72B3qFMt mr7g4urRakocOx6/EWJ/JpQz9ipEb3pf1jqniuHBx+buucLLjJ5uTIcnJ X-Gm-Gg: ASbGncsoREsbYLmhy4D715ROuvn75WTZbPATomY5+5wSRJ66zwiU4wiOcIuunFR2MAW hMdzjrll/jMfjEX52JP54i66r8jaTrmFBN6u/bJbdFlFB/U7a8fW3RUVOEt+6v0ExjKxE6zC/fQ egc6fvsb7jtyAyx4zJrVOKj8n6n++CRC1Rrf/g3opJRX3eaB4I+feJJ7dZ1vzd4O4FgeUzM0p34 30q+mo7In3f92s44UiGHPS34qhkdVTAzqRQpNjq/ZoF6uTOAbozT/WJVuURnCtldMrL5zxRxfKc MQuqlewYykGS28CQn1qGPWtz0Rs/M7WPG5GUBrDJdg== X-Google-Smtp-Source: AGHT+IH/YQap8Z+9z11hpdOylb7rRdkzYeAWfoee4ESXJ66ck7gcKUZCQ2hvzD2teYYxgvoAnhKE7GTLQSl6 X-Received: by 2002:a05:6820:1899:b0:5f8:89bd:b99b with SMTP id 006d021491bc7-5fc479ec3f3mr3276208eaf.8.1738799504360; Wed, 05 Feb 2025 15:51:44 -0800 (PST) Received: from postal.iol.unh.edu (postal.iol.unh.edu. [2606:4100:3880:1234::84]) by smtp-relay.gmail.com with ESMTPS id 006d021491bc7-5fc1059602asm220618eaf.24.2025.02.05.15.51.44 (version=TLS1_2 cipher=ECDHE-ECDSA-AES128-GCM-SHA256 bits=128/128); Wed, 05 Feb 2025 15:51:44 -0800 (PST) X-Relaying-Domain: iol.unh.edu Date: Wed, 05 Feb 2025 15:51:44 -0800 (PST) Message-ID: <67a3f990.050a0220.130490.95ccSMTPIN_ADDED_MISSING@mx.google.com> Received: from [172.21.0.5] (unknown [172.18.0.240]) by postal.iol.unh.edu (Postfix) with ESMTP id 5B9DE6052471; Wed, 5 Feb 2025 18:51:43 -0500 (EST) Subject: |SUCCESS| pw150992-151002 [PATCH] [11/11] net/bnxt: address coverity From: dpdklab@iol.unh.edu To: Test Report Cc: dpdk-test-reports@iol.unh.edu In-Reply-To: <20250205172004.50395-12-ajit.khaparde@broadcom.com> References: <20250205172004.50395-12-ajit.khaparde@broadcom.com> Content-Type: text/plain X-BeenThere: test-report@dpdk.org X-Mailman-Version: 2.1.29 Precedence: list List-Id: automatic DPDK test reports List-Unsubscribe: , List-Archive: List-Post: List-Help: List-Subscribe: , Errors-To: test-report-bounces@dpdk.org Test-Label: iol-sample-apps-testing Test-Status: SUCCESS http://dpdk.org/patch/151002 _Testing PASS_ Submitter: Ajit Khaparde Date: Wednesday, February 05 2025 17:20:04 DPDK git baseline: Repo:dpdk Branch: master CommitID:32c18e7364e30a8e43cc7cc6709a7ce606fa285e 150992-151002 --> testing pass Upstream job id: ACVP-FIPS-testing#8793 Test environment and result as below: +--------------------+----------------------+----------------------+ | Environment | compressdev_zlib_pmd | dpdk_fips_validation | +====================+======================+======================+ | Ubuntu 22.04 (ARM) | PASS | SKIPPED | +--------------------+----------------------+----------------------+ | Ubuntu 22.04 | PASS | SKIPPED | +--------------------+----------------------+----------------------+ | Ubuntu 20.04 | SKIPPED | PASS | +--------------------+----------------------+----------------------+ Ubuntu 22.04 (ARM) Kernel: 5.15.0-97-generic Compiler: gcc gcc (Ubuntu 11.4.0-1ubuntu1~22.04) 11.4.0 Ubuntu 22.04 Kernel: 5.15.0-100-generic Compiler: gcc gcc (Ubuntu 11.4.0-1ubuntu1~22.04) 11.4.0 Ubuntu 20.04 Kernel: Depends on container host Compiler: gcc (Ubuntu 9.4.0-1ubuntu1~20.04.2) 9.4.0 To view detailed results, visit: https://lab.dpdk.org/results/dashboard/patchsets/32502/ UNH-IOL DPDK Community Lab To manage your email subscriptions, visit: https://lab.dpdk.org/results/dashboard/preferences/subscriptions/