From mboxrd@z Thu Jan  1 00:00:00 1970
Return-Path: <test-report-bounces@dpdk.org>
Received: from mails.dpdk.org (mails.dpdk.org [217.70.189.124])
	by inbox.dpdk.org (Postfix) with ESMTP id 6C05F461A2
	for <public@inbox.dpdk.org>; Thu,  6 Feb 2025 00:59:27 +0100 (CET)
Received: from mails.dpdk.org (localhost [127.0.0.1])
	by mails.dpdk.org (Postfix) with ESMTP id 48D3F402A0;
	Thu,  6 Feb 2025 00:59:27 +0100 (CET)
Received: from mail-oo1-f100.google.com (mail-oo1-f100.google.com
 [209.85.161.100])
 by mails.dpdk.org (Postfix) with ESMTP id D72A54029E
 for <test-report@dpdk.org>; Thu,  6 Feb 2025 00:59:25 +0100 (CET)
Received: by mail-oo1-f100.google.com with SMTP id
 006d021491bc7-5f4ce54feb8so188577eaf.3
 for <test-report@dpdk.org>; Wed, 05 Feb 2025 15:59:25 -0800 (PST)
DKIM-Signature: v=1; a=rsa-sha256; c=relaxed/relaxed;
 d=iol.unh.edu; s=unh-iol; t=1738799965; x=1739404765; darn=dpdk.org;
 h=references:in-reply-to:cc:to:from:subject:message-id:date:from:to
 :cc:subject:date:message-id:reply-to;
 bh=c6jY3DpKMg4hQ+7QWQJ1Wo8PVa7OzNtCuJnp0yK0MAg=;
 b=Axtz4LZCnPZi+TkXXFYsfOiRezfb7fJmuOeN1jG1OKxY2kFq9Ju6e+SN6GlKmA1tSe
 4jil1A57u0xau6RSonopgAvcW+CiyxC93p5lCnHTjeQVOh2ZxSwkXH7FI58kClC15dOA
 wTuN2rQM62nkdicQIO+vMzQ5LbQK8Cg+g9TUk=
X-Google-DKIM-Signature: v=1; a=rsa-sha256; c=relaxed/relaxed;
 d=1e100.net; s=20230601; t=1738799965; x=1739404765;
 h=references:in-reply-to:cc:to:from:subject:message-id:date
 :x-gm-message-state:from:to:cc:subject:date:message-id:reply-to;
 bh=c6jY3DpKMg4hQ+7QWQJ1Wo8PVa7OzNtCuJnp0yK0MAg=;
 b=DOYf5Iw+tqBCmet9129H7WxS5ArUZT+yG8uEsg3a1zfQ8RQ/RTNo1y8z5uzCDQo1xL
 ow13fNMdxDzlvgHhcI9S1zQZ8Da/OSO2rcPMX4sN0lqxx4fL1eMqpgepxDxBdp7UX1wb
 W1b/OY1oyYIhMf6l/qi1b1WBnUJxB1ldYPJxJckoU110y0/2BliRYtlxZu9p5MxpoUIo
 rS0QlM/dK/B2wpvFZC86JH21VdsrP+Ps0tTGQhQUAhTEfScygpJf0I3DsoPGqd1prEMJ
 i9CBubh2ZwpPuGHQwMsj7y6IvFB9XIkXfkhuThSsxISwBcAJuT5Tf3Kn/D1Lb3iTgkxw
 p7Ow==
X-Gm-Message-State: AOJu0YxbvCCUXtKo+O2S7sQjLKL7UyaKQbvo81bvXBfGF4/xAjnOWgdZ
 Rf43ONH8WVVY6q4s1Ell2pBjUqmk5iwpKzUpzt0b8+dplU89ZAOgq0yikp99WbvMAwom95prn0s
 xAmfh6XuwxZAY+GxZlRQ0r2d+PJxOJYUVScN5vpTiGiiwB4/VSxItxm/R
X-Gm-Gg: ASbGncvhPwwoAQ4JFQI+so0bGhdL2QkIXEDeqn7uNNJFHwAqdwp7wawZPoy0gLHsv5P
 x0jAiAWDYwXmyTVJRoJgVxk/yAK/1Rm+ojG3umI8CIlQVyq9QhpaRROPz8vsplAhBmviPSVSgKx
 VsA327OGIFBSi9DP72M52DlNVPa36MWItR6dHYBCxTdxheBH1o3B+bxWQUaGoyeFSm1NjCre6f2
 gbJOQcv2HIAt6irosfuIE2kepahikxqIV9jRxp7khCHuuLLcR/Dly8FUoRmUKCO1QjC8sHluLMv
 YRKYnynHkWkikWghNpNBwjJCXwOulr7YRElp33epBQ==
X-Google-Smtp-Source: AGHT+IFu2+tFy9l3U/w+xe0D+Bi0l2jpm0G+v1AY8tgRnPll9RAvYKT/ndw+1Da68sPaVW4vBhAbphMTiudM
X-Received: by 2002:a05:6870:9a1b:b0:29e:3c90:148b with SMTP id
 586e51a60fabf-2b8051698d8mr3442832fac.26.1738799964757; 
 Wed, 05 Feb 2025 15:59:24 -0800 (PST)
Received: from postal.iol.unh.edu (postal.iol.unh.edu.
 [2606:4100:3880:1234::84]) by smtp-relay.gmail.com with ESMTPS id
 586e51a60fabf-2b8261dd0e2sm6547fac.25.2025.02.05.15.59.24
 (version=TLS1_2 cipher=ECDHE-ECDSA-AES128-GCM-SHA256 bits=128/128);
 Wed, 05 Feb 2025 15:59:24 -0800 (PST)
X-Relaying-Domain: iol.unh.edu
Date: Wed, 05 Feb 2025 15:59:24 -0800 (PST)
Message-ID: <67a3fb5c.050a0220.2a83f5.063eSMTPIN_ADDED_MISSING@mx.google.com>
Received: from [172.21.0.6] (unknown [172.18.0.240])
 by postal.iol.unh.edu (Postfix) with ESMTP id 3C2FB6052471;
 Wed,  5 Feb 2025 18:59:24 -0500 (EST)
Subject: |SUCCESS| pw151006-151005 [PATCH] [v3,2/2] drivers/net: add MSVC com
From: dpdklab@iol.unh.edu
To: Test Report <test-report@dpdk.org>
Cc: dpdk-test-reports@iol.unh.edu
In-Reply-To: <1738781590-2408-3-git-send-email-andremue@linux.microsoft.com>
References: <1738781590-2408-3-git-send-email-andremue@linux.microsoft.com>
Content-Type: text/plain
X-BeenThere: test-report@dpdk.org
X-Mailman-Version: 2.1.29
Precedence: list
List-Id: automatic DPDK test reports <test-report.dpdk.org>
List-Unsubscribe: <https://mails.dpdk.org/options/test-report>,
 <mailto:test-report-request@dpdk.org?subject=unsubscribe>
List-Archive: <http://mails.dpdk.org/archives/test-report/>
List-Post: <mailto:test-report@dpdk.org>
List-Help: <mailto:test-report-request@dpdk.org?subject=help>
List-Subscribe: <https://mails.dpdk.org/listinfo/test-report>,
 <mailto:test-report-request@dpdk.org?subject=subscribe>
Errors-To: test-report-bounces@dpdk.org

Test-Label: iol-compile-amd64-testing
Test-Status: SUCCESS
http://dpdk.org/patch/151005

_Testing PASS_

Submitter: Andre Muezerie <andremue@linux.microsoft.com>
Date: Wednesday, February 05 2025 18:53:10 
DPDK git baseline: Repo:dpdk
  Branch: master
  CommitID:e595e7b5758fc73d99b810f5a8748f94bd467084

151006-151005 --> testing pass

Upstream job id: Generic-VM-DPDK-Compile-Meson#33068

Test environment and result as below:

+---------------------+-------------------+--------------------+
|     Environment     | dpdk_msvc_compile | dpdk_meson_compile |
+=====================+===================+====================+
| Windows Server 2022 | PASS              | SKIPPED            |
+---------------------+-------------------+--------------------+
| FreeBSD 13.4        | SKIPPED           | PASS               |
+---------------------+-------------------+--------------------+
| FreeBSD 14.2        | SKIPPED           | PASS               |
+---------------------+-------------------+--------------------+


Windows Server 2022
	Kernel: 10.0.20348.2031
	Compiler: clang 15.0.7, gcc 14.1.0 (MinGW), and MSVC VS 19.39.33521

FreeBSD 13.4
	Kernel: 13.4-RELEASE-p1
	Compiler: clang 18.1.6

FreeBSD 14.2
	Kernel: 14.2-RELEASE
	Compiler: clang 18.1.6

To view detailed results, visit:
https://lab.dpdk.org/results/dashboard/patchsets/32504/

UNH-IOL DPDK Community Lab

To manage your email subscriptions, visit: 
https://lab.dpdk.org/results/dashboard/preferences/subscriptions/