From mboxrd@z Thu Jan 1 00:00:00 1970 Return-Path: Received: from mails.dpdk.org (mails.dpdk.org [217.70.189.124]) by inbox.dpdk.org (Postfix) with ESMTP id D9FFF461A2 for ; Thu, 6 Feb 2025 01:03:17 +0100 (CET) Received: from mails.dpdk.org (localhost [127.0.0.1]) by mails.dpdk.org (Postfix) with ESMTP id AF5F5402A0; Thu, 6 Feb 2025 01:03:17 +0100 (CET) Received: from mail-pj1-f100.google.com (mail-pj1-f100.google.com [209.85.216.100]) by mails.dpdk.org (Postfix) with ESMTP id BA95B4029E for ; Thu, 6 Feb 2025 01:03:16 +0100 (CET) Received: by mail-pj1-f100.google.com with SMTP id 98e67ed59e1d1-2f833af7a09so378239a91.2 for ; Wed, 05 Feb 2025 16:03:16 -0800 (PST) DKIM-Signature: v=1; a=rsa-sha256; c=relaxed/relaxed; d=iol.unh.edu; s=unh-iol; t=1738800196; x=1739404996; darn=dpdk.org; h=references:in-reply-to:cc:to:from:subject:message-id:date:from:to :cc:subject:date:message-id:reply-to; bh=Galji/xwii0Li4i4wHCfPYUJC5up3Bc9aNJhUkPWdHA=; b=bAgDcwMCxLjswei0Mihcc8+l1+jSUJ1CekLA7NyIMOyfw+uFucv17MD8fdP5ZIENvB pwyeoRNbv8+/6n6soT0wO/ECpX2kbc1lRyQC9TrLXjQPB3Soot6fcCrSjnTDvGwB+rrZ rHGfAaAlo0CHb5x1fhXMwaz+Q23F6qc2jWhEg= X-Google-DKIM-Signature: v=1; a=rsa-sha256; c=relaxed/relaxed; d=1e100.net; s=20230601; t=1738800196; x=1739404996; h=references:in-reply-to:cc:to:from:subject:message-id:date :x-gm-message-state:from:to:cc:subject:date:message-id:reply-to; bh=Galji/xwii0Li4i4wHCfPYUJC5up3Bc9aNJhUkPWdHA=; b=pmndASri4sP+mx+k8Y6kVJ3zCq1QWp5dDJR+MaxA3pHwOV/wKhBg5UrMYAKopRucxt b4PP2Syvzw2Q34oIeXYOLpVyF6+ehCtDcGlRGLXkCaSnEOE1R3k3zFoOdPlXKTVZK0l9 bqFyTT7xMjARvZpnb3wcxKE2KDFreKFY2u3Dw5qm/dW2Arpy2lFfOGOkZi0yfE7mxjDD /xoVVhFc3vd4H+OGJijTHRfjQC1//BVIKUnXygNML4ykwbdQKj5n1b0ScgxARjtkwl/X wfoLmBJ/MGvJjC95THWs+EUlHwfe9c4LSUG+z7YtxgFlPTGNEWSDTZAHrCObDR2Ik9Pv jHeA== X-Gm-Message-State: AOJu0YwHCXxc6WC7KICaQnpLH229HmIx11ZpeURgazACX7MqecLyMQIi UQOcKB9aZxGfLE3qCEFCyYsVzCCy99q/xZulLaF6it25OHf4LwBb3Y0DLfY+UM6+2EbzcR0VQBR dTRmYeZV2bqA5DfD/xFHw4qy6U22lrdnZSewgPCY2 X-Gm-Gg: ASbGncuCLaZ/N9cp6YleWPALlKjHRYuYFLSZol2liTh53VlRq8lZlwqs9PC8WA7Jzyc qmxbFDUlWPrYituUFTcFhGWATCi4iwcVRZlulJNzM7H9s9bkwprW40X2XNgmPD06Jm5FKh9jNI5 ANtEFaDmr5tH8OMOX6vbyLsDIW+giurj4BKBYpZxi2tr2+SiAUxQRGXcb7Gmx1RbafNq79aZ6TC UJzCPj+Ibg+qkbvm2f+Q1laT62fPxYXt0brZw41bdPl6G6D7RuB2A6UxheDVAI+f4j9r25/xD3c vCNNJOHSQzQjtqJc4LT3nSUnfU84xA== X-Google-Smtp-Source: AGHT+IGVXieHjkISyrrQwRWUzsYiDXhTMxHBKxyHTTYsS4wwt+b1cMXtY87FR9GXjpn1ARYtr0IbRzKymuwN X-Received: by 2002:a17:90b:1d44:b0:2ee:c04a:4281 with SMTP id 98e67ed59e1d1-2f9e0753c6dmr7010816a91.6.1738800195855; Wed, 05 Feb 2025 16:03:15 -0800 (PST) Received: from postal.iol.unh.edu (postal.iol.unh.edu. [132.177.123.84]) by smtp-relay.gmail.com with ESMTPS id 98e67ed59e1d1-2fa09a36fddsm1176a91.6.2025.02.05.16.03.15 (version=TLS1_2 cipher=ECDHE-ECDSA-AES128-GCM-SHA256 bits=128/128); Wed, 05 Feb 2025 16:03:15 -0800 (PST) X-Relaying-Domain: iol.unh.edu Date: Wed, 05 Feb 2025 16:03:15 -0800 (PST) Message-ID: <67a3fc43.170a0220.209688.013eSMTPIN_ADDED_MISSING@mx.google.com> Received: from [172.21.0.9] (unknown [172.18.0.240]) by postal.iol.unh.edu (Postfix) with ESMTP id F0EE66052471; Wed, 5 Feb 2025 19:03:14 -0500 (EST) Subject: |SUCCESS| pw150966-150969 [PATCH] [v4,4/4] net/intel: allow building From: dpdklab@iol.unh.edu To: Test Report Cc: dpdk-test-reports@iol.unh.edu In-Reply-To: <20250205115533.2746196-5-bruce.richardson@intel.com> References: <20250205115533.2746196-5-bruce.richardson@intel.com> Content-Type: text/plain X-BeenThere: test-report@dpdk.org X-Mailman-Version: 2.1.29 Precedence: list List-Id: automatic DPDK test reports List-Unsubscribe: , List-Archive: List-Post: List-Help: List-Subscribe: , Errors-To: test-report-bounces@dpdk.org Test-Label: iol-unit-arm64-testing Test-Status: SUCCESS http://dpdk.org/patch/150969 _Testing PASS_ Submitter: Bruce Richardson Date: Wednesday, February 05 2025 11:55:31 DPDK git baseline: Repo:dpdk Branch: master CommitID:595535be66b103f7ce3ba61939b8013032987404 150966-150969 --> testing pass Upstream job id: Generic-Unit-Test-DPDK#311838 Test environment and result as below: +-----------------------------+----------------+------------------------------+--------------+---------------------------+ | Environment | dpdk_unit_test | cryptodev_sw_snow3g_autotest | lpm_autotest | cryptodev_sw_zuc_autotest | +=============================+================+==============================+==============+===========================+ | Fedora 41 (ARM) | PASS | SKIPPED | SKIPPED | SKIPPED | +-----------------------------+----------------+------------------------------+--------------+---------------------------+ | Debian 12 (arm) | PASS | PASS | SKIPPED | PASS | +-----------------------------+----------------+------------------------------+--------------+---------------------------+ | Debian 11 (Buster) (ARM) | PASS | SKIPPED | SKIPPED | SKIPPED | +-----------------------------+----------------+------------------------------+--------------+---------------------------+ | CentOS Stream 9 (ARM) | PASS | SKIPPED | SKIPPED | SKIPPED | +-----------------------------+----------------+------------------------------+--------------+---------------------------+ | Fedora 41 (ARM Clang) | PASS | SKIPPED | SKIPPED | SKIPPED | +-----------------------------+----------------+------------------------------+--------------+---------------------------+ | Fedora 40 (ARM Clang) | PASS | SKIPPED | SKIPPED | SKIPPED | +-----------------------------+----------------+------------------------------+--------------+---------------------------+ | Fedora 40 (ARM) | PASS | SKIPPED | SKIPPED | SKIPPED | +-----------------------------+----------------+------------------------------+--------------+---------------------------+ | Ubuntu 24.04 (ARM) | PASS | SKIPPED | SKIPPED | SKIPPED | +-----------------------------+----------------+------------------------------+--------------+---------------------------+ | Ubuntu 22.04 (ARM) | PASS | SKIPPED | SKIPPED | SKIPPED | +-----------------------------+----------------+------------------------------+--------------+---------------------------+ | Ubuntu 20.04 (ARM) | PASS | SKIPPED | SKIPPED | SKIPPED | +-----------------------------+----------------+------------------------------+--------------+---------------------------+ | RHEL9 (ARM) | PASS | SKIPPED | SKIPPED | SKIPPED | +-----------------------------+----------------+------------------------------+--------------+---------------------------+ | 32-bit Ubuntu 22.04.4 (ARM) | PASS | SKIPPED | SKIPPED | SKIPPED | +-----------------------------+----------------+------------------------------+--------------+---------------------------+ | Ubuntu 20.04 ARM SVE | SKIPPED | SKIPPED | PASS | SKIPPED | +-----------------------------+----------------+------------------------------+--------------+---------------------------+ Fedora 41 (ARM) Kernel: Depends on container host Compiler: gcc 14.2.1 20240912 (Red Hat 14.2.1-3) Debian 12 (arm) Kernel: Depends on container host Compiler: gcc (Debian 12.2.0-14) 12.2.0 Debian 11 (Buster) (ARM) Kernel: Depends on container host Compiler: gcc (Debian 10.2.1-6) 10.2.1 20210110 CentOS Stream 9 (ARM) Kernel: Depends on container host Compiler: gcc 11.5.0 20240719 (Red Hat 11.5.0-2) Fedora 41 (ARM Clang) Kernel: Depends on container host Compiler: clang 19.1.5 (Fedora 19.1.5-1.fc41) Fedora 40 (ARM Clang) Kernel: Depends on container host Compiler: clang 18.1.8 (Fedora 18.1.8-1.fc40) Fedora 40 (ARM) Kernel: Depends on container host Compiler: gcc 14.2.1 20240912 (Red Hat 14.2.1-3) Ubuntu 24.04 (ARM) Kernel: Depends on container host Compiler: gcc (Ubuntu 13.3.0-6ubuntu2~24.04) 13.3.0 Ubuntu 22.04 (ARM) Kernel: Depends on container host Compiler: gcc (Ubuntu 11.4.0-1ubuntu1~22.04) 11.4.0 Ubuntu 20.04 (ARM) Kernel: Depends on container host Compiler: gcc (Ubuntu 9.4.0-1ubuntu1~20.04.2) 9.4.0 RHEL9 (ARM) Kernel: Depends on container host Compiler: gcc 11.5.0 20240719 (Red Hat 11.5.0-2) 32-bit Ubuntu 22.04.4 (ARM) Kernel: 5.15.83+ aarch64 Compiler: gcc (Ubuntu 11.4.0-1ubuntu1~22.04) 11.4.0 Ubuntu 20.04 ARM SVE Kernel: Depends on container host Compiler: gcc (Ubuntu 10.5.0-1ubuntu1~20.04) 10.5.0 To view detailed results, visit: https://lab.dpdk.org/results/dashboard/patchsets/32497/ UNH-IOL DPDK Community Lab To manage your email subscriptions, visit: https://lab.dpdk.org/results/dashboard/preferences/subscriptions/