From mboxrd@z Thu Jan 1 00:00:00 1970 Return-Path: Received: from mails.dpdk.org (mails.dpdk.org [217.70.189.124]) by inbox.dpdk.org (Postfix) with ESMTP id 46184461A2 for ; Thu, 6 Feb 2025 01:09:39 +0100 (CET) Received: from mails.dpdk.org (localhost [127.0.0.1]) by mails.dpdk.org (Postfix) with ESMTP id 1F8234067E; Thu, 6 Feb 2025 01:09:39 +0100 (CET) Received: from mail-oa1-f98.google.com (mail-oa1-f98.google.com [209.85.160.98]) by mails.dpdk.org (Postfix) with ESMTP id 6626040689 for ; Thu, 6 Feb 2025 01:09:36 +0100 (CET) Received: by mail-oa1-f98.google.com with SMTP id 586e51a60fabf-2aa17010cbcso203856fac.3 for ; Wed, 05 Feb 2025 16:09:36 -0800 (PST) DKIM-Signature: v=1; a=rsa-sha256; c=relaxed/relaxed; d=iol.unh.edu; s=unh-iol; t=1738800575; x=1739405375; darn=dpdk.org; h=references:in-reply-to:cc:to:from:subject:message-id:date:from:to :cc:subject:date:message-id:reply-to; bh=R1s9IleRid/luryDddSMRRPsgLs/QYZKGLtS13PAjAc=; b=DchqnHo9Y0jDaIG2o9wlF1wMtlKDbjRdV3XfPogajT9RWKBPnxgT9BQR6W6xQGb18L Hrh7WZLslMP9ONWlQBX5VfrTDCt0IUr5T5NtcaXOtkiHBfr3lyQXUYhnMRCD3SdKkDjT LDp46vvY3+d2sXoj6u4oapbdnLO+41PGYmA6o= X-Google-DKIM-Signature: v=1; a=rsa-sha256; c=relaxed/relaxed; d=1e100.net; s=20230601; t=1738800575; x=1739405375; h=references:in-reply-to:cc:to:from:subject:message-id:date :x-gm-message-state:from:to:cc:subject:date:message-id:reply-to; bh=R1s9IleRid/luryDddSMRRPsgLs/QYZKGLtS13PAjAc=; b=xMDspcHMsYbdhYyUAXPJIgBjS48scNuiiqlmpjoJEgRG/JPT8LWriJmpdXoH4Bw0PY R85Fw1DsT+axQeiW6rlgmdeU/3cFu1+eoaPVfGCjFrmtGGTvQfqRJf5aclTAqeQzmHRC Uyy8dKdpognknJK061SA3abVkiiByFd8LvHLwopSe1wvri3GUejpQPV7rbgIC4qVJ631 vey/zX40mql1iXV7b6QVobLxmlh6rUROCgdgM8rgPD+Bg1kd+7Jh0raGiUxWrugvpNlB +cyrrZ+Zis9jDh/vDpl7TRETivW4PSKDogioY25xdtQuqL3PGGc7Qt+0lApr+6JfGtHO ezbw== X-Gm-Message-State: AOJu0Yyv5qKxD5zSGEOHll4686+2KRuH+o2A07HR/qFUtCXagkUsgUBA ylk/op2bbdJEG+xemJ/9FI8wcoCSWXmk2h1adttVgrSX4I2AZyX4zOuNGKNwsDlUqW97YPizNyd v40JJzYQWVaFfR5H+AjQbmpM/EEI/P/LEpYiZuJeOpBL37ea/OAmfxFmN X-Gm-Gg: ASbGncvholNXbRwLowLPv44/n6Svp6L2/3m+z3VNOI3bOMxm9ppkDE/GLlCvpXtmJmT +Hzb4tHdNOZ/o78ti3i8dJV5WA2X0z58CznGaOqQeXJbTHb/nzFhqYiWuVpYCtpK104wPtRTeUy UZx7Dc2K+UnuKL+PXx7pgrom0MlMunHD23+Go2BugZa0D0KvyUE9Hj5lyfH9gpGIUzVHvd+DVBC OxFMOI2dTS6SAtKtv+ztpd8jP9oYMGjMys6+eA4NmNK3g7ZEtyUUZhRi7FuWcDIAZxkOnDkLnSO Ln/uM0YpWI5Ci10ZlRDm2ac/smqFN4jeyuqPcx3Iag== X-Google-Smtp-Source: AGHT+IHgHhtyHEY5kTC9eTnGaciYnA76YwfQfI0NRsuYvO7DavFUw8XlnQj9ixVpqtPpb2LVz/3MopYcojeB X-Received: by 2002:a05:6871:b08:b0:29e:5dfd:1e17 with SMTP id 586e51a60fabf-2b804fda0f5mr2972503fac.23.1738800575594; Wed, 05 Feb 2025 16:09:35 -0800 (PST) Received: from postal.iol.unh.edu (postal.iol.unh.edu. [2606:4100:3880:1234::84]) by smtp-relay.gmail.com with ESMTPS id 586e51a60fabf-2b826019900sm8563fac.22.2025.02.05.16.09.35 (version=TLS1_2 cipher=ECDHE-ECDSA-AES128-GCM-SHA256 bits=128/128); Wed, 05 Feb 2025 16:09:35 -0800 (PST) X-Relaying-Domain: iol.unh.edu Date: Wed, 05 Feb 2025 16:09:35 -0800 (PST) Message-ID: <67a3fdbf.050a0220.bc47c.081dSMTPIN_ADDED_MISSING@mx.google.com> Received: from [172.21.0.5] (unknown [172.18.0.240]) by postal.iol.unh.edu (Postfix) with ESMTP id 089836052471; Wed, 5 Feb 2025 19:09:35 -0500 (EST) Subject: |SUCCESS| pw150974-150991 [PATCH] [v3,19/19] common/cnxk: fix null p From: dpdklab@iol.unh.edu To: Test Report Cc: dpdk-test-reports@iol.unh.edu In-Reply-To: <20250205162448.161161-20-stephen@networkplumber.org> References: <20250205162448.161161-20-stephen@networkplumber.org> Content-Type: text/plain X-BeenThere: test-report@dpdk.org X-Mailman-Version: 2.1.29 Precedence: list List-Id: automatic DPDK test reports List-Unsubscribe: , List-Archive: List-Post: List-Help: List-Subscribe: , Errors-To: test-report-bounces@dpdk.org Test-Label: iol-unit-amd64-testing Test-Status: SUCCESS http://dpdk.org/patch/150991 _Testing PASS_ Submitter: Stephen Hemminger Date: Wednesday, February 05 2025 16:23:20 DPDK git baseline: Repo:dpdk Branch: master CommitID:32c18e7364e30a8e43cc7cc6709a7ce606fa285e 150974-150991 --> testing pass Upstream job id: Generic-Unit-Test-DPDK#311935 Test environment and result as below: +---------------------+----------------+ | Environment | dpdk_unit_test | +=====================+================+ | CentOS Stream 9 | PASS | +---------------------+----------------+ | Debian Bullseye | PASS | +---------------------+----------------+ | Debian 12 | PASS | +---------------------+----------------+ | Fedora 40 | PASS | +---------------------+----------------+ | Fedora 40 (Clang) | PASS | +---------------------+----------------+ | RHEL9 | PASS | +---------------------+----------------+ | Fedora 41 | PASS | +---------------------+----------------+ | Ubuntu 20.04 | PASS | +---------------------+----------------+ | Fedora 41 (Clang) | PASS | +---------------------+----------------+ | RHEL8 | PASS | +---------------------+----------------+ | Ubuntu 22.04 | PASS | +---------------------+----------------+ | Ubuntu 24.04 | PASS | +---------------------+----------------+ | Windows Server 2022 | PASS | +---------------------+----------------+ CentOS Stream 9 Kernel: Depends on container host Compiler: gcc 11.5.0 20240719 (Red Hat 11.5.0-2) Debian Bullseye Kernel: Depends on container host Compiler: gcc (Debian 10.2.1-6) 10.2.1 20210110 Debian 12 Kernel: Depends on container host Compiler: gcc (Debian 12.2.0-14) 12.2.0 Fedora 40 Kernel: Depends on container host Compiler: gcc 14.2.1 20240912 (Red Hat 14.2.1-3) Fedora 40 (Clang) Kernel: Depends on container host Compiler: clang 18.1.8 (Fedora 18.1.8-1.fc40) RHEL9 Kernel: Depends on container host Compiler: gcc 11.5.0 20240719 (Red Hat 11.5.0-2) Fedora 41 Kernel: Depends on container host Compiler: gcc 14.2.1 20240912 (Red Hat 14.2.1-3) Ubuntu 20.04 Kernel: Depends on container host Compiler: gcc (Ubuntu 9.4.0-1ubuntu1~20.04.2) 9.4.0 Fedora 41 (Clang) Kernel: Depends on container host Compiler: clang 19.1.5 (Fedora 19.1.5-1.fc41) RHEL8 Kernel: Depends on container host Compiler: gcc 8.5.0 20210514 (Red Hat 8.5.0-22) Ubuntu 22.04 Kernel: Depends on container host Compiler: gcc (Ubuntu 11.4.0-1ubuntu1~22.04) 11.4.0 Ubuntu 24.04 Kernel: Depends on container host Compiler: gcc (Ubuntu 13.3.0-6ubuntu2~24.04) 13.3.0 Windows Server 2022 Kernel: 10.0.20348.2031 Compiler: clang 15.0.7, gcc 14.1.0 (MinGW), and MSVC VS 19.39.33521 To view detailed results, visit: https://lab.dpdk.org/results/dashboard/patchsets/32501/ UNH-IOL DPDK Community Lab To manage your email subscriptions, visit: https://lab.dpdk.org/results/dashboard/preferences/subscriptions/