From mboxrd@z Thu Jan 1 00:00:00 1970 Return-Path: Received: from mails.dpdk.org (mails.dpdk.org [217.70.189.124]) by inbox.dpdk.org (Postfix) with ESMTP id 2A588461A2 for ; Thu, 6 Feb 2025 01:14:15 +0100 (CET) Received: from mails.dpdk.org (localhost [127.0.0.1]) by mails.dpdk.org (Postfix) with ESMTP id 272C3402A0; Thu, 6 Feb 2025 01:14:15 +0100 (CET) Received: from mail-oa1-f98.google.com (mail-oa1-f98.google.com [209.85.160.98]) by mails.dpdk.org (Postfix) with ESMTP id 15BEB4029E for ; Thu, 6 Feb 2025 01:14:14 +0100 (CET) Received: by mail-oa1-f98.google.com with SMTP id 586e51a60fabf-2aa17010cbcso206079fac.3 for ; Wed, 05 Feb 2025 16:14:14 -0800 (PST) DKIM-Signature: v=1; a=rsa-sha256; c=relaxed/relaxed; d=iol.unh.edu; s=unh-iol; t=1738800853; x=1739405653; darn=dpdk.org; h=references:in-reply-to:cc:to:from:subject:message-id:date:from:to :cc:subject:date:message-id:reply-to; bh=b9BGLbxFMvEocBHfjxyARzIlVd9I1DgkOqopH2TssZQ=; b=Za/+JD9doC7ryjroxaHaWwtu8gmFfgsAWdDT4KfHHhGBoig3tbh/ee5OFhKOJby/Hn RQepn8UpARcFdKXsrMM49tmx5nvGA5mvqHU8QqkyBMz2y9usCc8eJ9wQBeHXmN3iYeCh Sx9qHRzWkCRoRkto3X9bMqbcFNs9VHqKzp3i8= X-Google-DKIM-Signature: v=1; a=rsa-sha256; c=relaxed/relaxed; d=1e100.net; s=20230601; t=1738800853; x=1739405653; h=references:in-reply-to:cc:to:from:subject:message-id:date :x-gm-message-state:from:to:cc:subject:date:message-id:reply-to; bh=b9BGLbxFMvEocBHfjxyARzIlVd9I1DgkOqopH2TssZQ=; b=PIldCUjczOV+R58Y79WwlV+0R8Xe8C2icpyhja2qsWzpsT1e7RtbU9BopjHK/v8xwP EpCgXlnE+o9ctfyAtr/WPPVXd10tZV8RDkNDukx6To1+qw6bG+WIxJchd1gN3zZGxMdp 5RQaCG1oTD6cwBWK7tOdITgY3hWysOgPOtD7JQ9vlbSUutDOvklZEFio3jlLMb6vRpTO tSFoHay7D1nCY38yErK0i5H4x2J4gPR4+5y/hukXAKn53hgYwrpFRof8heH/3gwLxPlg nLkZR+DM9WoEi0SrEa3HIIP8m9CHh8HGEEbN/T1RMbVa0QALp6AIxPDu911XZEwhlkSs AXdA== X-Gm-Message-State: AOJu0YzlssxNBD/kpRWwbPOa8JGcUhEYvtAivmseWhGQcgPm6UB8RsnR BaeSU7zjYm0thsY+a05c55f+YRuRAiRbTTbRMLIoP7TxDeJ5SdHNjaQrDM3nxKorPfNU1Jw3rNm d0059RG4LteX6b7Hc5AiAAyQ2TTmSZvoUCYwTZ2xJ X-Gm-Gg: ASbGncsDA//Io5kKqo0/mGAo5VizS4T5WJOYSFW7dRVfYfMEAR7o72HrQIvMYpIXDpR 7dPjYlw7CO3v5ktqiKGXVzMXhLUTX0PVJLX2RGK5eK1nz4ButA8cwdjo/I9WtUl34cG8HDbW6f9 LDqgf4BSqFIb8TM9csd/GoTYYSDFmkxupsF2s5PJv9JFpt4bWqKkgzayhucHir8v+vpJ+K4WYNS 57nCdgDnEh50cl6fog56AXVfQsT/kFwqkD/BUgyzqByYmiP8dJAc58lDswAnVmH+EVTQF9FKYBC 98Zy0nNcTMGUWrlIZnArZxb8M5zMpg== X-Google-Smtp-Source: AGHT+IEczXuya9ef5hRPoHZkTuFg/tCOiIVa8qpLxFiYnW1xh82Zq5FN0qh3vHd/h1kvDD8ILWgmuWuEMB+j X-Received: by 2002:a05:6870:7992:b0:29e:7606:7e72 with SMTP id 586e51a60fabf-2b804f687abmr3361864fac.13.1738800853269; Wed, 05 Feb 2025 16:14:13 -0800 (PST) Received: from postal.iol.unh.edu (postal.iol.unh.edu. [132.177.123.84]) by smtp-relay.gmail.com with ESMTPS id 586e51a60fabf-2b825fc752bsm9185fac.14.2025.02.05.16.14.13 (version=TLS1_2 cipher=ECDHE-ECDSA-AES128-GCM-SHA256 bits=128/128); Wed, 05 Feb 2025 16:14:13 -0800 (PST) X-Relaying-Domain: iol.unh.edu Date: Wed, 05 Feb 2025 16:14:13 -0800 (PST) Message-ID: <67a3fed5.050a0220.4dfbc.093dSMTPIN_ADDED_MISSING@mx.google.com> Received: from [172.21.0.5] (unknown [172.18.0.240]) by postal.iol.unh.edu (Postfix) with ESMTP id B957A6052471; Wed, 5 Feb 2025 19:14:12 -0500 (EST) Subject: |SUCCESS| pw150932-150965 [PATCH] [v2,34/34] net/ntnic: remove tag E From: dpdklab@iol.unh.edu To: Test Report Cc: dpdk-test-reports@iol.unh.edu In-Reply-To: <20250205104548.1533554-35-sil-plv@napatech.com> References: <20250205104548.1533554-35-sil-plv@napatech.com> Content-Type: text/plain X-BeenThere: test-report@dpdk.org X-Mailman-Version: 2.1.29 Precedence: list List-Id: automatic DPDK test reports List-Unsubscribe: , List-Archive: List-Post: List-Help: List-Subscribe: , Errors-To: test-report-bounces@dpdk.org Test-Label: iol-compile-arm64-testing Test-Status: SUCCESS http://dpdk.org/patch/150965 _Testing PASS_ Submitter: Serhii Iliushyk Date: Wednesday, February 05 2025 10:45:43 DPDK git baseline: Repo:dpdk Branch: master CommitID:dc4ce7c2538b713e16887eb598da309bc7b4d528 150932-150965 --> testing pass Upstream job id: Generic-DPDK-Compile-Meson#358031 Test environment and result as below: +----------------------------------------+--------------------+ | Environment | dpdk_meson_compile | +========================================+====================+ | RHEL9 (ARM) | PASS | +----------------------------------------+--------------------+ | Ubuntu 20.04 ARM GCC Cross Compile | PASS | +----------------------------------------+--------------------+ | Ubuntu 20.04 ARM SVE | PASS | +----------------------------------------+--------------------+ | Debian 12 with MUSDK | PASS | +----------------------------------------+--------------------+ | Fedora 40 (ARM) | PASS | +----------------------------------------+--------------------+ | Fedora 40 (ARM Clang) | PASS | +----------------------------------------+--------------------+ | Fedora 41 (ARM) | PASS | +----------------------------------------+--------------------+ | Fedora 41 (ARM Clang) | PASS | +----------------------------------------+--------------------+ | Ubuntu 20.04 (ARM) | PASS | +----------------------------------------+--------------------+ | Ubuntu 22.04 (ARM) | PASS | +----------------------------------------+--------------------+ | Ubuntu 24.04 (ARM) | PASS | +----------------------------------------+--------------------+ | CentOS Stream 9 (ARM) | PASS | +----------------------------------------+--------------------+ | Debian 11 (Buster) (ARM) | PASS | +----------------------------------------+--------------------+ | Ubuntu 20.04 ARM Clang Cross Compile | PASS | +----------------------------------------+--------------------+ | Ubuntu 20.04 aarch32 GCC Cross Compile | PASS | +----------------------------------------+--------------------+ | Debian 12 (arm) | PASS | +----------------------------------------+--------------------+ RHEL9 (ARM) Kernel: Depends on container host Compiler: gcc 11.5.0 20240719 (Red Hat 11.5.0-2) Ubuntu 20.04 ARM GCC Cross Compile Kernel: Depends on container host Compiler: aarch64-linux-gnu-gcc (Ubuntu 9.4.0-1ubuntu1~20.04.2) 9.4.0 Ubuntu 20.04 ARM SVE Kernel: Depends on container host Compiler: gcc (Ubuntu 10.5.0-1ubuntu1~20.04) 10.5.0 Debian 12 with MUSDK Kernel: Depends on container host Compiler: gcc (Debian 12.2.0-14) 12.2.0 Fedora 40 (ARM) Kernel: Depends on container host Compiler: gcc 14.2.1 20240912 (Red Hat 14.2.1-3) Fedora 40 (ARM Clang) Kernel: Depends on container host Compiler: clang 18.1.8 (Fedora 18.1.8-1.fc40) Fedora 41 (ARM) Kernel: Depends on container host Compiler: gcc 14.2.1 20240912 (Red Hat 14.2.1-3) Fedora 41 (ARM Clang) Kernel: Depends on container host Compiler: clang 19.1.5 (Fedora 19.1.5-1.fc41) Ubuntu 20.04 (ARM) Kernel: Depends on container host Compiler: gcc (Ubuntu 9.4.0-1ubuntu1~20.04.2) 9.4.0 Ubuntu 22.04 (ARM) Kernel: Depends on container host Compiler: gcc (Ubuntu 11.4.0-1ubuntu1~22.04) 11.4.0 Ubuntu 24.04 (ARM) Kernel: Depends on container host Compiler: gcc (Ubuntu 13.3.0-6ubuntu2~24.04) 13.3.0 CentOS Stream 9 (ARM) Kernel: Depends on container host Compiler: gcc 11.5.0 20240719 (Red Hat 11.5.0-2) Debian 11 (Buster) (ARM) Kernel: Depends on container host Compiler: gcc (Debian 10.2.1-6) 10.2.1 20210110 Ubuntu 20.04 ARM Clang Cross Compile Kernel: Depends on container host Compiler: clang 10.0.0-4ubuntu1 Ubuntu 20.04 aarch32 GCC Cross Compile Kernel: Depends on container host Compiler: gcc 9.4.0 Debian 12 (arm) Kernel: Depends on container host Compiler: gcc (Debian 12.2.0-14) 12.2.0 To view detailed results, visit: https://lab.dpdk.org/results/dashboard/patchsets/32496/ UNH-IOL DPDK Community Lab To manage your email subscriptions, visit: https://lab.dpdk.org/results/dashboard/preferences/subscriptions/