From mboxrd@z Thu Jan 1 00:00:00 1970 Return-Path: Received: from mails.dpdk.org (mails.dpdk.org [217.70.189.124]) by inbox.dpdk.org (Postfix) with ESMTP id 38A85461A2 for ; Thu, 6 Feb 2025 01:33:47 +0100 (CET) Received: from mails.dpdk.org (localhost [127.0.0.1]) by mails.dpdk.org (Postfix) with ESMTP id 0F482402A0; Thu, 6 Feb 2025 01:33:47 +0100 (CET) Received: from mail-il1-f226.google.com (mail-il1-f226.google.com [209.85.166.226]) by mails.dpdk.org (Postfix) with ESMTP id CF7024029E for ; Thu, 6 Feb 2025 01:33:45 +0100 (CET) Received: by mail-il1-f226.google.com with SMTP id e9e14a558f8ab-3d04721eb72so2393405ab.3 for ; Wed, 05 Feb 2025 16:33:45 -0800 (PST) DKIM-Signature: v=1; a=rsa-sha256; c=relaxed/relaxed; d=iol.unh.edu; s=unh-iol; t=1738802025; x=1739406825; darn=dpdk.org; h=references:in-reply-to:cc:to:from:subject:message-id:date:from:to :cc:subject:date:message-id:reply-to; bh=N6v7zFJhKWLUl2O40gHWKIMzR9rUGURwmEiVj44syxY=; b=cOTiMqD9oaE0xJ+s2I7uFJlTRKfnJeAL6KshmSRVLnuJDgdQKAuBBEMqdIKkA80VMi Iu5hNtlaEFVgXhoOzcIWu40UzukhbcZ4nEHp2h5LjtFFxEcz8mKiaXJBXAZisrpegFb1 SG0sghkPIBxDMrsPHe/l/jquX8+kJcOvCsxlw= X-Google-DKIM-Signature: v=1; a=rsa-sha256; c=relaxed/relaxed; d=1e100.net; s=20230601; t=1738802025; x=1739406825; h=references:in-reply-to:cc:to:from:subject:message-id:date :x-gm-message-state:from:to:cc:subject:date:message-id:reply-to; bh=N6v7zFJhKWLUl2O40gHWKIMzR9rUGURwmEiVj44syxY=; b=uGQjzraLTYhEYMTDYshwpInyjLxEJBovFTAzaKUIyoF7a9TGnv6DR9HT+HWNYqAd2T RD1dimYO69z/PHCHzLdJWLzo0ROzZERa2ffkiVfM5ksKzk3oy5QaAuovVBI3dhWSxNsK GGButRNOqKYSnSXpfWUALCcjbvkCV2Ylf7q7VDnPUG2LTg62jM7wKQcYaatb7lc9bWYh GEGjRdy3x9k97M43y9fwtRsPSndJA8+E3CW2hnRXKNERajwmjCqxkw2D4UrL0f1PBjZH NmhpimJ4nNctdkZ3YbJf5QHiXUMDT2/lhQE6Mg3Zmdtakz5DEZdsGN4B75LF72JjrErw 9Sog== X-Gm-Message-State: AOJu0YxAywlB7vW18vdpTuFconC6aORVJBG06yeBknLLtQt3Ts7ReiXH MMwSn72sV6E0zIQSnewRB5CLxjQgd6l9DkODYrgaiVHfOBikjIJZRmmzm8lx2rtgfWbGM9qriUK R18XQnxqsciC/84nHMTyx2z8wpa1vYWRmUXYqGUFjImnqXZ2Rpb2l9CTZ X-Gm-Gg: ASbGnctpiuQOCk9I32+EKXvzb0JDYD7SMsv2kdV8Zwq2SRv9kbdQTvosg84HL1PKLfc L6iEsdbM7LIuUJtHAAxlkBgjWnZOw4bkLnn1M0vT7VRvE2FzPKoMtMdtKWjVps2WCCWwRpQId7S ZsGs3Bm95Y6HUuQapQFEPDdFcU1X5z7fNQBF5ZVstDdDmiWzijW5OCoYbyFJAr5ZjYT1DV3qbJ1 NiG+/1jQyoSwdWjZejO5WVVBO6j+zoxytAlgxdqA5MWVreLh+aeOnsYMS5FJaxutVOtC4jW6lSk tPudCK7W95qJyUkeR+KtedZ5PGVf1cjk+3gg2p5tGg== X-Google-Smtp-Source: AGHT+IEytA5lZt0L8YRkrf8xz2FrzvuMyTZPEhb8XDm+OARFUBPmkbWiK7uBXp4SpRvCrZvLrV6ArMqL4pit X-Received: by 2002:a05:6e02:164c:b0:3d0:4b3d:75ce with SMTP id e9e14a558f8ab-3d04f8f6c74mr45878685ab.17.1738802025151; Wed, 05 Feb 2025 16:33:45 -0800 (PST) Received: from postal.iol.unh.edu (postal.iol.unh.edu. [2606:4100:3880:1234::84]) by smtp-relay.gmail.com with ESMTPS id e9e14a558f8ab-3d05e8da749sm5375ab.4.2025.02.05.16.33.45 (version=TLS1_2 cipher=ECDHE-ECDSA-AES128-GCM-SHA256 bits=128/128); Wed, 05 Feb 2025 16:33:45 -0800 (PST) X-Relaying-Domain: iol.unh.edu Date: Wed, 05 Feb 2025 16:33:45 -0800 (PST) Message-ID: <67a40369.050a0220.27bd31.0086SMTPIN_ADDED_MISSING@mx.google.com> Received: from [172.21.0.7] (unknown [172.18.0.240]) by postal.iol.unh.edu (Postfix) with ESMTP id A5A346052471; Wed, 5 Feb 2025 19:33:44 -0500 (EST) Subject: |SUCCESS| pw150974-150991 [PATCH] [v3,19/19] common/cnxk: fix null p From: dpdklab@iol.unh.edu To: Test Report Cc: dpdk-test-reports@iol.unh.edu In-Reply-To: <20250205162448.161161-20-stephen@networkplumber.org> References: <20250205162448.161161-20-stephen@networkplumber.org> Content-Type: text/plain X-BeenThere: test-report@dpdk.org X-Mailman-Version: 2.1.29 Precedence: list List-Id: automatic DPDK test reports List-Unsubscribe: , List-Archive: List-Post: List-Help: List-Subscribe: , Errors-To: test-report-bounces@dpdk.org Test-Label: iol-abi-testing Test-Status: SUCCESS http://dpdk.org/patch/150991 _Testing PASS_ Submitter: Stephen Hemminger Date: Wednesday, February 05 2025 16:23:20 DPDK git baseline: Repo:dpdk Branch: master CommitID:32c18e7364e30a8e43cc7cc6709a7ce606fa285e 150974-150991 --> testing pass Upstream job id: Generic-DPDK-Compile-ABI#114928 Test environment and result as below: +-------------------+----------+ | Environment | abi_test | +===================+==========+ | CentOS Stream 9 | PASS | +-------------------+----------+ | Debian 12 | PASS | +-------------------+----------+ | Debian Bullseye | PASS | +-------------------+----------+ | Fedora 41 | PASS | +-------------------+----------+ | openSUSE Leap 15 | PASS | +-------------------+----------+ | Fedora 40 (Clang) | PASS | +-------------------+----------+ | Fedora 40 | PASS | +-------------------+----------+ | RHEL8 | PASS | +-------------------+----------+ | RHEL9 | PASS | +-------------------+----------+ | Ubuntu 22.04 | PASS | +-------------------+----------+ | Ubuntu 24.04 | PASS | +-------------------+----------+ | Fedora 41 (Clang) | PASS | +-------------------+----------+ CentOS Stream 9 Kernel: Depends on container host Compiler: gcc 11.5.0 20240719 (Red Hat 11.5.0-2) Debian 12 Kernel: Depends on container host Compiler: gcc (Debian 12.2.0-14) 12.2.0 Debian Bullseye Kernel: Depends on container host Compiler: gcc (Debian 10.2.1-6) 10.2.1 20210110 Fedora 41 Kernel: Depends on container host Compiler: gcc 14.2.1 20240912 (Red Hat 14.2.1-3) openSUSE Leap 15 Kernel: Depends on container host Compiler: gcc (SUSE Linux) 7.5.0 Fedora 40 (Clang) Kernel: Depends on container host Compiler: clang 18.1.8 (Fedora 18.1.8-1.fc40) Fedora 40 Kernel: Depends on container host Compiler: gcc 14.2.1 20240912 (Red Hat 14.2.1-3) RHEL8 Kernel: Depends on container host Compiler: gcc 8.5.0 20210514 (Red Hat 8.5.0-22) RHEL9 Kernel: Depends on container host Compiler: gcc 11.5.0 20240719 (Red Hat 11.5.0-2) Ubuntu 22.04 Kernel: Depends on container host Compiler: gcc (Ubuntu 11.4.0-1ubuntu1~22.04) 11.4.0 Ubuntu 24.04 Kernel: Depends on container host Compiler: gcc (Ubuntu 13.3.0-6ubuntu2~24.04) 13.3.0 Fedora 41 (Clang) Kernel: Depends on container host Compiler: clang 19.1.5 (Fedora 19.1.5-1.fc41) To view detailed results, visit: https://lab.dpdk.org/results/dashboard/patchsets/32501/ UNH-IOL DPDK Community Lab To manage your email subscriptions, visit: https://lab.dpdk.org/results/dashboard/preferences/subscriptions/