From mboxrd@z Thu Jan 1 00:00:00 1970 Return-Path: Received: from mails.dpdk.org (mails.dpdk.org [217.70.189.124]) by inbox.dpdk.org (Postfix) with ESMTP id 59E4C461A2 for ; Thu, 6 Feb 2025 01:34:13 +0100 (CET) Received: from mails.dpdk.org (localhost [127.0.0.1]) by mails.dpdk.org (Postfix) with ESMTP id 3CEE2402A0; Thu, 6 Feb 2025 01:34:13 +0100 (CET) Received: from mail-io1-f100.google.com (mail-io1-f100.google.com [209.85.166.100]) by mails.dpdk.org (Postfix) with ESMTP id 757834029E for ; Thu, 6 Feb 2025 01:34:11 +0100 (CET) Received: by mail-io1-f100.google.com with SMTP id ca18e2360f4ac-844cd85f5ebso29439839f.3 for ; Wed, 05 Feb 2025 16:34:11 -0800 (PST) DKIM-Signature: v=1; a=rsa-sha256; c=relaxed/relaxed; d=iol.unh.edu; s=unh-iol; t=1738802051; x=1739406851; darn=dpdk.org; h=references:in-reply-to:cc:to:from:subject:message-id:date:from:to :cc:subject:date:message-id:reply-to; bh=Yc7SSAdyM0TzBcfXe44tfFub2VmZ5WsQvT8AdP64SI4=; b=V+bmE3AQyM4wGokSQKFeIz86WSPjwtjsPqZeVPz2HKT/Vb6kD86IlbPSrWh9HUJleP V8VKt713OeltTxlDrFQjZjqdmcVfvJWc26i90TUk1/FtCaz0la0mAlMsZ7MWGCPVUAeI UiDhXigN33TWpO63lSf6r7T20jsyx7YhfOAsM= X-Google-DKIM-Signature: v=1; a=rsa-sha256; c=relaxed/relaxed; d=1e100.net; s=20230601; t=1738802051; x=1739406851; h=references:in-reply-to:cc:to:from:subject:message-id:date :x-gm-message-state:from:to:cc:subject:date:message-id:reply-to; bh=Yc7SSAdyM0TzBcfXe44tfFub2VmZ5WsQvT8AdP64SI4=; b=unYkzTdE5pCYUL3zRT2XBMS57VwqMC7ZGoY7eYzklL2tRXTvkxHjZAvtIkRfR9BH2x EyCOBvVEE8ucfU7nmbJaxC36z9tEolFXskd5IurqiCR903HLdMtAUae3a88euVfj1V3Z K8sVoxA19AavDdSG2XHLErkMAoroK00IBLFEdj6oEiNXNSQc4TiCc8/uv+X3+1L5XAcp AAPkWAnG27Y69Xq6zc2/Eh2mNSqJTkVsNTUIJRWT5KwcsE2vYHj+MNIzK7HXAHPKBzZ6 g2RNJnd47+7g94RR56F+IjXSpX1Ooiba0uLx2oj4fg5FGwkZ2Tw54t/vOhZqAOxQWZm5 Xb3w== X-Gm-Message-State: AOJu0YzJpPcLtRuQo5Upa0ZCPRKMp3uMbKaYoBB0SNOosLigZZn4w389 nPnmm10Q8YfO9Vg2jEthu3qIP1yUMLPeTpzgPUhXBDTFsoWA4QSyfF7bINhp4pxLS9OOIDZzRob gDpbFJU9kvEYAtI6Ll5Fim7rqQLU2RA92lz8cavWRx+nYvC+87/u15jDC X-Gm-Gg: ASbGncuIa7Mh+HCahHWECXxO3rZ77HLl61FXJcxFWsbTTWl7C17JaoZ5P0hHbLurod0 6bOPJVgVYkn1Wz71vtMzEKFji88s8/6dpcsy06y2qAsOE2koZ7VZDwyBFf1adzzvI85Lr1dlG0v vcq6SZgQFuyZxN+HjatLTsWjEU0iRp0GcvZoBcd6cTn714mtQE65MMakTgyFpi8Fmj5yZ0sCqRu YncWTtb/AB7nLy4fv3Hc6lw38t4p9SylRE/wqd1PBiFa/hJJOmVZJV+xBGvSqoFPnEdSVrmR/rC t6zE7Z7TIQX+k6wxAts4wRgJJ2anCIiMbHvFHvgaZA== X-Google-Smtp-Source: AGHT+IHttKSCd6ddezcXzub5/0G6+qJYSxWAGfzI4WW2iOD0GB/2ZXXoschfUk6xZETYo6NSMgFJG5WNJzvf X-Received: by 2002:a05:6602:3987:b0:849:a2bb:ffde with SMTP id ca18e2360f4ac-854ea4402a7mr598431639f.4.1738802050799; Wed, 05 Feb 2025 16:34:10 -0800 (PST) Received: from postal.iol.unh.edu (postal.iol.unh.edu. [2606:4100:3880:1234::84]) by smtp-relay.gmail.com with ESMTPS id ca18e2360f4ac-854f674035asm261439f.21.2025.02.05.16.34.10 (version=TLS1_2 cipher=ECDHE-ECDSA-AES128-GCM-SHA256 bits=128/128); Wed, 05 Feb 2025 16:34:10 -0800 (PST) X-Relaying-Domain: iol.unh.edu Date: Wed, 05 Feb 2025 16:34:10 -0800 (PST) Message-ID: <67a40382.050a0220.1e15f7.0277SMTPIN_ADDED_MISSING@mx.google.com> Received: from [172.21.0.6] (unknown [172.18.0.240]) by postal.iol.unh.edu (Postfix) with ESMTP id 547686052471; Wed, 5 Feb 2025 19:34:10 -0500 (EST) Subject: |SUCCESS| pw150930-150931 [PATCH] [v5,2/2] net/cnxk: support rte flo From: dpdklab@iol.unh.edu To: Test Report Cc: dpdk-test-reports@iol.unh.edu In-Reply-To: <20250205054247.1214565-2-psatheesh@marvell.com> References: <20250205054247.1214565-2-psatheesh@marvell.com> Content-Type: text/plain X-BeenThere: test-report@dpdk.org X-Mailman-Version: 2.1.29 Precedence: list List-Id: automatic DPDK test reports List-Unsubscribe: , List-Archive: List-Post: List-Help: List-Subscribe: , Errors-To: test-report-bounces@dpdk.org Test-Label: iol-compile-arm64-testing Test-Status: SUCCESS http://dpdk.org/patch/150931 _Testing PASS_ Submitter: Satheesh Paul Antonysamy Date: Wednesday, February 05 2025 05:42:47 DPDK git baseline: Repo:dpdk Branch: master CommitID:1509e93efb980d1e4da3dabd332748b26cab76fd 150930-150931 --> testing pass Upstream job id: Generic-DPDK-Compile-Meson#357955 Test environment and result as below: +----------------------------------------+--------------------+ | Environment | dpdk_meson_compile | +========================================+====================+ | RHEL9 (ARM) | PASS | +----------------------------------------+--------------------+ | Ubuntu 20.04 ARM GCC Cross Compile | PASS | +----------------------------------------+--------------------+ | Ubuntu 20.04 ARM SVE | PASS | +----------------------------------------+--------------------+ | Debian 12 with MUSDK | PASS | +----------------------------------------+--------------------+ | Fedora 40 (ARM) | PASS | +----------------------------------------+--------------------+ | Fedora 40 (ARM Clang) | PASS | +----------------------------------------+--------------------+ | Fedora 41 (ARM) | PASS | +----------------------------------------+--------------------+ | Fedora 41 (ARM Clang) | PASS | +----------------------------------------+--------------------+ | Ubuntu 20.04 (ARM) | PASS | +----------------------------------------+--------------------+ | Ubuntu 22.04 (ARM) | PASS | +----------------------------------------+--------------------+ | Ubuntu 24.04 (ARM) | PASS | +----------------------------------------+--------------------+ | CentOS Stream 9 (ARM) | PASS | +----------------------------------------+--------------------+ | Debian 11 (Buster) (ARM) | PASS | +----------------------------------------+--------------------+ | Debian 12 (arm) | PASS | +----------------------------------------+--------------------+ | Ubuntu 20.04 ARM Clang Cross Compile | PASS | +----------------------------------------+--------------------+ | Ubuntu 20.04 aarch32 GCC Cross Compile | PASS | +----------------------------------------+--------------------+ RHEL9 (ARM) Kernel: Depends on container host Compiler: gcc 11.5.0 20240719 (Red Hat 11.5.0-2) Ubuntu 20.04 ARM GCC Cross Compile Kernel: Depends on container host Compiler: aarch64-linux-gnu-gcc (Ubuntu 9.4.0-1ubuntu1~20.04.2) 9.4.0 Ubuntu 20.04 ARM SVE Kernel: Depends on container host Compiler: gcc (Ubuntu 10.5.0-1ubuntu1~20.04) 10.5.0 Debian 12 with MUSDK Kernel: Depends on container host Compiler: gcc (Debian 12.2.0-14) 12.2.0 Fedora 40 (ARM) Kernel: Depends on container host Compiler: gcc 14.2.1 20240912 (Red Hat 14.2.1-3) Fedora 40 (ARM Clang) Kernel: Depends on container host Compiler: clang 18.1.8 (Fedora 18.1.8-1.fc40) Fedora 41 (ARM) Kernel: Depends on container host Compiler: gcc 14.2.1 20240912 (Red Hat 14.2.1-3) Fedora 41 (ARM Clang) Kernel: Depends on container host Compiler: clang 19.1.5 (Fedora 19.1.5-1.fc41) Ubuntu 20.04 (ARM) Kernel: Depends on container host Compiler: gcc (Ubuntu 9.4.0-1ubuntu1~20.04.2) 9.4.0 Ubuntu 22.04 (ARM) Kernel: Depends on container host Compiler: gcc (Ubuntu 11.4.0-1ubuntu1~22.04) 11.4.0 Ubuntu 24.04 (ARM) Kernel: Depends on container host Compiler: gcc (Ubuntu 13.3.0-6ubuntu2~24.04) 13.3.0 CentOS Stream 9 (ARM) Kernel: Depends on container host Compiler: gcc 11.5.0 20240719 (Red Hat 11.5.0-2) Debian 11 (Buster) (ARM) Kernel: Depends on container host Compiler: gcc (Debian 10.2.1-6) 10.2.1 20210110 Debian 12 (arm) Kernel: Depends on container host Compiler: gcc (Debian 12.2.0-14) 12.2.0 Ubuntu 20.04 ARM Clang Cross Compile Kernel: Depends on container host Compiler: clang 10.0.0-4ubuntu1 Ubuntu 20.04 aarch32 GCC Cross Compile Kernel: Depends on container host Compiler: gcc 9.4.0 To view detailed results, visit: https://lab.dpdk.org/results/dashboard/patchsets/32495/ UNH-IOL DPDK Community Lab To manage your email subscriptions, visit: https://lab.dpdk.org/results/dashboard/preferences/subscriptions/