From mboxrd@z Thu Jan  1 00:00:00 1970
Return-Path: <test-report-bounces@dpdk.org>
Received: from mails.dpdk.org (mails.dpdk.org [217.70.189.124])
	by inbox.dpdk.org (Postfix) with ESMTP id C7561461A2
	for <public@inbox.dpdk.org>; Thu,  6 Feb 2025 01:57:18 +0100 (CET)
Received: from mails.dpdk.org (localhost [127.0.0.1])
	by mails.dpdk.org (Postfix) with ESMTP id BE887402A0;
	Thu,  6 Feb 2025 01:57:18 +0100 (CET)
Received: from mail-io1-f98.google.com (mail-io1-f98.google.com
 [209.85.166.98]) by mails.dpdk.org (Postfix) with ESMTP id 8825C4029E
 for <test-report@dpdk.org>; Thu,  6 Feb 2025 01:57:17 +0100 (CET)
Received: by mail-io1-f98.google.com with SMTP id
 ca18e2360f4ac-854e5dd5cf7so12701139f.3
 for <test-report@dpdk.org>; Wed, 05 Feb 2025 16:57:17 -0800 (PST)
DKIM-Signature: v=1; a=rsa-sha256; c=relaxed/relaxed;
 d=iol.unh.edu; s=unh-iol; t=1738803437; x=1739408237; darn=dpdk.org;
 h=references:in-reply-to:cc:to:from:subject:message-id:date:from:to
 :cc:subject:date:message-id:reply-to;
 bh=W/+t0XUsSfdzk/A9FHKtOGSbq8puxVrShhK7hNbIkmw=;
 b=EmooqaT7IDbqCAT08iwtkyxdLBxtSsidArwKWGOAdUDltPnbJ//0bXXQsrsVLVfnCD
 rdmjWQM9CUlLwhiVSthvoxIbBIPjg9r6u307td9hxEIfoq9VUd6df2p4P/dKSHSndtxI
 ehV+8xzLhACD/5tV5eb4HHkfsyhOKB0w5Xr9E=
X-Google-DKIM-Signature: v=1; a=rsa-sha256; c=relaxed/relaxed;
 d=1e100.net; s=20230601; t=1738803437; x=1739408237;
 h=references:in-reply-to:cc:to:from:subject:message-id:date
 :x-gm-message-state:from:to:cc:subject:date:message-id:reply-to;
 bh=W/+t0XUsSfdzk/A9FHKtOGSbq8puxVrShhK7hNbIkmw=;
 b=sTZzAKiduTb34hhlfm6lv4FdSbwOQ3gS6yV41MeHSLhoChwn6LNIbF90l8/wEPgQh1
 ubALqpnN6p+dwDSEvPlCmL4WrBKkLIFV+brmoEXpeLzvrT9kNPkKe4bfN53NtgF4QdGS
 mVI7Ymy1DUV89G5yWJCAO4wWrEci2SEgarkm11NYUZqhv+soNWcJjRdP4ZerR1KNbWbg
 u1bzTqNdwpPSydXQDbKGHUrJZKHiPq7OI5s6Cfy2GkRIpN35DW6srq8fLH4yh59Jyhyx
 +V5jY/NSIjDLvFbjjOINnBmQJKp/xNoGv4FJfqIU8kFiKO1hSDgvzVcBxaH0aD65zQY1
 rQaw==
X-Gm-Message-State: AOJu0Ywov7eWlPNz6OVu8H3fe82cebUncGMeOYkZdNRF1ZW3w478x38D
 CrTfZy2Hu38BkkCtARBNLV7pM6jKvxOwulN/SrQO9rcGTh0Exkc5QKs1kpek5RDGkKIxZQxQRJC
 TkCcCESR0j+NR/HcDcZPNkM8l1swLcg7RfiwXfv0xMJ6gkVpamvekd4qu
X-Gm-Gg: ASbGncv/WQrpDI6lZ3Ml2smgErM0A6kFXIsLPWU8qzW43nEH63zWIsz4WjSa48Y8ihY
 8VPoHYGLXiHB3PP1No6/jAbWUvw34Zq7S1Q5EKIAF/LYLH45rnKrfTu8lmEw1EERTb0fQ13MJjD
 BOELJjDBktCo5dpWcOQ0+OdTPGq4zeIdjbp9anHzlHzITSJkxaUgW9eri1EfdivFlWgO2+yhXfi
 e5+v8AZQzpBdvkeGsjhJ4lB6rALyxbhUmoUVN8+lIyYIWiRxZcoHjcBf4VxqWnlgkOK2/uqU9SW
 PRcnLZGRpX4tIaghi1sa51zBO9hv25wrJy8Y5khYvg==
X-Google-Smtp-Source: AGHT+IHk4HFZq4+OgHgJu6q4ubuxqCgTydTE04mQwTJFFtZ80Hb7HYpRhnVGooQ1V2YdsBhsAGAn9CVabK0l
X-Received: by 2002:a05:6e02:1746:b0:3d0:fe8:6076 with SMTP id
 e9e14a558f8ab-3d04f93b1d3mr57413195ab.21.1738803436711; 
 Wed, 05 Feb 2025 16:57:16 -0800 (PST)
Received: from postal.iol.unh.edu (postal.iol.unh.edu.
 [2606:4100:3880:1234::84]) by smtp-relay.gmail.com with ESMTPS id
 e9e14a558f8ab-3d05e9f06easm17355ab.47.2025.02.05.16.57.16
 (version=TLS1_2 cipher=ECDHE-ECDSA-AES128-GCM-SHA256 bits=128/128);
 Wed, 05 Feb 2025 16:57:16 -0800 (PST)
X-Relaying-Domain: iol.unh.edu
Date: Wed, 05 Feb 2025 16:57:16 -0800 (PST)
Message-ID: <67a408ec.050a0220.7991b.019fSMTPIN_ADDED_MISSING@mx.google.com>
Received: from [172.21.0.7] (unknown [172.18.0.240])
 by postal.iol.unh.edu (Postfix) with ESMTP id 310B06052471;
 Wed,  5 Feb 2025 19:57:16 -0500 (EST)
Subject: |SUCCESS| pw151007 [PATCH] [v4] drivers/net: use 64-bit shift and av
From: dpdklab@iol.unh.edu
To: Test Report <test-report@dpdk.org>
Cc: dpdk-test-reports@iol.unh.edu
In-Reply-To: <1738783944-10172-1-git-send-email-andremue@linux.microsoft.com>
References: <1738783944-10172-1-git-send-email-andremue@linux.microsoft.com>
Content-Type: text/plain
X-BeenThere: test-report@dpdk.org
X-Mailman-Version: 2.1.29
Precedence: list
List-Id: automatic DPDK test reports <test-report.dpdk.org>
List-Unsubscribe: <https://mails.dpdk.org/options/test-report>,
 <mailto:test-report-request@dpdk.org?subject=unsubscribe>
List-Archive: <http://mails.dpdk.org/archives/test-report/>
List-Post: <mailto:test-report@dpdk.org>
List-Help: <mailto:test-report-request@dpdk.org?subject=help>
List-Subscribe: <https://mails.dpdk.org/listinfo/test-report>,
 <mailto:test-report-request@dpdk.org?subject=subscribe>
Errors-To: test-report-bounces@dpdk.org

Test-Label: iol-unit-amd64-testing
Test-Status: SUCCESS
http://dpdk.org/patch/151007

_Testing PASS_

Submitter: Andre Muezerie <andremue@linux.microsoft.com>
Date: Wednesday, February 05 2025 19:32:24 
DPDK git baseline: Repo:dpdk
  Branch: master
  CommitID:e595e7b5758fc73d99b810f5a8748f94bd467084

151007 --> testing pass

Upstream job id: Generic-Unit-Test-DPDK#311970

Test environment and result as below:

+---------------------+----------------+
|     Environment     | dpdk_unit_test |
+=====================+================+
| Fedora 40           | PASS           |
+---------------------+----------------+
| Debian 12           | PASS           |
+---------------------+----------------+
| Debian Bullseye     | PASS           |
+---------------------+----------------+
| CentOS Stream 9     | PASS           |
+---------------------+----------------+
| Fedora 41           | PASS           |
+---------------------+----------------+
| RHEL8               | PASS           |
+---------------------+----------------+
| Fedora 41 (Clang)   | PASS           |
+---------------------+----------------+
| Ubuntu 20.04        | PASS           |
+---------------------+----------------+
| Fedora 40 (Clang)   | PASS           |
+---------------------+----------------+
| RHEL9               | PASS           |
+---------------------+----------------+
| Ubuntu 24.04        | PASS           |
+---------------------+----------------+
| Ubuntu 22.04        | PASS           |
+---------------------+----------------+
| Windows Server 2022 | PASS           |
+---------------------+----------------+


Fedora 40
	Kernel: Depends on container host
	Compiler: gcc 14.2.1 20240912 (Red Hat 14.2.1-3)

Debian 12
	Kernel: Depends on container host
	Compiler: gcc (Debian 12.2.0-14) 12.2.0

Debian Bullseye
	Kernel: Depends on container host
	Compiler: gcc (Debian 10.2.1-6) 10.2.1 20210110

CentOS Stream 9
	Kernel: Depends on container host
	Compiler: gcc 11.5.0 20240719 (Red Hat 11.5.0-2)

Fedora 41
	Kernel: Depends on container host
	Compiler: gcc 14.2.1 20240912 (Red Hat 14.2.1-3)

RHEL8
	Kernel: Depends on container host
	Compiler: gcc 8.5.0 20210514 (Red Hat 8.5.0-22)

Fedora 41 (Clang)
	Kernel: Depends on container host
	Compiler: clang 19.1.5 (Fedora 19.1.5-1.fc41)

Ubuntu 20.04
	Kernel: Depends on container host
	Compiler: gcc (Ubuntu 9.4.0-1ubuntu1~20.04.2) 9.4.0

Fedora 40 (Clang)
	Kernel: Depends on container host
	Compiler: clang 18.1.8 (Fedora 18.1.8-1.fc40)

RHEL9
	Kernel: Depends on container host
	Compiler: gcc 11.5.0 20240719 (Red Hat 11.5.0-2)

Ubuntu 24.04
	Kernel: Depends on container host
	Compiler: gcc (Ubuntu 13.3.0-6ubuntu2~24.04) 13.3.0

Ubuntu 22.04
	Kernel: Depends on container host
	Compiler: gcc (Ubuntu 11.4.0-1ubuntu1~22.04) 11.4.0

Windows Server 2022
	Kernel: 10.0.20348.2031
	Compiler: clang 15.0.7, gcc 14.1.0 (MinGW), and MSVC VS 19.39.33521

To view detailed results, visit:
https://lab.dpdk.org/results/dashboard/patchsets/32505/

UNH-IOL DPDK Community Lab

To manage your email subscriptions, visit: 
https://lab.dpdk.org/results/dashboard/preferences/subscriptions/