From mboxrd@z Thu Jan 1 00:00:00 1970 Return-Path: Received: from mails.dpdk.org (mails.dpdk.org [217.70.189.124]) by inbox.dpdk.org (Postfix) with ESMTP id 3B32C461A3 for ; Thu, 6 Feb 2025 02:08:33 +0100 (CET) Received: from mails.dpdk.org (localhost [127.0.0.1]) by mails.dpdk.org (Postfix) with ESMTP id 391C9402A0; Thu, 6 Feb 2025 02:08:33 +0100 (CET) Received: from mail-yb1-f227.google.com (mail-yb1-f227.google.com [209.85.219.227]) by mails.dpdk.org (Postfix) with ESMTP id D09984029E for ; Thu, 6 Feb 2025 02:08:31 +0100 (CET) Received: by mail-yb1-f227.google.com with SMTP id 3f1490d57ef6-e5b107c4346so309457276.2 for ; Wed, 05 Feb 2025 17:08:31 -0800 (PST) DKIM-Signature: v=1; a=rsa-sha256; c=relaxed/relaxed; d=iol.unh.edu; s=unh-iol; t=1738804111; x=1739408911; darn=dpdk.org; h=references:in-reply-to:cc:to:from:subject:message-id:date:from:to :cc:subject:date:message-id:reply-to; bh=uYXpE8Ha+4rBi/903zCqskCFf0o+wJzOr5zJTGZ4gac=; b=jd/Wt7tRmsXfDqAxUHg6IpJJNlitL4Q0rVZOYlN7HAM4o36vkL7JH6mEtjnQw/WNgi jwEWB4JfQm4F0QK6N7o7qWjLfS86cdZHcG2e/8Wy5hRK3FclSOdV1tinUpJcwuwkei6Z pdqhxNcHuKnVO37G+PjZpfibhZHpPnKNiLGm8= X-Google-DKIM-Signature: v=1; a=rsa-sha256; c=relaxed/relaxed; d=1e100.net; s=20230601; t=1738804111; x=1739408911; h=references:in-reply-to:cc:to:from:subject:message-id:date :x-gm-message-state:from:to:cc:subject:date:message-id:reply-to; bh=uYXpE8Ha+4rBi/903zCqskCFf0o+wJzOr5zJTGZ4gac=; b=LcqTqopWpx1CMyNngHot4WOgSoErVlmjgCGaF8MGe2NnRrOC3Fq3FrZQPB/vrPHVGR u//n5An+xbCkRmUFnXB3qnD/V4Wo1ZfZZk35AVvBE5oZ+qhTIvXOqr7Zq+uAvdQaM50x HvQ3OyRwnjpf+bjxwl2R+h0t3EzpkS94fn1fRdV/EwBgdLn0KIuZHGUR1LrgaA4299Yi 4n+tCGEVQQeeGdCX5hmJyQvmxE3f1LHU5XCgCFLhwhFHg935E6MRRfXcmyKOtYUokjzo 7XHZIv5kzDBO2LkbvSX53No5WHPgBStbWC8ShjsH0EhVoIuTlXFb0FvFLFqWYamzgcLA rakg== X-Gm-Message-State: AOJu0Yw9/FSjIqZf58VbbPUi6oVpFA5TW0SPS2MQGRb3R5NsyPp+jonH DKmGt0q3IUzzI6STw9rwJc7xFtu+3VR6nvV20I6ifDhFVct4yJs4x5Zjot/6A06iG775GdLDfLT 4fjI04Ojnt5jHb5eK9qz9MmrJIYDZsVDwrjcSIwzP X-Gm-Gg: ASbGnct4jJNWbHNFceczWFCq417kT4ndk2a+8hQRKF8vJK5P2LiYZO7r5vOMggNZ5D7 vqYZapmtIjhKjY7kpMFcQ8zyx0d93c144zy/6oCsLHJua4axycuWwM1CBZM27hfdPQ7w4n17jAY 8ZOmobiiOkVEcuHeKcpcmppgxixDlQ/hJh1dnErNP9xXol6aNVvWpMvUWE1ct/l8RzG1JWURU/7 tW7eVlhqXqzjCZHfQSccaFDPi6M0omXy4XmfKHbxnhCQOU0HUNPOquNwxrmOcsd94IaMXx0f6fx O/mTy7Xg0RDZNvyAF2mOA9LIQ2MQmA== X-Google-Smtp-Source: AGHT+IEu3sjaUeiAQfmxrC0L5N0tQCkzjjjx0UYD1PLuYhHoi3WrXxx4u21XRzPZXnqReTeLqIE0RFWPajiY X-Received: by 2002:a05:6902:2702:b0:e5a:e47a:3a9e with SMTP id 3f1490d57ef6-e5b25c7f3a3mr4098268276.48.1738804111166; Wed, 05 Feb 2025 17:08:31 -0800 (PST) Received: from postal.iol.unh.edu (postal.iol.unh.edu. [132.177.123.84]) by smtp-relay.gmail.com with ESMTPS id 3f1490d57ef6-e5b3a205e77sm5234276.7.2025.02.05.17.08.31 (version=TLS1_2 cipher=ECDHE-ECDSA-AES128-GCM-SHA256 bits=128/128); Wed, 05 Feb 2025 17:08:31 -0800 (PST) X-Relaying-Domain: iol.unh.edu Date: Wed, 05 Feb 2025 17:08:31 -0800 (PST) Message-ID: <67a40b8f.250a0220.41b2b.04e2SMTPIN_ADDED_MISSING@mx.google.com> Received: from [172.21.0.6] (unknown [172.18.0.240]) by postal.iol.unh.edu (Postfix) with ESMTP id D936E6052471; Wed, 5 Feb 2025 20:08:30 -0500 (EST) Subject: |SUCCESS| pw150966-150969 [PATCH] [v4,4/4] net/intel: allow building From: dpdklab@iol.unh.edu To: Test Report Cc: dpdk-test-reports@iol.unh.edu In-Reply-To: <20250205115533.2746196-5-bruce.richardson@intel.com> References: <20250205115533.2746196-5-bruce.richardson@intel.com> Content-Type: text/plain X-BeenThere: test-report@dpdk.org X-Mailman-Version: 2.1.29 Precedence: list List-Id: automatic DPDK test reports List-Unsubscribe: , List-Archive: List-Post: List-Help: List-Subscribe: , Errors-To: test-report-bounces@dpdk.org Test-Label: iol-compile-arm64-testing Test-Status: SUCCESS http://dpdk.org/patch/150969 _Testing PASS_ Submitter: Bruce Richardson Date: Wednesday, February 05 2025 11:55:31 DPDK git baseline: Repo:dpdk Branch: master CommitID:595535be66b103f7ce3ba61939b8013032987404 150966-150969 --> testing pass Upstream job id: Generic-DPDK-Compile-Meson#358064 Test environment and result as below: +----------------------------------------+--------------------+ | Environment | dpdk_meson_compile | +========================================+====================+ | RHEL9 (ARM) | PASS | +----------------------------------------+--------------------+ | Ubuntu 20.04 ARM GCC Cross Compile | PASS | +----------------------------------------+--------------------+ | Ubuntu 20.04 ARM SVE | PASS | +----------------------------------------+--------------------+ | Debian 12 with MUSDK | PASS | +----------------------------------------+--------------------+ | Fedora 40 (ARM) | PASS | +----------------------------------------+--------------------+ | Fedora 41 (ARM) | PASS | +----------------------------------------+--------------------+ | Fedora 41 (ARM Clang) | PASS | +----------------------------------------+--------------------+ | Ubuntu 20.04 (ARM) | PASS | +----------------------------------------+--------------------+ | Ubuntu 22.04 (ARM) | PASS | +----------------------------------------+--------------------+ | Ubuntu 24.04 (ARM) | PASS | +----------------------------------------+--------------------+ | CentOS Stream 9 (ARM) | PASS | +----------------------------------------+--------------------+ | Debian 11 (Buster) (ARM) | PASS | +----------------------------------------+--------------------+ | Debian 12 (arm) | PASS | +----------------------------------------+--------------------+ | Ubuntu 20.04 ARM Clang Cross Compile | PASS | +----------------------------------------+--------------------+ | Ubuntu 20.04 aarch32 GCC Cross Compile | PASS | +----------------------------------------+--------------------+ | Fedora 40 (ARM Clang) | PASS | +----------------------------------------+--------------------+ RHEL9 (ARM) Kernel: Depends on container host Compiler: gcc 11.5.0 20240719 (Red Hat 11.5.0-2) Ubuntu 20.04 ARM GCC Cross Compile Kernel: Depends on container host Compiler: aarch64-linux-gnu-gcc (Ubuntu 9.4.0-1ubuntu1~20.04.2) 9.4.0 Ubuntu 20.04 ARM SVE Kernel: Depends on container host Compiler: gcc (Ubuntu 10.5.0-1ubuntu1~20.04) 10.5.0 Debian 12 with MUSDK Kernel: Depends on container host Compiler: gcc (Debian 12.2.0-14) 12.2.0 Fedora 40 (ARM) Kernel: Depends on container host Compiler: gcc 14.2.1 20240912 (Red Hat 14.2.1-3) Fedora 41 (ARM) Kernel: Depends on container host Compiler: gcc 14.2.1 20240912 (Red Hat 14.2.1-3) Fedora 41 (ARM Clang) Kernel: Depends on container host Compiler: clang 19.1.5 (Fedora 19.1.5-1.fc41) Ubuntu 20.04 (ARM) Kernel: Depends on container host Compiler: gcc (Ubuntu 9.4.0-1ubuntu1~20.04.2) 9.4.0 Ubuntu 22.04 (ARM) Kernel: Depends on container host Compiler: gcc (Ubuntu 11.4.0-1ubuntu1~22.04) 11.4.0 Ubuntu 24.04 (ARM) Kernel: Depends on container host Compiler: gcc (Ubuntu 13.3.0-6ubuntu2~24.04) 13.3.0 CentOS Stream 9 (ARM) Kernel: Depends on container host Compiler: gcc 11.5.0 20240719 (Red Hat 11.5.0-2) Debian 11 (Buster) (ARM) Kernel: Depends on container host Compiler: gcc (Debian 10.2.1-6) 10.2.1 20210110 Debian 12 (arm) Kernel: Depends on container host Compiler: gcc (Debian 12.2.0-14) 12.2.0 Ubuntu 20.04 ARM Clang Cross Compile Kernel: Depends on container host Compiler: clang 10.0.0-4ubuntu1 Ubuntu 20.04 aarch32 GCC Cross Compile Kernel: Depends on container host Compiler: gcc 9.4.0 Fedora 40 (ARM Clang) Kernel: Depends on container host Compiler: clang 18.1.8 (Fedora 18.1.8-1.fc40) To view detailed results, visit: https://lab.dpdk.org/results/dashboard/patchsets/32497/ UNH-IOL DPDK Community Lab To manage your email subscriptions, visit: https://lab.dpdk.org/results/dashboard/preferences/subscriptions/