From mboxrd@z Thu Jan 1 00:00:00 1970 Return-Path: Received: from mails.dpdk.org (mails.dpdk.org [217.70.189.124]) by inbox.dpdk.org (Postfix) with ESMTP id EA432461A3 for ; Thu, 6 Feb 2025 02:11:34 +0100 (CET) Received: from mails.dpdk.org (localhost [127.0.0.1]) by mails.dpdk.org (Postfix) with ESMTP id C74824042C; Thu, 6 Feb 2025 02:11:34 +0100 (CET) Received: from mail-pl1-f225.google.com (mail-pl1-f225.google.com [209.85.214.225]) by mails.dpdk.org (Postfix) with ESMTP id D721E402A0 for ; Thu, 6 Feb 2025 02:11:32 +0100 (CET) Received: by mail-pl1-f225.google.com with SMTP id d9443c01a7336-2164b662090so8005075ad.1 for ; Wed, 05 Feb 2025 17:11:32 -0800 (PST) DKIM-Signature: v=1; a=rsa-sha256; c=relaxed/relaxed; d=iol.unh.edu; s=unh-iol; t=1738804292; x=1739409092; darn=dpdk.org; h=references:in-reply-to:cc:to:from:subject:message-id:date:from:to :cc:subject:date:message-id:reply-to; bh=qAfkgzaCf7i1Z0FGif3U/uKzfzF8kPNm9F3bsy8G0CE=; b=KRHjvORW69dmVwWU0DW/YoFv8EgKTMUSw7yxu85LPFPcwSxly9yH+rufoOSWUguWw7 ElFccyYFqs2n4ApTvf3EgqGWHfAha1ZMHclC32cROdFCOcfZhTQoGeGhdSCpGJCKwk3P JmDNMvOzbnwFqErJ/fN9WNmuEQzHWpJHscPMM= X-Google-DKIM-Signature: v=1; a=rsa-sha256; c=relaxed/relaxed; d=1e100.net; s=20230601; t=1738804292; x=1739409092; h=references:in-reply-to:cc:to:from:subject:message-id:date :x-gm-message-state:from:to:cc:subject:date:message-id:reply-to; bh=qAfkgzaCf7i1Z0FGif3U/uKzfzF8kPNm9F3bsy8G0CE=; b=jo+/w2CLSVnv+Zy1hCS2cOlPqu9Afr74rKYlkq42JfoZpE3TtVlI0Ch8c41m988vC5 nAED3BrQYsIrvlMvhiIWRymc1aeT/E5WkvvdP83OH9NqiT+quYBntyEB14PiwUQI+MX0 ykZrGzAqeDwKpufwHsrMgnIq+4mgmEQTZ3wlqX5CnUc4bXqCvSSCGYAnaQfEKOPQt1AZ V23eErl4XDG2L4ThKvwKB8LB+/c4SOmATuisWOlSv0RQAxkyusk+xlNN2h2/plj9mtBm xaX7rYl/G9N8LpxtRm5M1oMGEiOAHhHIJ1qQy56QmvIflFGhPZTBGoGe+DqTdvadN2qe 8Iyg== X-Gm-Message-State: AOJu0Yzu/a1Yx5jNdQHARCgsVoG7HlMsnpxwq1P0iQIJVK+kGUEQhF4k 4gjaYu+R/PQblQYi3dZOK/rH5u5xBOfeGqlSptyVyJG9rnQJWWIzeimPs2MIGuU33arTJb8XuRA pE3YOtJcFwVS5gc9q69g/J7jU4RLKrfxzgoMVzLz8rxCb4bNI+YYKn672 X-Gm-Gg: ASbGncsIWEUOPTAYsIWivroVbM/+J3zalh828KzeOc+NHTHn/mmjBO5tidyIETEkSQ7 4qBi/ji5zODaPx1f+fN/QIbm7Ucm7QXLBhkE+V+KOvGjGroHwSgwqBeBzHI+JsHeeWYWnNDTuYK BE8sfYtT0wgQXv+e4kP4JwGCtzkvn9DuECwuOPEHax0THMjdLiDEG/XiuMv9UGLez+8416f3rCH bfvPZ7p21p9SSVkcAR8cFU9caGZvEdNX/qmHdksYELLEozaqsxtqGZDhbo6eA+JeB9peOyDBkjc kmKUHPvAUXID3+1vY/6HrFqKL80v0H8eRlLbECNYxw== X-Google-Smtp-Source: AGHT+IEHTYuMwIFbz8ycWoFFmZK3e6e4q2uvNGlyKy/C2zF9TA2XomYbQPh9Dq9qPjMc9m3aMkrubL92pAwy X-Received: by 2002:a17:903:244e:b0:21f:b6f:3f34 with SMTP id d9443c01a7336-21f17df36a4mr71221515ad.15.1738804291969; Wed, 05 Feb 2025 17:11:31 -0800 (PST) Received: from postal.iol.unh.edu (postal.iol.unh.edu. [2606:4100:3880:1234::84]) by smtp-relay.gmail.com with ESMTPS id 98e67ed59e1d1-2f9e1e44d35sm223712a91.14.2025.02.05.17.11.31 (version=TLS1_2 cipher=ECDHE-ECDSA-AES128-GCM-SHA256 bits=128/128); Wed, 05 Feb 2025 17:11:31 -0800 (PST) X-Relaying-Domain: iol.unh.edu Date: Wed, 05 Feb 2025 17:11:31 -0800 (PST) Message-ID: <67a40c43.170a0220.3bb74.a19eSMTPIN_ADDED_MISSING@mx.google.com> Received: from [172.21.0.7] (unknown [172.18.0.240]) by postal.iol.unh.edu (Postfix) with ESMTP id 1A4766052471; Wed, 5 Feb 2025 20:11:31 -0500 (EST) Subject: |SUCCESS| pw151006-151005 [PATCH] [v3,2/2] drivers/net: add MSVC com From: dpdklab@iol.unh.edu To: Test Report Cc: dpdk-test-reports@iol.unh.edu In-Reply-To: <1738781590-2408-3-git-send-email-andremue@linux.microsoft.com> References: <1738781590-2408-3-git-send-email-andremue@linux.microsoft.com> Content-Type: text/plain X-BeenThere: test-report@dpdk.org X-Mailman-Version: 2.1.29 Precedence: list List-Id: automatic DPDK test reports List-Unsubscribe: , List-Archive: List-Post: List-Help: List-Subscribe: , Errors-To: test-report-bounces@dpdk.org Test-Label: iol-compile-amd64-testing Test-Status: SUCCESS http://dpdk.org/patch/151005 _Testing PASS_ Submitter: Andre Muezerie Date: Wednesday, February 05 2025 18:53:10 DPDK git baseline: Repo:dpdk Branch: master CommitID:e595e7b5758fc73d99b810f5a8748f94bd467084 151006-151005 --> testing pass Upstream job id: Generic-VM-DPDK-Compile-Meson#33070 Test environment and result as below: +---------------------+-------------------+--------------------+ | Environment | dpdk_msvc_compile | dpdk_meson_compile | +=====================+===================+====================+ | Windows Server 2022 | PASS | SKIPPED | +---------------------+-------------------+--------------------+ | FreeBSD 13.4 | SKIPPED | PASS | +---------------------+-------------------+--------------------+ | FreeBSD 14.2 | SKIPPED | PASS | +---------------------+-------------------+--------------------+ Windows Server 2022 Kernel: 10.0.20348.2031 Compiler: clang 15.0.7, gcc 14.1.0 (MinGW), and MSVC VS 19.39.33521 FreeBSD 13.4 Kernel: 13.4-RELEASE-p1 Compiler: clang 18.1.6 FreeBSD 14.2 Kernel: 14.2-RELEASE Compiler: clang 18.1.6 To view detailed results, visit: https://lab.dpdk.org/results/dashboard/patchsets/32504/ UNH-IOL DPDK Community Lab To manage your email subscriptions, visit: https://lab.dpdk.org/results/dashboard/preferences/subscriptions/