From mboxrd@z Thu Jan 1 00:00:00 1970 Return-Path: Received: from mails.dpdk.org (mails.dpdk.org [217.70.189.124]) by inbox.dpdk.org (Postfix) with ESMTP id BD7A5461A3 for ; Thu, 6 Feb 2025 02:21:44 +0100 (CET) Received: from mails.dpdk.org (localhost [127.0.0.1]) by mails.dpdk.org (Postfix) with ESMTP id 9E8564042C; Thu, 6 Feb 2025 02:21:44 +0100 (CET) Received: from mail-io1-f99.google.com (mail-io1-f99.google.com [209.85.166.99]) by mails.dpdk.org (Postfix) with ESMTP id CE17F402A0 for ; Thu, 6 Feb 2025 02:21:43 +0100 (CET) Received: by mail-io1-f99.google.com with SMTP id ca18e2360f4ac-844dfe4b136so12497039f.3 for ; Wed, 05 Feb 2025 17:21:43 -0800 (PST) DKIM-Signature: v=1; a=rsa-sha256; c=relaxed/relaxed; d=iol.unh.edu; s=unh-iol; t=1738804903; x=1739409703; darn=dpdk.org; h=references:in-reply-to:cc:to:from:subject:message-id:date:from:to :cc:subject:date:message-id:reply-to; bh=YHchlDjUpeshU+ORdd7kiunzThCoFCeugk7kMsdOBx4=; b=OCRak1iALvwyc8wtBk2KfPQUbzk52fmJ0xEWWKqbYC81J2FBZxs2gjjhAjF1GOKoPQ LkjiXfODEcnxqq6xLFlEZqCrwJZ0zttrI5fDqucyPFa7DB4MEj9zp5+SPWPxtJV6ElKN StPRqcZSaOG8tsIn7SIAQB+H6Vt1QxtnbbwfY= X-Google-DKIM-Signature: v=1; a=rsa-sha256; c=relaxed/relaxed; d=1e100.net; s=20230601; t=1738804903; x=1739409703; h=references:in-reply-to:cc:to:from:subject:message-id:date :x-gm-message-state:from:to:cc:subject:date:message-id:reply-to; bh=YHchlDjUpeshU+ORdd7kiunzThCoFCeugk7kMsdOBx4=; b=YHdG5xYhXfnqHmR60jFY0NQ8py50TIVVQQON2QeWptilgK7xDdyv72FoM6n/UVm5/N NfKSRcCMBqL5YWZc4MKHQ2bXi5zaU4749NBFNO1C9uhnFWB6P4E7JcZXNLNIet+xiPvL u7ML25sJ/1obDmMeCxUg86RvHVi9dd9lASX+rLAR7LMoYCcTSUPYmrh4XaNZV3F8fmPA pGapJaGPY0X/suubAhl8bc9fYz/O8BAGvVUx2N4eY62Qr0Brnk3A8n+4PG9yCjtop3Hx qDzWoNOaDUnbGb6QHkG7pnSrWFeN4qbf3iRn6tVSDST+lUF71Z5efbOuD8Tg3He4uN1Y 6ROw== X-Gm-Message-State: AOJu0Yw6O+PKrH2CfyENJpCckBCVJI3Rt5Tfu16N7ZoZa/dnkMwRxrmR mzNgqPe+Emg0bSqJvX7WiS35js9IfarEnl4iZv06jxvpoDJ2gVdgy1E/dTNti6uuR0VfYzy29Jh MVU3IaiQGTqK+n7oAOUn3OjRNG6uhtj1W4xHwrLCb X-Gm-Gg: ASbGncvTbh5FYVLRFZbPlb7/NHAlVCLIo9WQB+8eFNx8xnBu59Lzm8GYENJEcBE0kVd f3J1q8wgBcZR+I5FisJOpwtqLAslLRhpHX5FZgn5o+Ic/Aa+ExH9MfCr7Y0/XDflX5HqmTimoy9 7hsJeHAHBOpFccrU+ugXWVAzGsnpywGoK1uNxrHULzY6vK//oTKjGMjR5aAvCh4G0fOa9KMQk8E fhGDyS/tk+1bd/2Py1L3SlyR5h3CcWFAQl5LyPXnVbcxfxju7YD2LKbkyEdYSFiuYM1Eg9ZmIaZ MC7VyCzM7AlRT/jJlt2cUJySzHhuaw== X-Google-Smtp-Source: AGHT+IHgBBZiXqnshUAf+18Nez6Y91U0jms40qfHkpFlKaUDeMYG9DIlb8iDQ7w8eZtF+GCrVxbz0Se7OZ/I X-Received: by 2002:a05:6e02:158b:b0:3a7:8720:9de5 with SMTP id e9e14a558f8ab-3d04f40350bmr50791095ab.1.1738804903044; Wed, 05 Feb 2025 17:21:43 -0800 (PST) Received: from postal.iol.unh.edu (postal.iol.unh.edu. [132.177.123.84]) by smtp-relay.gmail.com with ESMTPS id e9e14a558f8ab-3d05e9f0c5dsm40625ab.46.2025.02.05.17.21.42 (version=TLS1_2 cipher=ECDHE-ECDSA-AES128-GCM-SHA256 bits=128/128); Wed, 05 Feb 2025 17:21:43 -0800 (PST) X-Relaying-Domain: iol.unh.edu Date: Wed, 05 Feb 2025 17:21:43 -0800 (PST) Message-ID: <67a40ea7.920a0220.3b857e.03b5SMTPIN_ADDED_MISSING@mx.google.com> Received: from [172.21.0.5] (unknown [172.18.0.240]) by postal.iol.unh.edu (Postfix) with ESMTP id 83A356052471; Wed, 5 Feb 2025 20:21:42 -0500 (EST) Subject: |SUCCESS| pw151007 [PATCH] [v4] drivers/net: use 64-bit shift and av From: dpdklab@iol.unh.edu To: Test Report Cc: dpdk-test-reports@iol.unh.edu In-Reply-To: <1738783944-10172-1-git-send-email-andremue@linux.microsoft.com> References: <1738783944-10172-1-git-send-email-andremue@linux.microsoft.com> Content-Type: text/plain X-BeenThere: test-report@dpdk.org X-Mailman-Version: 2.1.29 Precedence: list List-Id: automatic DPDK test reports List-Unsubscribe: , List-Archive: List-Post: List-Help: List-Subscribe: , Errors-To: test-report-bounces@dpdk.org Test-Label: iol-abi-testing Test-Status: SUCCESS http://dpdk.org/patch/151007 _Testing PASS_ Submitter: Andre Muezerie Date: Wednesday, February 05 2025 19:32:24 DPDK git baseline: Repo:dpdk Branch: master CommitID:e595e7b5758fc73d99b810f5a8748f94bd467084 151007 --> testing pass Upstream job id: Generic-DPDK-Compile-ABI#114937 Test environment and result as below: +-------------------+----------+ | Environment | abi_test | +===================+==========+ | CentOS Stream 9 | PASS | +-------------------+----------+ | Debian Bullseye | PASS | +-------------------+----------+ | Debian 12 | PASS | +-------------------+----------+ | Fedora 40 (Clang) | PASS | +-------------------+----------+ | openSUSE Leap 15 | PASS | +-------------------+----------+ | Fedora 40 | PASS | +-------------------+----------+ | Fedora 41 (Clang) | PASS | +-------------------+----------+ | Fedora 41 | PASS | +-------------------+----------+ | RHEL9 | PASS | +-------------------+----------+ | Ubuntu 22.04 | PASS | +-------------------+----------+ | RHEL8 | PASS | +-------------------+----------+ | Ubuntu 24.04 | PASS | +-------------------+----------+ CentOS Stream 9 Kernel: Depends on container host Compiler: gcc 11.5.0 20240719 (Red Hat 11.5.0-2) Debian Bullseye Kernel: Depends on container host Compiler: gcc (Debian 10.2.1-6) 10.2.1 20210110 Debian 12 Kernel: Depends on container host Compiler: gcc (Debian 12.2.0-14) 12.2.0 Fedora 40 (Clang) Kernel: Depends on container host Compiler: clang 18.1.8 (Fedora 18.1.8-1.fc40) openSUSE Leap 15 Kernel: Depends on container host Compiler: gcc (SUSE Linux) 7.5.0 Fedora 40 Kernel: Depends on container host Compiler: gcc 14.2.1 20240912 (Red Hat 14.2.1-3) Fedora 41 (Clang) Kernel: Depends on container host Compiler: clang 19.1.5 (Fedora 19.1.5-1.fc41) Fedora 41 Kernel: Depends on container host Compiler: gcc 14.2.1 20240912 (Red Hat 14.2.1-3) RHEL9 Kernel: Depends on container host Compiler: gcc 11.5.0 20240719 (Red Hat 11.5.0-2) Ubuntu 22.04 Kernel: Depends on container host Compiler: gcc (Ubuntu 11.4.0-1ubuntu1~22.04) 11.4.0 RHEL8 Kernel: Depends on container host Compiler: gcc 8.5.0 20210514 (Red Hat 8.5.0-22) Ubuntu 24.04 Kernel: Depends on container host Compiler: gcc (Ubuntu 13.3.0-6ubuntu2~24.04) 13.3.0 To view detailed results, visit: https://lab.dpdk.org/results/dashboard/patchsets/32505/ UNH-IOL DPDK Community Lab To manage your email subscriptions, visit: https://lab.dpdk.org/results/dashboard/preferences/subscriptions/