From mboxrd@z Thu Jan 1 00:00:00 1970 Return-Path: Received: from mails.dpdk.org (mails.dpdk.org [217.70.189.124]) by inbox.dpdk.org (Postfix) with ESMTP id 85A6A461A3 for ; Thu, 6 Feb 2025 02:32:21 +0100 (CET) Received: from mails.dpdk.org (localhost [127.0.0.1]) by mails.dpdk.org (Postfix) with ESMTP id 5E3A140608; Thu, 6 Feb 2025 02:32:21 +0100 (CET) Received: from mail-io1-f100.google.com (mail-io1-f100.google.com [209.85.166.100]) by mails.dpdk.org (Postfix) with ESMTP id 80CD64042C for ; Thu, 6 Feb 2025 02:32:19 +0100 (CET) Received: by mail-io1-f100.google.com with SMTP id ca18e2360f4ac-84a1ce51187so16402139f.1 for ; Wed, 05 Feb 2025 17:32:19 -0800 (PST) DKIM-Signature: v=1; a=rsa-sha256; c=relaxed/relaxed; d=iol.unh.edu; s=unh-iol; t=1738805539; x=1739410339; darn=dpdk.org; h=references:in-reply-to:cc:to:from:subject:message-id:date:from:to :cc:subject:date:message-id:reply-to; bh=ii2nqtbzKKsnpTZmt2NwMM5HvJCh/S+h8Ol5nXXcxdw=; b=ilsxsBk2WseWdJnfc8U/RMbAzjqRGHYtSDZbQVtLydzkvOhHpmuNF9dAUpKN9T4ohK +NShYdPDtansxhv1A4tlGZV7BmaUDPP+9egl3z/vpoZZfJ+iQspt3O/l2JoPxSbpUPx/ +dgARZTSZSK7dWjBP92NaZ2xsHpMX3/lZv568= X-Google-DKIM-Signature: v=1; a=rsa-sha256; c=relaxed/relaxed; d=1e100.net; s=20230601; t=1738805539; x=1739410339; h=references:in-reply-to:cc:to:from:subject:message-id:date :x-gm-message-state:from:to:cc:subject:date:message-id:reply-to; bh=ii2nqtbzKKsnpTZmt2NwMM5HvJCh/S+h8Ol5nXXcxdw=; b=OXsALaLanfWzajaoM0nIqsRMAY03NyLo6emPhma7yMijQ7rq2h+l206bbMV2aAvsps Pn3r66usWHXdrz1vobFH+CsR+1vZooMhT3QX8fl2AxltArPkuUbmgUdpNvYepHwSeLkB Sn1hSPeVZ7U6Cj+Qm1Tia0NCjRZPUN8+DnSrioxDvmQyw6vwyf+mh9LA4CynPtj7xs4R G2/mH+xUk4XPC45nAZuxzTe/fd6wTgjocKVqnJZbQrrI8xAYI0Bhk7MqA5wqnC1QY9IZ LQTQsZ90h42fS6yKj60Y5MPhEpwx9TxCZJKAE2cBo1qEzmbDFjm4amUxoNdS+WCOk7v7 uCGQ== X-Gm-Message-State: AOJu0YwiFbL6/dVdv4WiFJSh48owXaPMtiibpGhew0BnyK5C5E1of3Kx pKSqIha33LJ261dAmLCX5Rntpne9y8TCWZBmJ8oqbbIjjPQ3Dh3MvuM6I2CqZhJeBAopCPJVgR3 ba0Sv1zazwkH4RMFrUKfQGeWx5JitE1wK+mkujPeq X-Gm-Gg: ASbGncuBzkiOpFDvRC+UITSKxyjlmD/rOouD8qfGBbh0EVRFwfWaJP5DmmWps7FBHnZ /M/eo3EdBWtoxXASk316it/TYnTVrxrkXZyuGvRWjQS5UtDyVqzP02rTaM8UGtUUdhjMJriONCP jUP/Ca6Hn4ntxaraEp3x1nXu7d45cqQdFMAt/mbBGmP68/0Tliz6N+Zj1H8gj0x0WBNTBQaaCx+ eRND6XG/y5vBPv0KxzDTfzbq/sbT5bz0OI8JdMPWE8luWo0vhk4sbgACnBnX8/J84BSQ/uJlM9J KwWm48VXHJ3RdYjlVufQVbM/PYQ/yQ== X-Google-Smtp-Source: AGHT+IHLcWoIcFyvR89mReQoP/w6q9t3y080mhdcwH8xYlkK77rtS6OL0LpPh1F45uHKgN6L3AyufQe2c/Hm X-Received: by 2002:a05:6602:4a0b:b0:841:a652:b0c8 with SMTP id ca18e2360f4ac-854ea4119a6mr557941239f.3.1738805538841; Wed, 05 Feb 2025 17:32:18 -0800 (PST) Received: from postal.iol.unh.edu (postal.iol.unh.edu. [132.177.123.84]) by smtp-relay.gmail.com with ESMTPS id ca18e2360f4ac-854f675aeb7sm825039f.25.2025.02.05.17.32.18 (version=TLS1_2 cipher=ECDHE-ECDSA-AES128-GCM-SHA256 bits=128/128); Wed, 05 Feb 2025 17:32:18 -0800 (PST) X-Relaying-Domain: iol.unh.edu Date: Wed, 05 Feb 2025 17:32:18 -0800 (PST) Message-ID: <67a41122.050a0220.c9b8f.077aSMTPIN_ADDED_MISSING@mx.google.com> Received: from [172.21.0.8] (unknown [172.18.0.240]) by postal.iol.unh.edu (Postfix) with ESMTP id 6E91B6052471; Wed, 5 Feb 2025 20:32:18 -0500 (EST) Subject: |SUCCESS| pw151003-151004 [PATCH] [v2,2/2] build: replace support fo From: dpdklab@iol.unh.edu To: Test Report Cc: dpdk-test-reports@iol.unh.edu In-Reply-To: <20250205182918.4041268-3-bruce.richardson@intel.com> References: <20250205182918.4041268-3-bruce.richardson@intel.com> Content-Type: text/plain X-BeenThere: test-report@dpdk.org X-Mailman-Version: 2.1.29 Precedence: list List-Id: automatic DPDK test reports List-Unsubscribe: , List-Archive: List-Post: List-Help: List-Subscribe: , Errors-To: test-report-bounces@dpdk.org Test-Label: iol-compile-amd64-testing Test-Status: SUCCESS http://dpdk.org/patch/151004 _Testing PASS_ Submitter: Bruce Richardson Date: Wednesday, February 05 2025 18:29:15 DPDK git baseline: Repo:dpdk Branch: master CommitID:32c18e7364e30a8e43cc7cc6709a7ce606fa285e 151003-151004 --> testing pass Upstream job id: Windows-Compile-DPDK-VS#4827 Test environment and result as below: +---------------------+--------------------+-------------------+ | Environment | dpdk_meson_compile | dpdk_msvc_compile | +=====================+====================+===================+ | FreeBSD 13.4 | PASS | SKIPPED | +---------------------+--------------------+-------------------+ | FreeBSD 14.2 | PASS | SKIPPED | +---------------------+--------------------+-------------------+ | Windows Server 2022 | SKIPPED | PASS | +---------------------+--------------------+-------------------+ FreeBSD 13.4 Kernel: 13.4-RELEASE-p1 Compiler: clang 18.1.6 FreeBSD 14.2 Kernel: 14.2-RELEASE Compiler: clang 18.1.6 Windows Server 2022 Kernel: 10.0.20348.2031 Compiler: clang 15.0.7, gcc 14.1.0 (MinGW), and MSVC VS 19.39.33521 To view detailed results, visit: https://lab.dpdk.org/results/dashboard/patchsets/32503/ UNH-IOL DPDK Community Lab To manage your email subscriptions, visit: https://lab.dpdk.org/results/dashboard/preferences/subscriptions/