From mboxrd@z Thu Jan 1 00:00:00 1970 Return-Path: Received: from mails.dpdk.org (mails.dpdk.org [217.70.189.124]) by inbox.dpdk.org (Postfix) with ESMTP id 94480461A3 for ; Thu, 6 Feb 2025 02:33:26 +0100 (CET) Received: from mails.dpdk.org (localhost [127.0.0.1]) by mails.dpdk.org (Postfix) with ESMTP id 8EA6F40608; Thu, 6 Feb 2025 02:33:26 +0100 (CET) Received: from mail-il1-f225.google.com (mail-il1-f225.google.com [209.85.166.225]) by mails.dpdk.org (Postfix) with ESMTP id 577764042C for ; Thu, 6 Feb 2025 02:33:25 +0100 (CET) Received: by mail-il1-f225.google.com with SMTP id e9e14a558f8ab-3cda56e1dffso1252835ab.1 for ; Wed, 05 Feb 2025 17:33:25 -0800 (PST) DKIM-Signature: v=1; a=rsa-sha256; c=relaxed/relaxed; d=iol.unh.edu; s=unh-iol; t=1738805604; x=1739410404; darn=dpdk.org; h=references:in-reply-to:cc:to:from:subject:message-id:date:from:to :cc:subject:date:message-id:reply-to; bh=KScp7JIZmE37EbFgB0jiG0UCosPJy3eTNlkxcA3q8/4=; b=GFcKtpgHc2+yy+YvFyKWC7HsciXdUFvrCPmS9JgdUYoE8MPkjYztw3MdG3D7Qiwgc1 fGK6OARVzHbuFY3xqYYeDBQ/SbwgK9/3MnT0BerwvsIu5xCNjinu8ZV5k0ryvk9/BgAX m6crt9IpqyROvG6qGaC4OCHFvo8OqwXIhaDhg= X-Google-DKIM-Signature: v=1; a=rsa-sha256; c=relaxed/relaxed; d=1e100.net; s=20230601; t=1738805604; x=1739410404; h=references:in-reply-to:cc:to:from:subject:message-id:date :x-gm-message-state:from:to:cc:subject:date:message-id:reply-to; bh=KScp7JIZmE37EbFgB0jiG0UCosPJy3eTNlkxcA3q8/4=; b=m/krZS0CPvYC0aSKgqm3/9FNmv90jZuTJurS66ANaqVJFq3AhyRVfJkQdvrKWb+gdy elk6F+ZoOnKeTuuzlRhebKAoxDhabC+kArNH0uk87xljoj2AsoGjefHe8FSgLCVnpyg4 dQemZn/tKRw6rxbOMDHSI+RZhtCSK/J3xnjnBks8DENR8AbZ9Vw7lUlda953uMmTfCRD fPBKhqwb2HljtxszjWwHaUzGUsAOu1wXf+19uA96yiY03ELCBhmUeIZCbH90qCsUdAdS 7s1zqjcBNnGwrLpFUpUPnsSVp5Xx3GBI3LOxX8knZezTRHy/QnzgtYNd872wBo3Hs7V9 +xEQ== X-Gm-Message-State: AOJu0YzGU4/wMOel7X2LjM7Ir9QhwlKy7fFqSapG0N/v1ZfagJO8lYix ik0QGkG4L0ByXaZNdvQ+K896Q4KHij7gENbfmosMwb0ElrZwsFm9c0LJwqbhMn4xC56jlGVbmz9 lO1sZ2fvsgVPh2ULqK22xF1L7DswWxn46/iKmxw7h X-Gm-Gg: ASbGnctYnDZcJrodrVG5llHe90vUpp4t2f0ifd/YS9xqpIbiG+QWbxLaKFTgzl9Sa+X MT3VNDkgl2bjNvMzhqbN7hNaFfT8iFjS2Vosliilaav5Fkyc5iQDDh9H5AAJVugAhrbxG32Zjy6 nxkzId5LUZegdIFcDeEW3imp/js53zqbZihkzntTv7CYo/nf3OriFPcW9eJzssIJpMvWF5oc9tf qMzlfbvz8ShcwnWblBSHA4uOKGMZCVQpzQfp0nCuHaSo2AC6YbJaBD26P9gtHY30S0tqcd/PbRd baczZWCTPOfg2GHKg8xgKxbVJES3sQ== X-Google-Smtp-Source: AGHT+IHrQJyc0rYcKO19FUMq7bMKn8ULVwAMFEsOLpEKIjbehwi+Z7iVtBiqQ7s6mupmi/bI7v+1tP74fkwx X-Received: by 2002:a05:6e02:17cc:b0:3cf:c7d3:e4b with SMTP id e9e14a558f8ab-3d04f9229e2mr61719385ab.21.1738805604647; Wed, 05 Feb 2025 17:33:24 -0800 (PST) Received: from postal.iol.unh.edu (postal.iol.unh.edu. [132.177.123.84]) by smtp-relay.gmail.com with ESMTPS id e9e14a558f8ab-3d05ea20977sm51075ab.63.2025.02.05.17.33.24 (version=TLS1_2 cipher=ECDHE-ECDSA-AES128-GCM-SHA256 bits=128/128); Wed, 05 Feb 2025 17:33:24 -0800 (PST) X-Relaying-Domain: iol.unh.edu Date: Wed, 05 Feb 2025 17:33:24 -0800 (PST) Message-ID: <67a41164.050a0220.12e9c5.04b0SMTPIN_ADDED_MISSING@mx.google.com> Received: from [172.21.0.13] (unknown [172.18.0.240]) by postal.iol.unh.edu (Postfix) with ESMTP id 2579E6052471; Wed, 5 Feb 2025 20:33:24 -0500 (EST) Subject: |SUCCESS| pw151003-151004 [PATCH] [v2,2/2] build: replace support fo From: dpdklab@iol.unh.edu To: Test Report Cc: dpdk-test-reports@iol.unh.edu In-Reply-To: <20250205182918.4041268-3-bruce.richardson@intel.com> References: <20250205182918.4041268-3-bruce.richardson@intel.com> Content-Type: text/plain X-BeenThere: test-report@dpdk.org X-Mailman-Version: 2.1.29 Precedence: list List-Id: automatic DPDK test reports List-Unsubscribe: , List-Archive: List-Post: List-Help: List-Subscribe: , Errors-To: test-report-bounces@dpdk.org Test-Label: iol-compile-amd64-testing Test-Status: SUCCESS http://dpdk.org/patch/151004 _Testing PASS_ Submitter: Bruce Richardson Date: Wednesday, February 05 2025 18:29:15 DPDK git baseline: Repo:dpdk Branch: master CommitID:32c18e7364e30a8e43cc7cc6709a7ce606fa285e 151003-151004 --> testing pass Upstream job id: Generic-VM-DPDK-Compile-Meson#33071 Test environment and result as below: +---------------------+--------------------+-------------------+ | Environment | dpdk_meson_compile | dpdk_msvc_compile | +=====================+====================+===================+ | FreeBSD 13.4 | PASS | SKIPPED | +---------------------+--------------------+-------------------+ | FreeBSD 14.2 | PASS | SKIPPED | +---------------------+--------------------+-------------------+ | Windows Server 2022 | SKIPPED | PASS | +---------------------+--------------------+-------------------+ FreeBSD 13.4 Kernel: 13.4-RELEASE-p1 Compiler: clang 18.1.6 FreeBSD 14.2 Kernel: 14.2-RELEASE Compiler: clang 18.1.6 Windows Server 2022 Kernel: 10.0.20348.2031 Compiler: clang 15.0.7, gcc 14.1.0 (MinGW), and MSVC VS 19.39.33521 To view detailed results, visit: https://lab.dpdk.org/results/dashboard/patchsets/32503/ UNH-IOL DPDK Community Lab To manage your email subscriptions, visit: https://lab.dpdk.org/results/dashboard/preferences/subscriptions/