From mboxrd@z Thu Jan 1 00:00:00 1970 Return-Path: Received: from mails.dpdk.org (mails.dpdk.org [217.70.189.124]) by inbox.dpdk.org (Postfix) with ESMTP id 9F5D4461A5 for ; Thu, 6 Feb 2025 02:34:18 +0100 (CET) Received: from mails.dpdk.org (localhost [127.0.0.1]) by mails.dpdk.org (Postfix) with ESMTP id 76D3940E15; Thu, 6 Feb 2025 02:34:17 +0100 (CET) Received: from mail-il1-f227.google.com (mail-il1-f227.google.com [209.85.166.227]) by mails.dpdk.org (Postfix) with ESMTP id 85B3940E15 for ; Thu, 6 Feb 2025 02:34:15 +0100 (CET) Received: by mail-il1-f227.google.com with SMTP id e9e14a558f8ab-3d04932a36cso3323345ab.1 for ; Wed, 05 Feb 2025 17:34:15 -0800 (PST) DKIM-Signature: v=1; a=rsa-sha256; c=relaxed/relaxed; d=iol.unh.edu; s=unh-iol; t=1738805655; x=1739410455; darn=dpdk.org; h=references:in-reply-to:cc:to:from:subject:message-id:date:from:to :cc:subject:date:message-id:reply-to; bh=kj8RDaKz/IaDD2ZyY0ghLy9cnoFzlvTHyo2FRlQ6+p8=; b=aMHH4I4FWSw2Dza+eshFAmiQIW1+exqUniRHMVeVQB2M59vgEhUX3OUORYZ9eyE8z7 WFHfkrU1MVDWxuOU0BHrHOXlUVmtkMyzcUuILaPq9HoYrFv6MqUOnzgcldlqWx/o6dsy XddSpBvYrewl6JV/11y96qToxOLts3Cujwrec= X-Google-DKIM-Signature: v=1; a=rsa-sha256; c=relaxed/relaxed; d=1e100.net; s=20230601; t=1738805655; x=1739410455; h=references:in-reply-to:cc:to:from:subject:message-id:date :x-gm-message-state:from:to:cc:subject:date:message-id:reply-to; bh=kj8RDaKz/IaDD2ZyY0ghLy9cnoFzlvTHyo2FRlQ6+p8=; b=Cdo21bMwsW/iW918h2dY883dIIRX7+SsPsOfmvS07bU/hwNCK3gkuZTPliE99yYOty wMj6XQlgMCtINgVPg/ncAcs+JjY8aOu7rZY1sgS9b6ut4Din+FfNxQKOBcHrdcfbuznB Q/V279kp76oKuAF3baBPSRAfmlg/UdoJiqn7oCO7QKl9nxJFAh4N7D+11oBe/6IeIUfT LhEofLaOrA48HQarP5eCXY8dmUWJ2GvqqaBJM3i5iCiuWilTkWKwTOh33vIIyIulqPgk zN0fnLFHwksRxBXrvNbfu3fU5ZC4Vcv02DUQoaLh3PvrC3c9UGVidrp+PUBQc1Wd5U+/ zJiQ== X-Gm-Message-State: AOJu0YxraFmIC6/wH5cmFxixUjMIxe+s2dFlJ2kN3qE36VH1pUDynRn7 CRIZJo8hO4Sd9AYt7EBh+njXcg6kyKcBKiwO4MG/bMTnzSInYTbOrlINpOsOSvkHsARIZJEmegt TpsmBddSF5hx+1Lb6EPQa7z868GR/5qdELC0uspre X-Gm-Gg: ASbGnct7MEIGGMIxHVhQb3L2HL5pjpXHioPe90G5asvX8BMFBr00kFhesXxATm65GrV hor2dC1qaHsFbG3uHwU6SbYKuHYzuRQjCsfw4XfU6JJYWxzzCSU/GEOUl8/foJXoWLwcwpPm5tQ XKm82DZ00rybsPmX5cirQMO+m6Ma8F51G2viCHJW87DVAf/ivf4AtqQPP2xW1MtZ1nd6DvuQike JiWdT2sXkvieYWIxsIgFK1BhEYL4Drqi+jZE7wfMeyJ/gBqyoqb81QWa/CtauSATdSV2TFlqW9I OL8SiucJOMbxJRHsp/gVHsbi9GX9Rg== X-Google-Smtp-Source: AGHT+IEe77AevNSuiNaDFDrWN31la6E24INGgtHyLcwiIQBVovEieuMCp2LA94hnMfdD9c+tdqj3Nenyi+yC X-Received: by 2002:a05:6e02:2148:b0:3d0:3851:c3cc with SMTP id e9e14a558f8ab-3d04f961c4fmr42348525ab.16.1738805654933; Wed, 05 Feb 2025 17:34:14 -0800 (PST) Received: from postal.iol.unh.edu (postal.iol.unh.edu. [132.177.123.84]) by smtp-relay.gmail.com with ESMTPS id e9e14a558f8ab-3d05e8d9282sm64345ab.8.2025.02.05.17.34.14 (version=TLS1_2 cipher=ECDHE-ECDSA-AES128-GCM-SHA256 bits=128/128); Wed, 05 Feb 2025 17:34:14 -0800 (PST) X-Relaying-Domain: iol.unh.edu Date: Wed, 05 Feb 2025 17:34:14 -0800 (PST) Message-ID: <67a41196.050a0220.341dbc.0627SMTPIN_ADDED_MISSING@mx.google.com> Received: from [172.21.0.6] (unknown [172.18.0.240]) by postal.iol.unh.edu (Postfix) with ESMTP id 6BC5F6052471; Wed, 5 Feb 2025 20:34:14 -0500 (EST) Subject: |SUCCESS| pw151006-151005 [PATCH] [v3,2/2] drivers/net: add MSVC com From: dpdklab@iol.unh.edu To: Test Report Cc: dpdk-test-reports@iol.unh.edu In-Reply-To: <1738781590-2408-3-git-send-email-andremue@linux.microsoft.com> References: <1738781590-2408-3-git-send-email-andremue@linux.microsoft.com> Content-Type: text/plain X-BeenThere: test-report@dpdk.org X-Mailman-Version: 2.1.29 Precedence: list List-Id: automatic DPDK test reports List-Unsubscribe: , List-Archive: List-Post: List-Help: List-Subscribe: , Errors-To: test-report-bounces@dpdk.org Test-Label: iol-unit-amd64-testing Test-Status: SUCCESS http://dpdk.org/patch/151005 _Testing PASS_ Submitter: Andre Muezerie Date: Wednesday, February 05 2025 18:53:10 DPDK git baseline: Repo:dpdk Branch: master CommitID:e595e7b5758fc73d99b810f5a8748f94bd467084 151006-151005 --> testing pass Upstream job id: Generic-Unit-Test-DPDK#311989 Test environment and result as below: +---------------------+----------------+ | Environment | dpdk_unit_test | +=====================+================+ | Fedora 40 | PASS | +---------------------+----------------+ | Debian Bullseye | PASS | +---------------------+----------------+ | Fedora 40 (Clang) | PASS | +---------------------+----------------+ | CentOS Stream 9 | PASS | +---------------------+----------------+ | Debian 12 | PASS | +---------------------+----------------+ | Fedora 41 (Clang) | PASS | +---------------------+----------------+ | Fedora 41 | PASS | +---------------------+----------------+ | RHEL9 | PASS | +---------------------+----------------+ | RHEL8 | PASS | +---------------------+----------------+ | Ubuntu 20.04 | PASS | +---------------------+----------------+ | Ubuntu 24.04 | PASS | +---------------------+----------------+ | Ubuntu 22.04 | PASS | +---------------------+----------------+ | Windows Server 2022 | PASS | +---------------------+----------------+ Fedora 40 Kernel: Depends on container host Compiler: gcc 14.2.1 20240912 (Red Hat 14.2.1-3) Debian Bullseye Kernel: Depends on container host Compiler: gcc (Debian 10.2.1-6) 10.2.1 20210110 Fedora 40 (Clang) Kernel: Depends on container host Compiler: clang 18.1.8 (Fedora 18.1.8-1.fc40) CentOS Stream 9 Kernel: Depends on container host Compiler: gcc 11.5.0 20240719 (Red Hat 11.5.0-2) Debian 12 Kernel: Depends on container host Compiler: gcc (Debian 12.2.0-14) 12.2.0 Fedora 41 (Clang) Kernel: Depends on container host Compiler: clang 19.1.5 (Fedora 19.1.5-1.fc41) Fedora 41 Kernel: Depends on container host Compiler: gcc 14.2.1 20240912 (Red Hat 14.2.1-3) RHEL9 Kernel: Depends on container host Compiler: gcc 11.5.0 20240719 (Red Hat 11.5.0-2) RHEL8 Kernel: Depends on container host Compiler: gcc 8.5.0 20210514 (Red Hat 8.5.0-22) Ubuntu 20.04 Kernel: Depends on container host Compiler: gcc (Ubuntu 9.4.0-1ubuntu1~20.04.2) 9.4.0 Ubuntu 24.04 Kernel: Depends on container host Compiler: gcc (Ubuntu 13.3.0-6ubuntu2~24.04) 13.3.0 Ubuntu 22.04 Kernel: Depends on container host Compiler: gcc (Ubuntu 11.4.0-1ubuntu1~22.04) 11.4.0 Windows Server 2022 Kernel: 10.0.20348.2031 Compiler: clang 15.0.7, gcc 14.1.0 (MinGW), and MSVC VS 19.39.33521 To view detailed results, visit: https://lab.dpdk.org/results/dashboard/patchsets/32504/ UNH-IOL DPDK Community Lab To manage your email subscriptions, visit: https://lab.dpdk.org/results/dashboard/preferences/subscriptions/