From mboxrd@z Thu Jan 1 00:00:00 1970 Return-Path: Received: from mails.dpdk.org (mails.dpdk.org [217.70.189.124]) by inbox.dpdk.org (Postfix) with ESMTP id 99EB8461A5 for ; Thu, 6 Feb 2025 02:34:29 +0100 (CET) Received: from mails.dpdk.org (localhost [127.0.0.1]) by mails.dpdk.org (Postfix) with ESMTP id 8E2E9409FA; Thu, 6 Feb 2025 02:34:29 +0100 (CET) Received: from mail-qv1-f97.google.com (mail-qv1-f97.google.com [209.85.219.97]) by mails.dpdk.org (Postfix) with ESMTP id 0F30940DD1 for ; Thu, 6 Feb 2025 02:34:28 +0100 (CET) Received: by mail-qv1-f97.google.com with SMTP id 6a1803df08f44-6e4242b0b96so6272286d6.1 for ; Wed, 05 Feb 2025 17:34:28 -0800 (PST) DKIM-Signature: v=1; a=rsa-sha256; c=relaxed/relaxed; d=iol.unh.edu; s=unh-iol; t=1738805667; x=1739410467; darn=dpdk.org; h=references:in-reply-to:cc:to:from:subject:message-id:date:from:to :cc:subject:date:message-id:reply-to; bh=MogKx5YxgN7m8vuCT21lNp2YlaJgRD1t1Wboto38jBU=; b=U9t7aDdeuBmM4PbAdpvKbWuzRcUsXvoSPgwXpLD+dc7PYtgJu8jd1cRzje52QLUBT6 gQTGZyN1f1bh0YUgb0gmOVbMKGwD2iKfaN6yzD5jyLxj6ntLDcMURNyjtrUC8CLX77hw VAT50f9BLmlYGaTz1YiF3qdgOKS4k97vyjR8I= X-Google-DKIM-Signature: v=1; a=rsa-sha256; c=relaxed/relaxed; d=1e100.net; s=20230601; t=1738805667; x=1739410467; h=references:in-reply-to:cc:to:from:subject:message-id:date :x-gm-message-state:from:to:cc:subject:date:message-id:reply-to; bh=MogKx5YxgN7m8vuCT21lNp2YlaJgRD1t1Wboto38jBU=; b=fFG+h26m4vaS6sCUmerQByGfPzKA8k2X0rdHQFynLepZXv7UO+KV+a+e1A3+YG8QZD 99H9IfdE9SSLblM51gmBkimkPGZIN/wAVUQ1oEuG+QjahRQbzZP1XcJEgbJZtMbpVfbo AE8PTsbToFq0i9C17HXEz8AyhZ2CyuZ1QHP+/k0pkzR2GPEFDt+kWSkdhTuB8I8TpUga FFXQrmjEhVxZrlpPDHYOuMkxHVak9dnligRn+4Hb8kA97/B2QI+QvJwf7uYr3fcbuZm3 qQi3lpjZ3vtn03hk0DM06hTUM63B4H4SemqGOxlltFPGOjomA5jufrfzupuAG99wQkwB a93Q== X-Gm-Message-State: AOJu0YxyFX8EQgmIG93RAAE48c6qfbtD3cc/JanQQSuLV1H8oReA/F8j 76ZwloIxyXfG9p7fBfrkmgqmf7t8aAa3fkO9qzR/xGVnzkNPGedmtbho+IqUZePXgYcQYwQ5eqD NCBUHQyJMw663dENo6n+zyHmBzZRrEskxkGCHuOyT X-Gm-Gg: ASbGncvLg98VXqgI5PMtswDuTqRs/eAQW89D2bHjcobdvyE5sA8+wt3tFkM+c5Wk3gL kQUVAukOSN8FpLjihrlHKBDBZ6N9CGacEwzG0uWiISqth8uIE0MNW7s44T3YvTRHJDRahneRCBq 8tgyzix/FQwo/YEWgrdfMImdvqVSkl6u6Oo57KiBByr17XhvV4DgyOx4H3RAIfXBFMQgFnsKTJI 7ZXGlWH0lbZIRL+D/Iz0lL8eBgIPAQVBcvvTPHYSGiZGBgUN6teHS9/YzpZKuzr8fIg+3wGVjZ/ msBqDSa/O7GZ9heiGf/I5H0hbro0/Q== X-Google-Smtp-Source: AGHT+IGt355GH6I2pJocxC8LqdxE9JEJD/qAuQjRw1VLr1ycKhFcEqjv1IdjKQ2scR27hIIOlbDBc1YfUC01 X-Received: by 2002:ad4:5f45:0:b0:6d8:accb:5a3d with SMTP id 6a1803df08f44-6e42fc48857mr91227246d6.34.1738805667470; Wed, 05 Feb 2025 17:34:27 -0800 (PST) Received: from postal.iol.unh.edu (postal.iol.unh.edu. [132.177.123.84]) by smtp-relay.gmail.com with ESMTPS id 6a1803df08f44-6e43ba34212sm144086d6.7.2025.02.05.17.34.27 (version=TLS1_2 cipher=ECDHE-ECDSA-AES128-GCM-SHA256 bits=128/128); Wed, 05 Feb 2025 17:34:27 -0800 (PST) X-Relaying-Domain: iol.unh.edu Date: Wed, 05 Feb 2025 17:34:27 -0800 (PST) Message-ID: <67a411a3.050a0220.171cdd.0e4eSMTPIN_ADDED_MISSING@mx.google.com> Received: from [172.21.0.5] (unknown [172.18.0.240]) by postal.iol.unh.edu (Postfix) with ESMTP id 37DD56052471; Wed, 5 Feb 2025 20:34:27 -0500 (EST) Subject: |SUCCESS| pw151006-151005 [PATCH] [v3,2/2] drivers/net: add MSVC com From: dpdklab@iol.unh.edu To: Test Report Cc: dpdk-test-reports@iol.unh.edu In-Reply-To: <1738781590-2408-3-git-send-email-andremue@linux.microsoft.com> References: <1738781590-2408-3-git-send-email-andremue@linux.microsoft.com> Content-Type: text/plain X-BeenThere: test-report@dpdk.org X-Mailman-Version: 2.1.29 Precedence: list List-Id: automatic DPDK test reports List-Unsubscribe: , List-Archive: List-Post: List-Help: List-Subscribe: , Errors-To: test-report-bounces@dpdk.org Test-Label: iol-unit-amd64-testing Test-Status: SUCCESS http://dpdk.org/patch/151005 _Testing PASS_ Submitter: Andre Muezerie Date: Wednesday, February 05 2025 18:53:10 DPDK git baseline: Repo:dpdk Branch: master CommitID:e595e7b5758fc73d99b810f5a8748f94bd467084 151006-151005 --> testing pass Upstream job id: Generic-Unit-Test-DPDK#311993 Test environment and result as below: +---------------------+----------------+ | Environment | dpdk_unit_test | +=====================+================+ | Fedora 40 | PASS | +---------------------+----------------+ | Debian Bullseye | PASS | +---------------------+----------------+ | Fedora 40 (Clang) | PASS | +---------------------+----------------+ | CentOS Stream 9 | PASS | +---------------------+----------------+ | Debian 12 | PASS | +---------------------+----------------+ | Fedora 41 (Clang) | PASS | +---------------------+----------------+ | Fedora 41 | PASS | +---------------------+----------------+ | RHEL9 | PASS | +---------------------+----------------+ | RHEL8 | PASS | +---------------------+----------------+ | Ubuntu 20.04 | PASS | +---------------------+----------------+ | Ubuntu 24.04 | PASS | +---------------------+----------------+ | Ubuntu 22.04 | PASS | +---------------------+----------------+ | Windows Server 2022 | PASS | +---------------------+----------------+ Fedora 40 Kernel: Depends on container host Compiler: gcc 14.2.1 20240912 (Red Hat 14.2.1-3) Debian Bullseye Kernel: Depends on container host Compiler: gcc (Debian 10.2.1-6) 10.2.1 20210110 Fedora 40 (Clang) Kernel: Depends on container host Compiler: clang 18.1.8 (Fedora 18.1.8-1.fc40) CentOS Stream 9 Kernel: Depends on container host Compiler: gcc 11.5.0 20240719 (Red Hat 11.5.0-2) Debian 12 Kernel: Depends on container host Compiler: gcc (Debian 12.2.0-14) 12.2.0 Fedora 41 (Clang) Kernel: Depends on container host Compiler: clang 19.1.5 (Fedora 19.1.5-1.fc41) Fedora 41 Kernel: Depends on container host Compiler: gcc 14.2.1 20240912 (Red Hat 14.2.1-3) RHEL9 Kernel: Depends on container host Compiler: gcc 11.5.0 20240719 (Red Hat 11.5.0-2) RHEL8 Kernel: Depends on container host Compiler: gcc 8.5.0 20210514 (Red Hat 8.5.0-22) Ubuntu 20.04 Kernel: Depends on container host Compiler: gcc (Ubuntu 9.4.0-1ubuntu1~20.04.2) 9.4.0 Ubuntu 24.04 Kernel: Depends on container host Compiler: gcc (Ubuntu 13.3.0-6ubuntu2~24.04) 13.3.0 Ubuntu 22.04 Kernel: Depends on container host Compiler: gcc (Ubuntu 11.4.0-1ubuntu1~22.04) 11.4.0 Windows Server 2022 Kernel: 10.0.20348.2031 Compiler: clang 15.0.7, gcc 14.1.0 (MinGW), and MSVC VS 19.39.33521 To view detailed results, visit: https://lab.dpdk.org/results/dashboard/patchsets/32504/ UNH-IOL DPDK Community Lab To manage your email subscriptions, visit: https://lab.dpdk.org/results/dashboard/preferences/subscriptions/