From mboxrd@z Thu Jan  1 00:00:00 1970
Return-Path: <test-report-bounces@dpdk.org>
Received: from mails.dpdk.org (mails.dpdk.org [217.70.189.124])
	by inbox.dpdk.org (Postfix) with ESMTP id 70E12461A3
	for <public@inbox.dpdk.org>; Thu,  6 Feb 2025 03:01:11 +0100 (CET)
Received: from mails.dpdk.org (localhost [127.0.0.1])
	by mails.dpdk.org (Postfix) with ESMTP id 6D1F84066F;
	Thu,  6 Feb 2025 03:01:11 +0100 (CET)
Received: from mail-il1-f228.google.com (mail-il1-f228.google.com
 [209.85.166.228])
 by mails.dpdk.org (Postfix) with ESMTP id 5D60F402F1
 for <test-report@dpdk.org>; Thu,  6 Feb 2025 03:01:09 +0100 (CET)
Received: by mail-il1-f228.google.com with SMTP id
 e9e14a558f8ab-3cfc79a8a95so1225485ab.2
 for <test-report@dpdk.org>; Wed, 05 Feb 2025 18:01:09 -0800 (PST)
DKIM-Signature: v=1; a=rsa-sha256; c=relaxed/relaxed;
 d=iol.unh.edu; s=unh-iol; t=1738807268; x=1739412068; darn=dpdk.org;
 h=references:in-reply-to:cc:to:from:subject:message-id:date:from:to
 :cc:subject:date:message-id:reply-to;
 bh=wuEE0HBxruF+Tk6au+7Vt9+ZbuEJTF52k5ljjPMufj4=;
 b=MTcS+D/U4bjSG8KdGf8URT8ha9Ruyo5l3E6IOzu1ViiZbWcsa2UjEEn5JwuSnmg9fk
 8Px/ps18D4tlgoyXnZpCjEVWh94qMtWPEvUWGYqcIE6CIu6CykfQKLPhlOrZFX99k3Ca
 MAPyRMWwiZMXhAQw7NT94UMm653e09fdey0RM=
X-Google-DKIM-Signature: v=1; a=rsa-sha256; c=relaxed/relaxed;
 d=1e100.net; s=20230601; t=1738807268; x=1739412068;
 h=references:in-reply-to:cc:to:from:subject:message-id:date
 :x-gm-message-state:from:to:cc:subject:date:message-id:reply-to;
 bh=wuEE0HBxruF+Tk6au+7Vt9+ZbuEJTF52k5ljjPMufj4=;
 b=MdsnH0DMeIVs/c2g8oWvP3wDzZBoJpbZQQXtn1obVfiad6IM7GjTALnqDGHsi0gypq
 LK4xvzcY2j3H7rBNZKs1VrvJXj06Epnr1FYcHxv/Wpq3OTq2K1w0HqCcT8p3WK/UpkA7
 FDwkUL3NGuGUpMS/sjJ/RyKDUeCGQ+hHscrC1kJpeH2lOa52kS6dzdZDbf/MMCdG9UzG
 CyX1vP9LClKKTr4ZOshxkhzmfAFQ+GsYFEz6XFla3kAbyV25b79ETTTvkr4oFb7BaJJy
 LiLfyoyE2+Q7wHzRetjRLvfWGSltuvt37Si+jA4t/ueJH6UT4f4qSCpZbUsNEiyQXX4e
 XqpQ==
X-Gm-Message-State: AOJu0YxG2e4F/s7CtIxyIkXLx9aInx4UxgNhFMvEei3v2dMAbRu0A/Ug
 9gKOkLscLd0Tuce+Cja1DHMmUGbRNNlFWIncnjnQLZLDora+XGwHU5WMCC6EuscLXA3f8/e+0+0
 jIBl7yohKs4aNq/WeDe1Sj0NVQjHjQDGhwlKqxAFjgpAoxTjgtI7RskXI
X-Gm-Gg: ASbGncutQS9h1M5xvpv47Ff61+Fu0CxRxlvRxSA2AmKMYW0H/131APj25LYnyWNtIC3
 d8I+1ReBicizJk3vNCAzE67ZEzvTK6G//hupKy6eGIgI+eikV/Zf6rubt/5vc8WjIoB5D9c3Yi7
 RDNpjkIcuaQWuLsOFHIT/odU5sX/T0Ag69sI7PMGwy9UOnyMn01pokpyJ4LZ2De2rN6VmP9mhZY
 75Ak8NlnJcFBKs8DcDJXvMgaKjR195HVDxPSiRnXlpqXofPa6rVBt2iCTjtyqD0eWzgQTE3itAA
 feMBcCBjHfQTAvbk5aSPYOON0dmr2qDMR99BxLJTgA==
X-Google-Smtp-Source: AGHT+IHEgZpnMWhJp5o3X1pTnlShmCa+dAuFUcMDIDH62s0hBHy1rwSVPPNueoKC4X7v7ORRhzyE2z0ykN6k
X-Received: by 2002:a05:6e02:1705:b0:3a7:87f2:b010 with SMTP id
 e9e14a558f8ab-3d04f4052damr53958865ab.5.1738807268688; 
 Wed, 05 Feb 2025 18:01:08 -0800 (PST)
Received: from postal.iol.unh.edu (postal.iol.unh.edu.
 [2606:4100:3880:1234::84]) by smtp-relay.gmail.com with ESMTPS id
 e9e14a558f8ab-3d05ea20977sm79705ab.63.2025.02.05.18.01.08
 (version=TLS1_2 cipher=ECDHE-ECDSA-AES128-GCM-SHA256 bits=128/128);
 Wed, 05 Feb 2025 18:01:08 -0800 (PST)
X-Relaying-Domain: iol.unh.edu
Date: Wed, 05 Feb 2025 18:01:08 -0800 (PST)
Message-ID: <67a417e4.050a0220.12e9c5.0764SMTPIN_ADDED_MISSING@mx.google.com>
Received: from [172.21.0.6] (unknown [172.18.0.240])
 by postal.iol.unh.edu (Postfix) with ESMTP id 3579D6052471;
 Wed,  5 Feb 2025 21:01:08 -0500 (EST)
Subject: |SUCCESS| pw151006-151005 [PATCH] [v3,2/2] drivers/net: add MSVC com
From: dpdklab@iol.unh.edu
To: Test Report <test-report@dpdk.org>
Cc: dpdk-test-reports@iol.unh.edu
In-Reply-To: <1738781590-2408-3-git-send-email-andremue@linux.microsoft.com>
References: <1738781590-2408-3-git-send-email-andremue@linux.microsoft.com>
Content-Type: text/plain
X-BeenThere: test-report@dpdk.org
X-Mailman-Version: 2.1.29
Precedence: list
List-Id: automatic DPDK test reports <test-report.dpdk.org>
List-Unsubscribe: <https://mails.dpdk.org/options/test-report>,
 <mailto:test-report-request@dpdk.org?subject=unsubscribe>
List-Archive: <http://mails.dpdk.org/archives/test-report/>
List-Post: <mailto:test-report@dpdk.org>
List-Help: <mailto:test-report-request@dpdk.org?subject=help>
List-Subscribe: <https://mails.dpdk.org/listinfo/test-report>,
 <mailto:test-report-request@dpdk.org?subject=subscribe>
Errors-To: test-report-bounces@dpdk.org

Test-Label: iol-abi-testing
Test-Status: SUCCESS
http://dpdk.org/patch/151005

_Testing PASS_

Submitter: Andre Muezerie <andremue@linux.microsoft.com>
Date: Wednesday, February 05 2025 18:53:10 
DPDK git baseline: Repo:dpdk
  Branch: master
  CommitID:e595e7b5758fc73d99b810f5a8748f94bd467084

151006-151005 --> testing pass

Upstream job id: Generic-DPDK-Compile-ABI#114955

Test environment and result as below:

+-------------------+----------+
|    Environment    | abi_test |
+===================+==========+
| Debian Bullseye   | PASS     |
+-------------------+----------+
| CentOS Stream 9   | PASS     |
+-------------------+----------+
| Debian 12         | PASS     |
+-------------------+----------+
| Fedora 41 (Clang) | PASS     |
+-------------------+----------+
| Fedora 40         | PASS     |
+-------------------+----------+
| Fedora 41         | PASS     |
+-------------------+----------+
| Fedora 40 (Clang) | PASS     |
+-------------------+----------+
| Ubuntu 22.04      | PASS     |
+-------------------+----------+
| Ubuntu 24.04      | PASS     |
+-------------------+----------+
| RHEL8             | PASS     |
+-------------------+----------+
| openSUSE Leap 15  | PASS     |
+-------------------+----------+
| RHEL9             | PASS     |
+-------------------+----------+


Debian Bullseye
	Kernel: Depends on container host
	Compiler: gcc (Debian 10.2.1-6) 10.2.1 20210110

CentOS Stream 9
	Kernel: Depends on container host
	Compiler: gcc 11.5.0 20240719 (Red Hat 11.5.0-2)

Debian 12
	Kernel: Depends on container host
	Compiler: gcc (Debian 12.2.0-14) 12.2.0

Fedora 41 (Clang)
	Kernel: Depends on container host
	Compiler: clang 19.1.5 (Fedora 19.1.5-1.fc41)

Fedora 40
	Kernel: Depends on container host
	Compiler: gcc 14.2.1 20240912 (Red Hat 14.2.1-3)

Fedora 41
	Kernel: Depends on container host
	Compiler: gcc 14.2.1 20240912 (Red Hat 14.2.1-3)

Fedora 40 (Clang)
	Kernel: Depends on container host
	Compiler: clang 18.1.8 (Fedora 18.1.8-1.fc40)

Ubuntu 22.04
	Kernel: Depends on container host
	Compiler: gcc (Ubuntu 11.4.0-1ubuntu1~22.04) 11.4.0

Ubuntu 24.04
	Kernel: Depends on container host
	Compiler: gcc (Ubuntu 13.3.0-6ubuntu2~24.04) 13.3.0

RHEL8
	Kernel: Depends on container host
	Compiler: gcc 8.5.0 20210514 (Red Hat 8.5.0-22)

openSUSE Leap 15
	Kernel: Depends on container host
	Compiler: gcc (SUSE Linux) 7.5.0

RHEL9
	Kernel: Depends on container host
	Compiler: gcc 11.5.0 20240719 (Red Hat 11.5.0-2)

To view detailed results, visit:
https://lab.dpdk.org/results/dashboard/patchsets/32504/

UNH-IOL DPDK Community Lab

To manage your email subscriptions, visit: 
https://lab.dpdk.org/results/dashboard/preferences/subscriptions/