From mboxrd@z Thu Jan 1 00:00:00 1970 Return-Path: Received: from mails.dpdk.org (mails.dpdk.org [217.70.189.124]) by inbox.dpdk.org (Postfix) with ESMTP id 0C8E7461A3 for ; Thu, 6 Feb 2025 03:03:06 +0100 (CET) Received: from mails.dpdk.org (localhost [127.0.0.1]) by mails.dpdk.org (Postfix) with ESMTP id CE1F34066F; Thu, 6 Feb 2025 03:03:05 +0100 (CET) Received: from mail-il1-f226.google.com (mail-il1-f226.google.com [209.85.166.226]) by mails.dpdk.org (Postfix) with ESMTP id C2003402F1 for ; Thu, 6 Feb 2025 03:03:03 +0100 (CET) Received: by mail-il1-f226.google.com with SMTP id e9e14a558f8ab-3cfe17f75dfso2818635ab.2 for ; Wed, 05 Feb 2025 18:03:03 -0800 (PST) DKIM-Signature: v=1; a=rsa-sha256; c=relaxed/relaxed; d=iol.unh.edu; s=unh-iol; t=1738807383; x=1739412183; darn=dpdk.org; h=references:in-reply-to:cc:to:from:subject:message-id:date:from:to :cc:subject:date:message-id:reply-to; bh=CDfinXSzrCHM7D2QOxmwaoOED5rR8MfGREbgXYk32TQ=; b=JIVIH0qntMCfIvdfVm6yfz3E1cGXH/cGf/t8kRJpQQYbiOooxuOYXtZmph8P4qxNnj kMvMy2IotMfy+SAZsQ7DYf7wpNpx9saHXxApuS7NeZCrjdFCP2NDnUv/fJqyLK6vHukk 8t7FvseDtQ6oI30ppI3/vk/DnaKQp3pkHWQ5I= X-Google-DKIM-Signature: v=1; a=rsa-sha256; c=relaxed/relaxed; d=1e100.net; s=20230601; t=1738807383; x=1739412183; h=references:in-reply-to:cc:to:from:subject:message-id:date :x-gm-message-state:from:to:cc:subject:date:message-id:reply-to; bh=CDfinXSzrCHM7D2QOxmwaoOED5rR8MfGREbgXYk32TQ=; b=Gp37WPNLeIC+tPVj5mZJipsM87l4UmEg3rHeAoJHvj4T4CJKms7YPa7rofvBLXgfe/ yj4jUDGGJXNfzXwK0pB9H8HS5cAsUS2LV0ijCpcSxLFmcdtHZj1HQhOzii7HWZHKZ1ps UxycVJTDyJWaq6lKHXpfiaEHms0DYH7JcTiNbvZjhzFKUvw9URwiVetXNJ6y3rwStQsi FRDb2r7vC7TCteWdTQIomBKw1lzkAES7xpGTbLm+y02NR/3ucYBUmGcGMIfh1gb6njkt A0nhqWWP/Q99fhdAnBZ9S18VdyU4RQcCcFEdRC4rUq7ObgCJsqmo3ZLCg0xtKM+8a4LG XU9w== X-Gm-Message-State: AOJu0YxY8Qmxw5sMbTaSUFd4YjvB58P2ohClvximWOqi71m9YHXHBJYR fbU4Va8IMfewAixGqPQq3CWxgk+oP4T9WdnACNOY6uWikzdo9YfOOXsNitgxtwf3DrSgUHYame2 sBW59JEU6Pjpm7pZ8BzeggQO+XTpRPu+xIbrT74oS X-Gm-Gg: ASbGncsF1O/ViTHImv5yc95rJsf2Id3I90JRRpnTJV+xqD0OBJD94aQuwPySUc9kKoa OGh0Bo8IJDjZS63jIyQcA9dv0je8Q8HDIG+eBfI7SIAkmXFQ45EVvWAyNMBhIgOg4vOa+A1CZEs rLA+5QAz/YN0/DqusTjaxFQ7URlYzb4taO+W8/DIM9DGmjXyTZroUve4Q7vWuO/ztXTtZmnLQPd e7iJ31VocHomfu1QIj3k/K8cGhobngtRWaWy2vldntIw67SRr9eaWtOXF8bRPoouq0yy1T65egY ZykVAJ3hTl2Kljd3/8DIjJv3dzHYMg== X-Google-Smtp-Source: AGHT+IEqQu4+oQeJSrA7JpVLAocUzPP9j50W4STaHwZNHH7+jDJgdeLH2zywAJU4Fgr3Tj6q2tNPy351kbSH X-Received: by 2002:a05:6e02:170f:b0:3d0:4c9c:965f with SMTP id e9e14a558f8ab-3d04f902352mr48320975ab.20.1738807383105; Wed, 05 Feb 2025 18:03:03 -0800 (PST) Received: from postal.iol.unh.edu (postal.iol.unh.edu. [132.177.123.84]) by smtp-relay.gmail.com with ESMTPS id e9e14a558f8ab-3d05e8d9272sm92665ab.1.2025.02.05.18.03.03 (version=TLS1_2 cipher=ECDHE-ECDSA-AES128-GCM-SHA256 bits=128/128); Wed, 05 Feb 2025 18:03:03 -0800 (PST) X-Relaying-Domain: iol.unh.edu Date: Wed, 05 Feb 2025 18:03:03 -0800 (PST) Message-ID: <67a41857.050a0220.21fed0.08d5SMTPIN_ADDED_MISSING@mx.google.com> Received: from [172.21.0.7] (unknown [172.18.0.240]) by postal.iol.unh.edu (Postfix) with ESMTP id B92936052471; Wed, 5 Feb 2025 21:03:02 -0500 (EST) Subject: |SUCCESS| pw150970 [PATCH] [v5] eal: define __SIZEOF_LONG__ when usi From: dpdklab@iol.unh.edu To: Test Report Cc: dpdk-test-reports@iol.unh.edu In-Reply-To: <1738771937-18083-1-git-send-email-andremue@linux.microsoft.com> References: <1738771937-18083-1-git-send-email-andremue@linux.microsoft.com> Content-Type: text/plain X-BeenThere: test-report@dpdk.org X-Mailman-Version: 2.1.29 Precedence: list List-Id: automatic DPDK test reports List-Unsubscribe: , List-Archive: List-Post: List-Help: List-Subscribe: , Errors-To: test-report-bounces@dpdk.org Test-Label: iol-compile-amd64-testing Test-Status: SUCCESS http://dpdk.org/patch/150970 _Testing PASS_ Submitter: Andre Muezerie Date: Wednesday, February 05 2025 16:12:17 DPDK git baseline: Repo:dpdk Branch: master CommitID:32c18e7364e30a8e43cc7cc6709a7ce606fa285e 150970 --> testing pass Upstream job id: Generic-VM-DPDK-Compile-Meson#33074 Test environment and result as below: +---------------------+--------------------+-------------------+ | Environment | dpdk_meson_compile | dpdk_msvc_compile | +=====================+====================+===================+ | FreeBSD 13.4 | PASS | SKIPPED | +---------------------+--------------------+-------------------+ | FreeBSD 14.2 | PASS | SKIPPED | +---------------------+--------------------+-------------------+ | Windows Server 2022 | SKIPPED | PASS | +---------------------+--------------------+-------------------+ FreeBSD 13.4 Kernel: 13.4-RELEASE-p1 Compiler: clang 18.1.6 FreeBSD 14.2 Kernel: 14.2-RELEASE Compiler: clang 18.1.6 Windows Server 2022 Kernel: 10.0.20348.2031 Compiler: clang 15.0.7, gcc 14.1.0 (MinGW), and MSVC VS 19.39.33521 To view detailed results, visit: https://lab.dpdk.org/results/dashboard/patchsets/32498/ UNH-IOL DPDK Community Lab To manage your email subscriptions, visit: https://lab.dpdk.org/results/dashboard/preferences/subscriptions/