From mboxrd@z Thu Jan 1 00:00:00 1970 Return-Path: Received: from mails.dpdk.org (mails.dpdk.org [217.70.189.124]) by inbox.dpdk.org (Postfix) with ESMTP id 86D1B461A3 for ; Thu, 6 Feb 2025 03:04:44 +0100 (CET) Received: from mails.dpdk.org (localhost [127.0.0.1]) by mails.dpdk.org (Postfix) with ESMTP id 842174066E; Thu, 6 Feb 2025 03:04:44 +0100 (CET) Received: from mail-io1-f97.google.com (mail-io1-f97.google.com [209.85.166.97]) by mails.dpdk.org (Postfix) with ESMTP id B32AA402F1 for ; Thu, 6 Feb 2025 03:04:43 +0100 (CET) Received: by mail-io1-f97.google.com with SMTP id ca18e2360f4ac-84cdacbc373so17190539f.1 for ; Wed, 05 Feb 2025 18:04:43 -0800 (PST) DKIM-Signature: v=1; a=rsa-sha256; c=relaxed/relaxed; d=iol.unh.edu; s=unh-iol; t=1738807483; x=1739412283; darn=dpdk.org; h=references:in-reply-to:cc:to:from:subject:message-id:date:from:to :cc:subject:date:message-id:reply-to; bh=bEqIVxzU2oJL7G3CL3Uvxut23DqBiyR3Id8w721RLrE=; b=OAbmViFSu+r8/uO8LjSpChtHUx4of+6QbYZhPUZvoF8OYT4XxiX7/vMmh79bUtD8hy q1shuCn7YYjYjUI8oYJW29kTJ0kYJ5HvusFEW+QwsucPi2bff5mAEa2l8RAZ5LyndpzG Fwr4DLxdS7O0JvBs71SWmPQ2yQUOJ3I976/dQ= X-Google-DKIM-Signature: v=1; a=rsa-sha256; c=relaxed/relaxed; d=1e100.net; s=20230601; t=1738807483; x=1739412283; h=references:in-reply-to:cc:to:from:subject:message-id:date :x-gm-message-state:from:to:cc:subject:date:message-id:reply-to; bh=bEqIVxzU2oJL7G3CL3Uvxut23DqBiyR3Id8w721RLrE=; b=H9uymsT55pl4gecadrUwW7AiEK9ZvSMkyLcfbYjsy2gSKnGJjXKa97c9Cbk1lQErZA 4iFMSDnRdF2c4udYBgDzqFPBA/pc2yXkXWXBlH1l4k46U5IACbnr6eYrHBRc1PrdN+gd e1F7Z8yarAlt4g2PeiPOrZsxyHeI2fuaG7VTau8QJwWHVXey0mmZzMyTffS46cj9jnyZ JzYzsEC+7br21+NnPpCzovSBgXC9+IoPZi7A/V8a261IVzpQ4tyfLl51vzz0XKrP4mV7 sZS6Jumb9Ju+TIaWTG+g9L3Uv9r4trT2BzTQS963FKk1O72WF/DHBAfx7KPmiReZvJEl eAtg== X-Gm-Message-State: AOJu0YyVN/IR5HrNwNh91/2RugY+ppdDlJq6hkTRXU9Z7bgyXoPu+2AH oV/NiPj1UJCEViXrDJ/vdk70fut/dSJdVKpAf+c5wGf1MBsnUAYHzGLiSRWwTyBaFZoFCJaAuXn herU7l8dhHo41kPcihUN0s2dpHKJJ8ddP6e0ddQLCklsXYRmhEhUNAV77 X-Gm-Gg: ASbGncuNtVb0dLoHYviwEEvkPeGD9LrTb0bWBZUCbRTK3zzXm2wmm6tZqr2WNdaqgj+ yV0YH7xB7D9QJ8fo4dsmDx6zG6OlfPh8sGkdEtraC/3gaYNQY8O/mFIl6MKNbTWNHvQMl14rrsb TEU/Udcy5/TLQmpkpjlM7kx1wLYSXc2U/Sw34t2LTsof01vcU813isZUEWblpvxEARhdRfz4GHH UYhlPqS74P5XBOjo5qFnewtqWt+nu1T62p5UPanZFUQAHTnMqyUT0GrnDuswbAyB1w8eML2w2yG 9hOwE3XYIX7xYh2tG36SIcXmSZ/pVFiXYNP0k9v2BQ== X-Google-Smtp-Source: AGHT+IHTJS+L29hnzJV0NVfM5yTqtqz9B4N39a4Q1pJ5w+ceQAlGyrL7rxwjJEyssmIis/oXVh+gBxolwSPx X-Received: by 2002:a05:6e02:b4d:b0:3cf:f8de:7662 with SMTP id e9e14a558f8ab-3d04f8f6c8dmr52158105ab.18.1738807483065; Wed, 05 Feb 2025 18:04:43 -0800 (PST) Received: from postal.iol.unh.edu (postal.iol.unh.edu. [2606:4100:3880:1234::84]) by smtp-relay.gmail.com with ESMTPS id e9e14a558f8ab-3d05e8da749sm91865ab.4.2025.02.05.18.04.42 (version=TLS1_2 cipher=ECDHE-ECDSA-AES128-GCM-SHA256 bits=128/128); Wed, 05 Feb 2025 18:04:43 -0800 (PST) X-Relaying-Domain: iol.unh.edu Date: Wed, 05 Feb 2025 18:04:43 -0800 (PST) Message-ID: <67a418bb.050a0220.27bd31.0853SMTPIN_ADDED_MISSING@mx.google.com> Received: from [172.21.0.5] (unknown [172.18.0.240]) by postal.iol.unh.edu (Postfix) with ESMTP id 8B1A16052471; Wed, 5 Feb 2025 21:04:42 -0500 (EST) Subject: |SUCCESS| pw150970 [PATCH] [v5] eal: define __SIZEOF_LONG__ when usi From: dpdklab@iol.unh.edu To: Test Report Cc: dpdk-test-reports@iol.unh.edu In-Reply-To: <1738771937-18083-1-git-send-email-andremue@linux.microsoft.com> References: <1738771937-18083-1-git-send-email-andremue@linux.microsoft.com> Content-Type: text/plain X-BeenThere: test-report@dpdk.org X-Mailman-Version: 2.1.29 Precedence: list List-Id: automatic DPDK test reports List-Unsubscribe: , List-Archive: List-Post: List-Help: List-Subscribe: , Errors-To: test-report-bounces@dpdk.org Test-Label: iol-compile-amd64-testing Test-Status: SUCCESS http://dpdk.org/patch/150970 _Testing PASS_ Submitter: Andre Muezerie Date: Wednesday, February 05 2025 16:12:17 DPDK git baseline: Repo:dpdk Branch: master CommitID:32c18e7364e30a8e43cc7cc6709a7ce606fa285e 150970 --> testing pass Upstream job id: Windows-Compile-DPDK-VS#4828 Test environment and result as below: +---------------------+--------------------+-------------------+ | Environment | dpdk_meson_compile | dpdk_msvc_compile | +=====================+====================+===================+ | FreeBSD 13.4 | PASS | SKIPPED | +---------------------+--------------------+-------------------+ | FreeBSD 14.2 | PASS | SKIPPED | +---------------------+--------------------+-------------------+ | Windows Server 2022 | SKIPPED | PASS | +---------------------+--------------------+-------------------+ FreeBSD 13.4 Kernel: 13.4-RELEASE-p1 Compiler: clang 18.1.6 FreeBSD 14.2 Kernel: 14.2-RELEASE Compiler: clang 18.1.6 Windows Server 2022 Kernel: 10.0.20348.2031 Compiler: clang 15.0.7, gcc 14.1.0 (MinGW), and MSVC VS 19.39.33521 To view detailed results, visit: https://lab.dpdk.org/results/dashboard/patchsets/32498/ UNH-IOL DPDK Community Lab To manage your email subscriptions, visit: https://lab.dpdk.org/results/dashboard/preferences/subscriptions/