From mboxrd@z Thu Jan 1 00:00:00 1970 Return-Path: Received: from mails.dpdk.org (mails.dpdk.org [217.70.189.124]) by inbox.dpdk.org (Postfix) with ESMTP id C30D6461A3 for ; Thu, 6 Feb 2025 03:06:01 +0100 (CET) Received: from mails.dpdk.org (localhost [127.0.0.1]) by mails.dpdk.org (Postfix) with ESMTP id C0D894066E; Thu, 6 Feb 2025 03:06:01 +0100 (CET) Received: from mail-ot1-f97.google.com (mail-ot1-f97.google.com [209.85.210.97]) by mails.dpdk.org (Postfix) with ESMTP id EBD51402F1 for ; Thu, 6 Feb 2025 03:05:59 +0100 (CET) Received: by mail-ot1-f97.google.com with SMTP id 46e09a7af769-71e2766994bso264506a34.3 for ; Wed, 05 Feb 2025 18:05:59 -0800 (PST) DKIM-Signature: v=1; a=rsa-sha256; c=relaxed/relaxed; d=iol.unh.edu; s=unh-iol; t=1738807559; x=1739412359; darn=dpdk.org; h=references:in-reply-to:cc:to:from:subject:message-id:date:from:to :cc:subject:date:message-id:reply-to; bh=2MqtO72UipUJBivFguxBKzDJJCVR8VGWZntvt7l67wQ=; b=CnISYJ0cZyDh6aOLDVPoReHBchMcoPtW4WWRqc8gJWYq2JpvvEc7ieGTJk6JG89Nk/ TpSNTSIuVar8+hsWCckwEyntIcfcSBVvuRguNuaO/m+A68Y+GFHGxW99RChIxFa2TkIY pfIqnsD9xa8CEfWxYXPmaASriysritIvw7aaQ= X-Google-DKIM-Signature: v=1; a=rsa-sha256; c=relaxed/relaxed; d=1e100.net; s=20230601; t=1738807559; x=1739412359; h=references:in-reply-to:cc:to:from:subject:message-id:date :x-gm-message-state:from:to:cc:subject:date:message-id:reply-to; bh=2MqtO72UipUJBivFguxBKzDJJCVR8VGWZntvt7l67wQ=; b=kOuAyVoK+HpInDfZ7BAC7uQNdhWTA3a64e0BoynDBi/5gfr/d1mQr//RJCG588wzYr 45H8tFWY/8VixBg9QIbGft90NS6LBNHhqk1gehORFQHsLf0PyX8/mvbmhKcDbuink7nw U1+sznclajgERFO2iE1gXKWjNn0Tkks4Mt+QPLYX2D3lt5tEMseu0m2KNJfJYleJkN/E sTfHjUrJRqnUWpUsV2xDYX4obRk4O9Zhjctk8+POEHPv0kiUbaFPWoAlnFN5IAWyqlY3 SkXOXxRcal2S+SFs9HFu0nHftITxNly7dfdT8p+KKE/NUzRd7kVA19oXc9dyiiwOfKhw oOdw== X-Gm-Message-State: AOJu0YxiaPPxe2qQZCakV7Hfe+eBs2i+DV3y2XbxuefCqL7gwEWSUQ51 Is8r+PP537Y8CvkEktMIwM5sd+NoKJYfv3HOncZDPgXM4xmXUTMijOd5i9uvI3JzgJTun+fTKun 5CldocqeyQdMHdPkFQGFhZW0pd59NHCTW7cbwPX6g X-Gm-Gg: ASbGncuPnm0I/XkM9T6z+3d/JkRZmuLR6n/8R/qRbeKJnZMVhLB6W2ZD52fCElRx4jo Zga/Fz9uHNqEhz9umWpcoXWnnXucAmL+GcqR6i7JOkJqlQqY3MqOfbnhQJYf3eg5Bw46vwacnWW rZJP7Fm5uPeMYuyOLf+yn7588TJvRLb89C2e3DD5whbxkJTiY0BQPuQ6ndHdnIO/HT85MEu1kkE Le0whzJpEPbrYDH6v77B7f+1cU7rWrFbqnCHQ0klg6ScIZlx7lSwjyAqdJx2+P8KehlPaMpRRJH +M1LEhJCHF9IXXnszJW0n9UOdGXB3Q== X-Google-Smtp-Source: AGHT+IGc6eMAqmsyHenDWqsdJUFg2JfIfwao8kiaABl5VpJS5m7QfhlD35Hx+Jx8tyfe92BxCLGQt6dFCNuo X-Received: by 2002:a05:6830:390f:b0:71d:6221:d4b7 with SMTP id 46e09a7af769-726a428bd5emr3766292a34.28.1738807559242; Wed, 05 Feb 2025 18:05:59 -0800 (PST) Received: from postal.iol.unh.edu (postal.iol.unh.edu. [132.177.123.84]) by smtp-relay.gmail.com with ESMTPS id 46e09a7af769-726afa20e37sm17690a34.12.2025.02.05.18.05.59 (version=TLS1_2 cipher=ECDHE-ECDSA-AES128-GCM-SHA256 bits=128/128); Wed, 05 Feb 2025 18:05:59 -0800 (PST) X-Relaying-Domain: iol.unh.edu Date: Wed, 05 Feb 2025 18:05:59 -0800 (PST) Message-ID: <67a41907.9d0a0220.1307f5.10a6SMTPIN_ADDED_MISSING@mx.google.com> Received: from [172.21.0.6] (unknown [172.18.0.240]) by postal.iol.unh.edu (Postfix) with ESMTP id AA6706052471; Wed, 5 Feb 2025 21:05:58 -0500 (EST) Subject: |SUCCESS| pw150992-151002 [PATCH] [11/11] net/bnxt: address coverity From: dpdklab@iol.unh.edu To: Test Report Cc: dpdk-test-reports@iol.unh.edu In-Reply-To: <20250205172004.50395-12-ajit.khaparde@broadcom.com> References: <20250205172004.50395-12-ajit.khaparde@broadcom.com> Content-Type: text/plain X-BeenThere: test-report@dpdk.org X-Mailman-Version: 2.1.29 Precedence: list List-Id: automatic DPDK test reports List-Unsubscribe: , List-Archive: List-Post: List-Help: List-Subscribe: , Errors-To: test-report-bounces@dpdk.org Test-Label: iol-compile-amd64-testing Test-Status: SUCCESS http://dpdk.org/patch/151002 _Testing PASS_ Submitter: Ajit Khaparde Date: Wednesday, February 05 2025 17:20:04 DPDK git baseline: Repo:dpdk Branch: master CommitID:32c18e7364e30a8e43cc7cc6709a7ce606fa285e 150992-151002 --> testing pass Upstream job id: Generic-DPDK-Compile-Meson#358133 Test environment and result as below: +---------------------+--------------------+-------------------+----------------------+------------------+-------------------+ | Environment | dpdk_meson_compile | dpdk_msvc_compile | dpdk_mingw64_compile | dpdk_compile_ovs | dpdk_compile_spdk | +=====================+====================+===================+======================+==================+===================+ | FreeBSD 13.4 | PASS | SKIPPED | SKIPPED | SKIPPED | SKIPPED | +---------------------+--------------------+-------------------+----------------------+------------------+-------------------+ | FreeBSD 14.2 | PASS | SKIPPED | SKIPPED | SKIPPED | SKIPPED | +---------------------+--------------------+-------------------+----------------------+------------------+-------------------+ | CentOS Stream 9 | PASS | SKIPPED | SKIPPED | PASS | PASS | +---------------------+--------------------+-------------------+----------------------+------------------+-------------------+ | Debian Bullseye | PASS | SKIPPED | SKIPPED | PASS | PASS | +---------------------+--------------------+-------------------+----------------------+------------------+-------------------+ | Debian 12 | PASS | SKIPPED | SKIPPED | PASS | PASS | +---------------------+--------------------+-------------------+----------------------+------------------+-------------------+ | Fedora 40 (Clang) | PASS | SKIPPED | SKIPPED | PASS | PASS | +---------------------+--------------------+-------------------+----------------------+------------------+-------------------+ | Fedora 40 | PASS | SKIPPED | SKIPPED | PASS | PASS | +---------------------+--------------------+-------------------+----------------------+------------------+-------------------+ | Fedora 41 (Clang) | PASS | SKIPPED | SKIPPED | PASS | PASS | +---------------------+--------------------+-------------------+----------------------+------------------+-------------------+ | Fedora 41 | PASS | SKIPPED | SKIPPED | PASS | PASS | +---------------------+--------------------+-------------------+----------------------+------------------+-------------------+ | openSUSE Leap 15 | PASS | SKIPPED | SKIPPED | SKIPPED | SKIPPED | +---------------------+--------------------+-------------------+----------------------+------------------+-------------------+ | RHEL8 | PASS | SKIPPED | SKIPPED | PASS | SKIPPED | +---------------------+--------------------+-------------------+----------------------+------------------+-------------------+ | RHEL9 | PASS | SKIPPED | SKIPPED | PASS | SKIPPED | +---------------------+--------------------+-------------------+----------------------+------------------+-------------------+ | Ubuntu 20.04 | PASS | SKIPPED | SKIPPED | SKIPPED | SKIPPED | +---------------------+--------------------+-------------------+----------------------+------------------+-------------------+ | Ubuntu 22.04 | PASS | SKIPPED | SKIPPED | PASS | PASS | +---------------------+--------------------+-------------------+----------------------+------------------+-------------------+ | Ubuntu 24.04 | PASS | SKIPPED | SKIPPED | PASS | PASS | +---------------------+--------------------+-------------------+----------------------+------------------+-------------------+ | Alpine | PASS | SKIPPED | SKIPPED | PASS | SKIPPED | +---------------------+--------------------+-------------------+----------------------+------------------+-------------------+ | Windows Server 2022 | SKIPPED | PASS | PASS | SKIPPED | SKIPPED | +---------------------+--------------------+-------------------+----------------------+------------------+-------------------+ FreeBSD 13.4 Kernel: 13.4-RELEASE-p1 Compiler: clang 18.1.6 FreeBSD 14.2 Kernel: 14.2-RELEASE Compiler: clang 18.1.6 CentOS Stream 9 Kernel: Depends on container host Compiler: gcc 11.5.0 20240719 (Red Hat 11.5.0-2) Debian Bullseye Kernel: Depends on container host Compiler: gcc (Debian 10.2.1-6) 10.2.1 20210110 Debian 12 Kernel: Depends on container host Compiler: gcc (Debian 12.2.0-14) 12.2.0 Fedora 40 (Clang) Kernel: Depends on container host Compiler: clang 18.1.8 (Fedora 18.1.8-1.fc40) Fedora 40 Kernel: Depends on container host Compiler: gcc 14.2.1 20240912 (Red Hat 14.2.1-3) Fedora 41 (Clang) Kernel: Depends on container host Compiler: clang 19.1.5 (Fedora 19.1.5-1.fc41) Fedora 41 Kernel: Depends on container host Compiler: gcc 14.2.1 20240912 (Red Hat 14.2.1-3) openSUSE Leap 15 Kernel: Depends on container host Compiler: gcc (SUSE Linux) 7.5.0 RHEL8 Kernel: Depends on container host Compiler: gcc 8.5.0 20210514 (Red Hat 8.5.0-22) RHEL9 Kernel: Depends on container host Compiler: gcc 11.5.0 20240719 (Red Hat 11.5.0-2) Ubuntu 20.04 Kernel: Depends on container host Compiler: gcc (Ubuntu 9.4.0-1ubuntu1~20.04.2) 9.4.0 Ubuntu 22.04 Kernel: Depends on container host Compiler: gcc (Ubuntu 11.4.0-1ubuntu1~22.04) 11.4.0 Ubuntu 24.04 Kernel: Depends on container host Compiler: gcc (Ubuntu 13.3.0-6ubuntu2~24.04) 13.3.0 Alpine Kernel: Depends on container host Compiler: gcc (Alpine 14.2.0) 14.2.0 Windows Server 2022 Kernel: 10.0.20348.2031 Compiler: clang 15.0.7, gcc 14.1.0 (MinGW), and MSVC VS 19.39.33521 To view detailed results, visit: https://lab.dpdk.org/results/dashboard/patchsets/32502/ UNH-IOL DPDK Community Lab To manage your email subscriptions, visit: https://lab.dpdk.org/results/dashboard/preferences/subscriptions/