From mboxrd@z Thu Jan 1 00:00:00 1970 Return-Path: Received: from mails.dpdk.org (mails.dpdk.org [217.70.189.124]) by inbox.dpdk.org (Postfix) with ESMTP id 23970461A3 for ; Thu, 6 Feb 2025 03:07:53 +0100 (CET) Received: from mails.dpdk.org (localhost [127.0.0.1]) by mails.dpdk.org (Postfix) with ESMTP id 040CF4066E; Thu, 6 Feb 2025 03:07:53 +0100 (CET) Received: from mail-yb1-f226.google.com (mail-yb1-f226.google.com [209.85.219.226]) by mails.dpdk.org (Postfix) with ESMTP id 355C9402F1 for ; Thu, 6 Feb 2025 03:07:51 +0100 (CET) Received: by mail-yb1-f226.google.com with SMTP id 3f1490d57ef6-e53a91756e5so374076276.1 for ; Wed, 05 Feb 2025 18:07:51 -0800 (PST) DKIM-Signature: v=1; a=rsa-sha256; c=relaxed/relaxed; d=iol.unh.edu; s=unh-iol; t=1738807670; x=1739412470; darn=dpdk.org; h=references:in-reply-to:cc:to:from:subject:message-id:date:from:to :cc:subject:date:message-id:reply-to; bh=PPnW+qxj+sr2NRN12dgLrSJ3K0TsYRn3N5VsvIEaJB8=; b=JHt2A+e0Ud6Mq7Un1fnxDCYe/Q4+4Lo3Z437ruadZB/L3+m+4IYKIppv5rOXD8uCC/ LCLmM4bs52sSNSCEKZGRmDKM8En0AAoSK3+mLI3wlbe4mCVYfaScgNANNt2SH0lhIJuA GxUYGcZHdT+WOJnG+qq7+Voh3ckpQzoBaBqiw= X-Google-DKIM-Signature: v=1; a=rsa-sha256; c=relaxed/relaxed; d=1e100.net; s=20230601; t=1738807670; x=1739412470; h=references:in-reply-to:cc:to:from:subject:message-id:date :x-gm-message-state:from:to:cc:subject:date:message-id:reply-to; bh=PPnW+qxj+sr2NRN12dgLrSJ3K0TsYRn3N5VsvIEaJB8=; b=M+hnySApWDtMaDAHKbuMjBZihfBUu5RPUHYwiao5hK+Pm/9S9xlzaeAu/ntyR1jaoE oiBTWEnmmmHaMMTmL5OJ2IeJfojuS1NIZJXFBYlCvLzxXhtimgvDAiOxWdPnyjJ/u7gc ftki8VrdS0a2Q0xKWmMeELx13MGK9YYdT2QHI1oKiPR6YYamc4fYZSQHsWxEb9nfBhHP E9/uFkJvRKV+tLIoqjO62WcomDnOsu6WQgQwLXwwezspcfJaiYCJB2+p0G4nTOUyjveQ BAQON3BrRdph4Aytd4cUpbsQS7gvuc1+KavqfcOagbxtCyK6M7dUeVBEmja7w5DE2Hkf Gzaw== X-Gm-Message-State: AOJu0Yy3eBclcb+eeOALfEZN5koxl8GvYubIk6tuKI5L9B5FnzTFmM0Z xMVPaPcIB20hb/SdbJqLnhPbzXxhDOzJwyLW6mlS85Sn/bahB09vKVoOrZaRcespQAV6vNOMikT Dn5u1OpVnQKutQbhVJsh1BP05scENl4Q5bGTsUc/YcG/esIoH4YP7Ew7v X-Gm-Gg: ASbGnct7u2fJb54+Fvfww1Ztiy/nJjGphSet/KiMFb4quex0EtswwrJED3Sk2yWT2qh SEid9V32IUjErf7+dMwBsJGOkLJeDbLY9jyZfPu5m3vx+G4krwM18rEZfGz/ZO0jNkXEa9k+9eL 3GILmSVgSfr8G3gvg9CrXO8wlOSdGJW+/DZZZunozMeARHG1VT+f6WunP6ugD36dtnFfh3eDOXL 6XxAir+SLitER+/rr+l/l9E5unjnbijkE9Rs0OGdGSvpor7XZpWoOkyOx0OxOpLqxdA0qTyk/hy RN0XxXkhm/QqllFXpfVvjqA+m5NJx2/0yjcTrzL/QA== X-Google-Smtp-Source: AGHT+IHZx/0IcIly+NZ/Fw7aoAudkYBMx3b9ZNg4b+MZIQx3Ms8ktg7zWN74M9NCJBNy5PRfBVQMicqgbidH X-Received: by 2002:a05:6902:1a47:b0:e49:5f2d:e739 with SMTP id 3f1490d57ef6-e5b2583847dmr4690481276.0.1738807670522; Wed, 05 Feb 2025 18:07:50 -0800 (PST) Received: from postal.iol.unh.edu (postal.iol.unh.edu. [2606:4100:3880:1234::84]) by smtp-relay.gmail.com with ESMTPS id 3f1490d57ef6-e5b3a433c1fsm9897276.21.2025.02.05.18.07.50 (version=TLS1_2 cipher=ECDHE-ECDSA-AES128-GCM-SHA256 bits=128/128); Wed, 05 Feb 2025 18:07:50 -0800 (PST) X-Relaying-Domain: iol.unh.edu Date: Wed, 05 Feb 2025 18:07:50 -0800 (PST) Message-ID: <67a41976.250a0220.213a87.0955SMTPIN_ADDED_MISSING@mx.google.com> Received: from [172.21.0.5] (unknown [172.18.0.240]) by postal.iol.unh.edu (Postfix) with ESMTP id 2B2B76052471; Wed, 5 Feb 2025 21:07:50 -0500 (EST) Subject: |SUCCESS| pw150992-151002 [PATCH] [11/11] net/bnxt: address coverity From: dpdklab@iol.unh.edu To: Test Report Cc: dpdk-test-reports@iol.unh.edu In-Reply-To: <20250205172004.50395-12-ajit.khaparde@broadcom.com> References: <20250205172004.50395-12-ajit.khaparde@broadcom.com> Content-Type: text/plain X-BeenThere: test-report@dpdk.org X-Mailman-Version: 2.1.29 Precedence: list List-Id: automatic DPDK test reports List-Unsubscribe: , List-Archive: List-Post: List-Help: List-Subscribe: , Errors-To: test-report-bounces@dpdk.org Test-Label: iol-compile-amd64-testing Test-Status: SUCCESS http://dpdk.org/patch/151002 _Testing PASS_ Submitter: Ajit Khaparde Date: Wednesday, February 05 2025 17:20:04 DPDK git baseline: Repo:dpdk Branch: master CommitID:32c18e7364e30a8e43cc7cc6709a7ce606fa285e 150992-151002 --> testing pass Upstream job id: Generic-DPDK-Compile-Meson#358132 Test environment and result as below: +---------------------+--------------------+-------------------+----------------------+------------------+-------------------+ | Environment | dpdk_meson_compile | dpdk_msvc_compile | dpdk_mingw64_compile | dpdk_compile_ovs | dpdk_compile_spdk | +=====================+====================+===================+======================+==================+===================+ | FreeBSD 13.4 | PASS | SKIPPED | SKIPPED | SKIPPED | SKIPPED | +---------------------+--------------------+-------------------+----------------------+------------------+-------------------+ | FreeBSD 14.2 | PASS | SKIPPED | SKIPPED | SKIPPED | SKIPPED | +---------------------+--------------------+-------------------+----------------------+------------------+-------------------+ | CentOS Stream 9 | PASS | SKIPPED | SKIPPED | PASS | PASS | +---------------------+--------------------+-------------------+----------------------+------------------+-------------------+ | Debian Bullseye | PASS | SKIPPED | SKIPPED | PASS | PASS | +---------------------+--------------------+-------------------+----------------------+------------------+-------------------+ | Debian 12 | PASS | SKIPPED | SKIPPED | PASS | PASS | +---------------------+--------------------+-------------------+----------------------+------------------+-------------------+ | Fedora 40 (Clang) | PASS | SKIPPED | SKIPPED | PASS | PASS | +---------------------+--------------------+-------------------+----------------------+------------------+-------------------+ | Fedora 40 | PASS | SKIPPED | SKIPPED | PASS | PASS | +---------------------+--------------------+-------------------+----------------------+------------------+-------------------+ | Fedora 41 (Clang) | PASS | SKIPPED | SKIPPED | PASS | PASS | +---------------------+--------------------+-------------------+----------------------+------------------+-------------------+ | Fedora 41 | PASS | SKIPPED | SKIPPED | PASS | PASS | +---------------------+--------------------+-------------------+----------------------+------------------+-------------------+ | openSUSE Leap 15 | PASS | SKIPPED | SKIPPED | SKIPPED | SKIPPED | +---------------------+--------------------+-------------------+----------------------+------------------+-------------------+ | RHEL8 | PASS | SKIPPED | SKIPPED | PASS | SKIPPED | +---------------------+--------------------+-------------------+----------------------+------------------+-------------------+ | RHEL9 | PASS | SKIPPED | SKIPPED | PASS | SKIPPED | +---------------------+--------------------+-------------------+----------------------+------------------+-------------------+ | Ubuntu 20.04 | PASS | SKIPPED | SKIPPED | SKIPPED | SKIPPED | +---------------------+--------------------+-------------------+----------------------+------------------+-------------------+ | Ubuntu 22.04 | PASS | SKIPPED | SKIPPED | PASS | PASS | +---------------------+--------------------+-------------------+----------------------+------------------+-------------------+ | Ubuntu 24.04 | PASS | SKIPPED | SKIPPED | PASS | PASS | +---------------------+--------------------+-------------------+----------------------+------------------+-------------------+ | Alpine | PASS | SKIPPED | SKIPPED | PASS | SKIPPED | +---------------------+--------------------+-------------------+----------------------+------------------+-------------------+ | Windows Server 2022 | SKIPPED | PASS | PASS | SKIPPED | SKIPPED | +---------------------+--------------------+-------------------+----------------------+------------------+-------------------+ FreeBSD 13.4 Kernel: 13.4-RELEASE-p1 Compiler: clang 18.1.6 FreeBSD 14.2 Kernel: 14.2-RELEASE Compiler: clang 18.1.6 CentOS Stream 9 Kernel: Depends on container host Compiler: gcc 11.5.0 20240719 (Red Hat 11.5.0-2) Debian Bullseye Kernel: Depends on container host Compiler: gcc (Debian 10.2.1-6) 10.2.1 20210110 Debian 12 Kernel: Depends on container host Compiler: gcc (Debian 12.2.0-14) 12.2.0 Fedora 40 (Clang) Kernel: Depends on container host Compiler: clang 18.1.8 (Fedora 18.1.8-1.fc40) Fedora 40 Kernel: Depends on container host Compiler: gcc 14.2.1 20240912 (Red Hat 14.2.1-3) Fedora 41 (Clang) Kernel: Depends on container host Compiler: clang 19.1.5 (Fedora 19.1.5-1.fc41) Fedora 41 Kernel: Depends on container host Compiler: gcc 14.2.1 20240912 (Red Hat 14.2.1-3) openSUSE Leap 15 Kernel: Depends on container host Compiler: gcc (SUSE Linux) 7.5.0 RHEL8 Kernel: Depends on container host Compiler: gcc 8.5.0 20210514 (Red Hat 8.5.0-22) RHEL9 Kernel: Depends on container host Compiler: gcc 11.5.0 20240719 (Red Hat 11.5.0-2) Ubuntu 20.04 Kernel: Depends on container host Compiler: gcc (Ubuntu 9.4.0-1ubuntu1~20.04.2) 9.4.0 Ubuntu 22.04 Kernel: Depends on container host Compiler: gcc (Ubuntu 11.4.0-1ubuntu1~22.04) 11.4.0 Ubuntu 24.04 Kernel: Depends on container host Compiler: gcc (Ubuntu 13.3.0-6ubuntu2~24.04) 13.3.0 Alpine Kernel: Depends on container host Compiler: gcc (Alpine 14.2.0) 14.2.0 Windows Server 2022 Kernel: 10.0.20348.2031 Compiler: clang 15.0.7, gcc 14.1.0 (MinGW), and MSVC VS 19.39.33521 To view detailed results, visit: https://lab.dpdk.org/results/dashboard/patchsets/32502/ UNH-IOL DPDK Community Lab To manage your email subscriptions, visit: https://lab.dpdk.org/results/dashboard/preferences/subscriptions/