From mboxrd@z Thu Jan 1 00:00:00 1970 Return-Path: Received: from mails.dpdk.org (mails.dpdk.org [217.70.189.124]) by inbox.dpdk.org (Postfix) with ESMTP id 51EDD461A3 for ; Thu, 6 Feb 2025 03:09:08 +0100 (CET) Received: from mails.dpdk.org (localhost [127.0.0.1]) by mails.dpdk.org (Postfix) with ESMTP id 4847A4066E; Thu, 6 Feb 2025 03:09:08 +0100 (CET) Received: from mail-pj1-f100.google.com (mail-pj1-f100.google.com [209.85.216.100]) by mails.dpdk.org (Postfix) with ESMTP id 3C4BB402F1 for ; Thu, 6 Feb 2025 03:09:07 +0100 (CET) Received: by mail-pj1-f100.google.com with SMTP id 98e67ed59e1d1-2ee9a780de4so501745a91.3 for ; Wed, 05 Feb 2025 18:09:07 -0800 (PST) DKIM-Signature: v=1; a=rsa-sha256; c=relaxed/relaxed; d=iol.unh.edu; s=unh-iol; t=1738807746; x=1739412546; darn=dpdk.org; h=references:in-reply-to:cc:to:from:subject:message-id:date:from:to :cc:subject:date:message-id:reply-to; bh=09NHV7HnKefaZW/xA6wj4t49KljNWUvNp9aK/iEe95A=; b=HnGQMmRYg9z6fl5yYdLeHkJA6JI8j5AB2kZe0O09D1weX3bWWSzcQ/ICCKoThOaYCP +gxdJZpyte4qdSYQ79eeuRe38FC/ZnANkOeylxNCKKC0mRjGbla5Jw3heC29fMfjFB5d Nyjq2/zPBvOwspHtq5sCrwUtEP6zqmrEp4GLE= X-Google-DKIM-Signature: v=1; a=rsa-sha256; c=relaxed/relaxed; d=1e100.net; s=20230601; t=1738807746; x=1739412546; h=references:in-reply-to:cc:to:from:subject:message-id:date :x-gm-message-state:from:to:cc:subject:date:message-id:reply-to; bh=09NHV7HnKefaZW/xA6wj4t49KljNWUvNp9aK/iEe95A=; b=QIMlB4XWLGhRsYUF62UoyiTPy/CTqp7lm1n1WaYRkH55ac8pDDstZSMdXBOq0alXLs YDgt52JkCZDWkKbK/sXIdmBNE5/gxYWRFF0+kItM+ey3YDhDNnuYfDNJdsna9vfQF3xk WNFxywpBBo8ZY8VVMc0kE1CjqNGSCb61sKfOZq/7yLFhQ+yxZv/NJrYgu+biLbv2PgAB mYcP2qiHzAKAEvaAZtK8GqmZBWg7wYyesj0JgW/BhdOT718MdQtme+8/vOuWgUYIYIdc tbEbfPEC0/kzv01pSUuLw5eGaUjcR5GgH5PEeNWUdRvUwMYLVA92kHuE0FF6Tf0d81EY mgzw== X-Gm-Message-State: AOJu0YwCGn9vukq8WS8v0yWZo0SJSJ/TeeV8bsThb0j10DT14Auk4hZL BOos360D1nKrfOH8SgMmUNaC6Ko60Ln7N8aRAzjZnxkpZAIzZIhEDi3JaGS2PkUp+xv6STZXjd6 ZU9qE9r9pRX+i9j0fJeBhq+ByJ9Hakw6OV9JsTPs9 X-Gm-Gg: ASbGncsR7CmWmswIaRFnObePJpL3FyR8zzAJKNhn13mdmJEoO4oii52x3E9G8loSlXz 9aXoZ9oGBvP2y+zeIDmAA5vie2SPKeRv/HiPRwQLbNJc91KE3SBOly8gTAvh0C8DfzoY+NEwUHD JJaoX9G5PnLAHHqm2dhBKB7+aq/dM9ImkL5ph3DoZqFvVJ5q/yiW1vF9pnuR/8YidxeGm56WQrp x19gJnC4my66+lzhCYhbWQz4oGlbimjFxF7lS8QfJL42ChWe6g1OYj8DQgGl/Bck166hrtqUBbN yk5hq0gyRO4LTcCVaHmRrMNivFsoVA== X-Google-Smtp-Source: AGHT+IFxWSdwCfCZxo8LZjVQ4GniLp+4E78Fo8IbSclkEt5qczmSUGNlFCubc1mm5Z8W/yhiodX3urjLVipK X-Received: by 2002:a17:90b:1e50:b0:2ee:599e:f411 with SMTP id 98e67ed59e1d1-2f9e083458emr6762702a91.34.1738807746356; Wed, 05 Feb 2025 18:09:06 -0800 (PST) Received: from postal.iol.unh.edu (postal.iol.unh.edu. [132.177.123.84]) by smtp-relay.gmail.com with ESMTPS id 98e67ed59e1d1-2f9e1d7c70dsm225298a91.5.2025.02.05.18.09.06 (version=TLS1_2 cipher=ECDHE-ECDSA-AES128-GCM-SHA256 bits=128/128); Wed, 05 Feb 2025 18:09:06 -0800 (PST) X-Relaying-Domain: iol.unh.edu Date: Wed, 05 Feb 2025 18:09:06 -0800 (PST) Message-ID: <67a419c2.170a0220.154f45.a69eSMTPIN_ADDED_MISSING@mx.google.com> Received: from [172.21.0.6] (unknown [172.18.0.240]) by postal.iol.unh.edu (Postfix) with ESMTP id C4BDA6052471; Wed, 5 Feb 2025 21:09:05 -0500 (EST) Subject: |SUCCESS| pw151006-151005 [PATCH] [v3,2/2] drivers/net: add MSVC com From: dpdklab@iol.unh.edu To: Test Report Cc: dpdk-test-reports@iol.unh.edu In-Reply-To: <1738781590-2408-3-git-send-email-andremue@linux.microsoft.com> References: <1738781590-2408-3-git-send-email-andremue@linux.microsoft.com> Content-Type: text/plain X-BeenThere: test-report@dpdk.org X-Mailman-Version: 2.1.29 Precedence: list List-Id: automatic DPDK test reports List-Unsubscribe: , List-Archive: List-Post: List-Help: List-Subscribe: , Errors-To: test-report-bounces@dpdk.org Test-Label: iol-abi-testing Test-Status: SUCCESS http://dpdk.org/patch/151005 _Testing PASS_ Submitter: Andre Muezerie Date: Wednesday, February 05 2025 18:53:10 DPDK git baseline: Repo:dpdk Branch: master CommitID:e595e7b5758fc73d99b810f5a8748f94bd467084 151006-151005 --> testing pass Upstream job id: Generic-DPDK-Compile-ABI#114962 Test environment and result as below: +-------------------+----------+ | Environment | abi_test | +===================+==========+ | Debian Bullseye | PASS | +-------------------+----------+ | CentOS Stream 9 | PASS | +-------------------+----------+ | Fedora 40 | PASS | +-------------------+----------+ | Fedora 40 (Clang) | PASS | +-------------------+----------+ | Debian 12 | PASS | +-------------------+----------+ | openSUSE Leap 15 | PASS | +-------------------+----------+ | Ubuntu 22.04 | PASS | +-------------------+----------+ | Fedora 41 (Clang) | PASS | +-------------------+----------+ | Ubuntu 24.04 | PASS | +-------------------+----------+ | Fedora 41 | PASS | +-------------------+----------+ | RHEL9 | PASS | +-------------------+----------+ | RHEL8 | PASS | +-------------------+----------+ Debian Bullseye Kernel: Depends on container host Compiler: gcc (Debian 10.2.1-6) 10.2.1 20210110 CentOS Stream 9 Kernel: Depends on container host Compiler: gcc 11.5.0 20240719 (Red Hat 11.5.0-2) Fedora 40 Kernel: Depends on container host Compiler: gcc 14.2.1 20240912 (Red Hat 14.2.1-3) Fedora 40 (Clang) Kernel: Depends on container host Compiler: clang 18.1.8 (Fedora 18.1.8-1.fc40) Debian 12 Kernel: Depends on container host Compiler: gcc (Debian 12.2.0-14) 12.2.0 openSUSE Leap 15 Kernel: Depends on container host Compiler: gcc (SUSE Linux) 7.5.0 Ubuntu 22.04 Kernel: Depends on container host Compiler: gcc (Ubuntu 11.4.0-1ubuntu1~22.04) 11.4.0 Fedora 41 (Clang) Kernel: Depends on container host Compiler: clang 19.1.5 (Fedora 19.1.5-1.fc41) Ubuntu 24.04 Kernel: Depends on container host Compiler: gcc (Ubuntu 13.3.0-6ubuntu2~24.04) 13.3.0 Fedora 41 Kernel: Depends on container host Compiler: gcc 14.2.1 20240912 (Red Hat 14.2.1-3) RHEL9 Kernel: Depends on container host Compiler: gcc 11.5.0 20240719 (Red Hat 11.5.0-2) RHEL8 Kernel: Depends on container host Compiler: gcc 8.5.0 20210514 (Red Hat 8.5.0-22) To view detailed results, visit: https://lab.dpdk.org/results/dashboard/patchsets/32504/ UNH-IOL DPDK Community Lab To manage your email subscriptions, visit: https://lab.dpdk.org/results/dashboard/preferences/subscriptions/