From: dpdklab@iol.unh.edu
To: Test Report <test-report@dpdk.org>
Cc: dpdk-test-reports@iol.unh.edu
Subject: |SUCCESS| pw151008-151011 [PATCH] [v5,4/4] lib: change find device a
Date: Wed, 05 Feb 2025 18:44:38 -0800 (PST) [thread overview]
Message-ID: <67a42216.050a0220.bae97.1326SMTPIN_ADDED_MISSING@mx.google.com> (raw)
In-Reply-To: <20250206000838.23428-5-shperetz@nvidia.com>
Test-Label: iol-compile-amd64-testing
Test-Status: SUCCESS
http://dpdk.org/patch/151011
_Testing PASS_
Submitter: Shani Peretz <shperetz@nvidia.com>
Date: Thursday, February 06 2025 00:08:38
DPDK git baseline: Repo:dpdk
Branch: master
CommitID:32c18e7364e30a8e43cc7cc6709a7ce606fa285e
151008-151011 --> testing pass
Upstream job id: Generic-VM-DPDK-Compile-Meson#33075
Test environment and result as below:
+---------------------+--------------------+-------------------+
| Environment | dpdk_meson_compile | dpdk_msvc_compile |
+=====================+====================+===================+
| FreeBSD 13.4 | PASS | SKIPPED |
+---------------------+--------------------+-------------------+
| FreeBSD 14.2 | PASS | SKIPPED |
+---------------------+--------------------+-------------------+
| Windows Server 2022 | SKIPPED | PASS |
+---------------------+--------------------+-------------------+
FreeBSD 13.4
Kernel: 13.4-RELEASE-p1
Compiler: clang 18.1.6
FreeBSD 14.2
Kernel: 14.2-RELEASE
Compiler: clang 18.1.6
Windows Server 2022
Kernel: 10.0.20348.2031
Compiler: clang 15.0.7, gcc 14.1.0 (MinGW), and MSVC VS 19.39.33521
To view detailed results, visit:
https://lab.dpdk.org/results/dashboard/patchsets/32506/
UNH-IOL DPDK Community Lab
To manage your email subscriptions, visit:
https://lab.dpdk.org/results/dashboard/preferences/subscriptions/
next prev parent reply other threads:[~2025-02-06 2:44 UTC|newest]
Thread overview: 17+ messages / expand[flat|nested] mbox.gz Atom feed top
[not found] <20250206000838.23428-5-shperetz@nvidia.com>
2025-02-05 23:43 ` |SUCCESS| pw151008-151011 [PATCH v5 4/4] lib: change find device and cmp dev name functions qemudev
2025-02-05 23:48 ` qemudev
2025-02-06 0:09 ` |SUCCESS| pw151011 " checkpatch
2025-02-06 1:05 ` 0-day Robot
2025-02-06 2:05 ` |SUCCESS| pw151008-151011 [PATCH] [v5,4/4] lib: change find device a dpdklab
2025-02-06 2:07 ` dpdklab
2025-02-06 2:15 ` dpdklab
2025-02-06 2:22 ` dpdklab
2025-02-06 2:25 ` dpdklab
2025-02-06 2:41 ` |PENDING| " dpdklab
2025-02-06 2:41 ` dpdklab
2025-02-06 2:44 ` dpdklab [this message]
2025-02-06 2:46 ` |SUCCESS| " dpdklab
2025-02-06 3:11 ` |PENDING| " dpdklab
2025-02-06 3:31 ` |SUCCESS| " dpdklab
2025-02-06 4:50 ` |PENDING| " dpdklab
2025-02-06 5:52 ` |SUCCESS| " dpdklab
Reply instructions:
You may reply publicly to this message via plain-text email
using any one of the following methods:
* Save the following mbox file, import it into your mail client,
and reply-to-all from there: mbox
Avoid top-posting and favor interleaved quoting:
https://en.wikipedia.org/wiki/Posting_style#Interleaved_style
* Reply using the --to, --cc, and --in-reply-to
switches of git-send-email(1):
git send-email \
--in-reply-to=67a42216.050a0220.bae97.1326SMTPIN_ADDED_MISSING@mx.google.com \
--to=dpdklab@iol.unh.edu \
--cc=dpdk-test-reports@iol.unh.edu \
--cc=test-report@dpdk.org \
/path/to/YOUR_REPLY
https://kernel.org/pub/software/scm/git/docs/git-send-email.html
* If your mail client supports setting the In-Reply-To header
via mailto: links, try the mailto: link
Be sure your reply has a Subject: header at the top and a blank line
before the message body.
This is a public inbox, see mirroring instructions
for how to clone and mirror all data and code used for this inbox;
as well as URLs for NNTP newsgroup(s).