From mboxrd@z Thu Jan 1 00:00:00 1970 Return-Path: Received: from mails.dpdk.org (mails.dpdk.org [217.70.189.124]) by inbox.dpdk.org (Postfix) with ESMTP id C4684461A3 for ; Thu, 6 Feb 2025 03:44:41 +0100 (CET) Received: from mails.dpdk.org (localhost [127.0.0.1]) by mails.dpdk.org (Postfix) with ESMTP id D9C344065A; Thu, 6 Feb 2025 03:44:40 +0100 (CET) Received: from mail-qv1-f97.google.com (mail-qv1-f97.google.com [209.85.219.97]) by mails.dpdk.org (Postfix) with ESMTP id 93B56402F1 for ; Thu, 6 Feb 2025 03:44:39 +0100 (CET) Received: by mail-qv1-f97.google.com with SMTP id 6a1803df08f44-6e43a5f59b7so3164326d6.0 for ; Wed, 05 Feb 2025 18:44:39 -0800 (PST) DKIM-Signature: v=1; a=rsa-sha256; c=relaxed/relaxed; d=iol.unh.edu; s=unh-iol; t=1738809879; x=1739414679; darn=dpdk.org; h=references:in-reply-to:cc:to:from:subject:message-id:date:from:to :cc:subject:date:message-id:reply-to; bh=n3PQFiklgVPo4rI4w9G5CA3pBYNjo7M4HotGoOyzYYQ=; b=ML9u+4mlTC7Vjm1FvUijp337Ddrcu9h2QHo1Jp9EcbNKOE6tZNghq5rVO/TgbM/J9p 6u+//SO4wKsD0todLHwaW6jAeK2EksPjTqhtZeBrH6WnzyVqcHrUkw48o4O+VUquWkZd jrYJ3SnSfDCSUmuUo1+/ful8yDhyBVq/Gzfqw= X-Google-DKIM-Signature: v=1; a=rsa-sha256; c=relaxed/relaxed; d=1e100.net; s=20230601; t=1738809879; x=1739414679; h=references:in-reply-to:cc:to:from:subject:message-id:date :x-gm-message-state:from:to:cc:subject:date:message-id:reply-to; bh=n3PQFiklgVPo4rI4w9G5CA3pBYNjo7M4HotGoOyzYYQ=; b=Li+dwXuYurVTwdYbbnYIUAaQCgcZ5nnPKtemRdPj5m2151tS4R9vFjstzOPdYJS6Lz AmNhAh6x0MEnA6BflAckuYn8SqweNeHmr4a4vy9oDV42SHIgqnxvzIARalQY53PYrr7R kAZFYnyCBl/98VeyRHMl8n+UrmMtv138O+Mzu6QxpJo9U61VXL55jfVRIJ46PTLN7Qp5 pEjq5OmqRSSss+Cgb19CB1e7w8zWtRr5yzCl3Rok9OOLKdT0d4Zbx0PxD8rnBtDOWA25 iOo8dObbO8vbbSg0U5Azma8dXOZN6iCgiEvyPn4wc4FH5/fJu1Ctfibfneic1uT3KGNF 2O6w== X-Gm-Message-State: AOJu0Yxd3sKvWm5FAGB9ok15aMnASS8zstgJTc0uVaYb/tuQpqy6wQkD srau5lifa73EmvfhkiBK9U+dEq/hoVKmSnUvLmJzNFS4N06XjO/MI8/J+Vs1zljNOK9JbptlBBb cHuCjB8r0PfOPXXA/N9bL4IyI3tK4XofRllq8JTD/ X-Gm-Gg: ASbGncsKOugP4lfVeMrd9lHDucLkIW0mTdSXckPf0qGU1lEXPHChfJ0H8D6EuxEdA/a VmgNAZHQe2pFjghfjrBEweRe2X5sVCYuNVyS4nNHgDLDUILkIRdVi0sxwkZVZTqnJMZ4vGC6mlr JL6YyAMZU+AhcSse4zasnDBFft0nizbSr30vlw3HcEvcGNczlxNphzLcKK0e0h+EjWAzMmIB1P6 2g2EOy0k6V6HhnyS4y2RBSCnIjz69YqaqN8aerRLEy3EoMok5NJEuFG4l6QnoHH+J/CrqwstiVt kn4DVrDpKh/iLZ2i0y5oqeAlD9fYyw== X-Google-Smtp-Source: AGHT+IF/D36C8cLa+Z+lIBOZNSpaEYs1Qv+Ossojj2PGzEVWqtcn08dfuSaEipmYHFaeLe8gKIWNELO7KxRh X-Received: by 2002:a05:6214:c82:b0:6d8:b81c:ecc1 with SMTP id 6a1803df08f44-6e439b44b9emr22621376d6.13.1738809878955; Wed, 05 Feb 2025 18:44:38 -0800 (PST) Received: from postal.iol.unh.edu (postal.iol.unh.edu. [132.177.123.84]) by smtp-relay.gmail.com with ESMTPS id 6a1803df08f44-6e43baf0e7csm206526d6.51.2025.02.05.18.44.38 (version=TLS1_2 cipher=ECDHE-ECDSA-AES128-GCM-SHA256 bits=128/128); Wed, 05 Feb 2025 18:44:38 -0800 (PST) X-Relaying-Domain: iol.unh.edu Date: Wed, 05 Feb 2025 18:44:38 -0800 (PST) Message-ID: <67a42216.050a0220.bae97.1326SMTPIN_ADDED_MISSING@mx.google.com> Received: from [172.21.0.6] (unknown [172.18.0.240]) by postal.iol.unh.edu (Postfix) with ESMTP id 7B1526052471; Wed, 5 Feb 2025 21:44:38 -0500 (EST) Subject: |SUCCESS| pw151008-151011 [PATCH] [v5,4/4] lib: change find device a From: dpdklab@iol.unh.edu To: Test Report Cc: dpdk-test-reports@iol.unh.edu In-Reply-To: <20250206000838.23428-5-shperetz@nvidia.com> References: <20250206000838.23428-5-shperetz@nvidia.com> Content-Type: text/plain X-BeenThere: test-report@dpdk.org X-Mailman-Version: 2.1.29 Precedence: list List-Id: automatic DPDK test reports List-Unsubscribe: , List-Archive: List-Post: List-Help: List-Subscribe: , Errors-To: test-report-bounces@dpdk.org Test-Label: iol-compile-amd64-testing Test-Status: SUCCESS http://dpdk.org/patch/151011 _Testing PASS_ Submitter: Shani Peretz Date: Thursday, February 06 2025 00:08:38 DPDK git baseline: Repo:dpdk Branch: master CommitID:32c18e7364e30a8e43cc7cc6709a7ce606fa285e 151008-151011 --> testing pass Upstream job id: Generic-VM-DPDK-Compile-Meson#33075 Test environment and result as below: +---------------------+--------------------+-------------------+ | Environment | dpdk_meson_compile | dpdk_msvc_compile | +=====================+====================+===================+ | FreeBSD 13.4 | PASS | SKIPPED | +---------------------+--------------------+-------------------+ | FreeBSD 14.2 | PASS | SKIPPED | +---------------------+--------------------+-------------------+ | Windows Server 2022 | SKIPPED | PASS | +---------------------+--------------------+-------------------+ FreeBSD 13.4 Kernel: 13.4-RELEASE-p1 Compiler: clang 18.1.6 FreeBSD 14.2 Kernel: 14.2-RELEASE Compiler: clang 18.1.6 Windows Server 2022 Kernel: 10.0.20348.2031 Compiler: clang 15.0.7, gcc 14.1.0 (MinGW), and MSVC VS 19.39.33521 To view detailed results, visit: https://lab.dpdk.org/results/dashboard/patchsets/32506/ UNH-IOL DPDK Community Lab To manage your email subscriptions, visit: https://lab.dpdk.org/results/dashboard/preferences/subscriptions/