From mboxrd@z Thu Jan 1 00:00:00 1970 Return-Path: Received: from mails.dpdk.org (mails.dpdk.org [217.70.189.124]) by inbox.dpdk.org (Postfix) with ESMTP id 2679B461A3 for ; Thu, 6 Feb 2025 03:46:12 +0100 (CET) Received: from mails.dpdk.org (localhost [127.0.0.1]) by mails.dpdk.org (Postfix) with ESMTP id 1CCE84065A; Thu, 6 Feb 2025 03:46:12 +0100 (CET) Received: from mail-pl1-f225.google.com (mail-pl1-f225.google.com [209.85.214.225]) by mails.dpdk.org (Postfix) with ESMTP id 7765F402F1 for ; Thu, 6 Feb 2025 03:46:10 +0100 (CET) Received: by mail-pl1-f225.google.com with SMTP id d9443c01a7336-2161eb95317so8838005ad.1 for ; Wed, 05 Feb 2025 18:46:10 -0800 (PST) DKIM-Signature: v=1; a=rsa-sha256; c=relaxed/relaxed; d=iol.unh.edu; s=unh-iol; t=1738809969; x=1739414769; darn=dpdk.org; h=references:in-reply-to:cc:to:from:subject:message-id:date:from:to :cc:subject:date:message-id:reply-to; bh=Hd6t0DEUrfD3xftpjVk/DqYeL1gy4QFMZQboMkqVh2k=; b=gGF3XRFwMBAAa2v+CXoNDiEvSLD469JASZwUzCXPPILViDJ358CrsMTVX3gVyrZPpD +ckaFEwVB120JseaXrl3bCgPVyGcqBclKAkt4gXaLQ08B+6oESiXqeKO981BnbYERDA4 +wUX6t+JAiyl/EigIt1D0Xuoeh2sg8capQjTk= X-Google-DKIM-Signature: v=1; a=rsa-sha256; c=relaxed/relaxed; d=1e100.net; s=20230601; t=1738809969; x=1739414769; h=references:in-reply-to:cc:to:from:subject:message-id:date :x-gm-message-state:from:to:cc:subject:date:message-id:reply-to; bh=Hd6t0DEUrfD3xftpjVk/DqYeL1gy4QFMZQboMkqVh2k=; b=vKGlLbTvsVJOmp+CLA1M+4lO3sP9AK12b5yinPty7lJWfqaOJXQMfG1PmK/VnKpJ46 1X7iS+UDayEahOltSMosBXYPALeTwmW9gB63G4v0NWTgWlTSUIBXAZe8sMT7lZWmskO7 8hoyKFe+x2UiEuMAKIz7O+f+Fx5CCjMCeevAaJNYy3bNb3SnUSIkOguniCR9/ASei4/Q VtZNZ11vEHvcVJR+v72w2N2iPim6cXPryN7NflIGZrcFpGVZD7AfwYmoNX9tUqioKiFd 04Cq/wwZ8OKH3kaH+4Gzx5vWSETvo6KDVEU9Fx3LIzuUOfSCzsbyEiIkai09dMWf1sxW 7sdQ== X-Gm-Message-State: AOJu0Yy69Le14bPHLGf+IcTXTzk6nYP9zN/ifx1Xyb7woqiY9EutmZzi MFdCWbKJkTOmcSx3z6UBK+LA+Qop6mNhhpMLfwdGMVLLE6Spa9qDH1VMihO8bZhqYEm666J7Eoe uW37c2WsgzNfoHzT/87Nx9fbAlh5QBxPDvW4r21/KeNEU0j6w8i9J6W/G X-Gm-Gg: ASbGncsTT3Dsji1coUzXF+rLcb7L2Vwqu3GgdqHdiolL+wn6+H4PMRtpFm4D9b4rjmR tW2JzAoTe713nA/R8vGZeDRZfpG9L0iG9wcka98Bc3NitfZsJSWOrIMq9Yf5CqHL96lLHQRgUFn P/wu4Lld78yEtxnBHRwNsTslkH6T30ImarBAMnhLo+xBbSuOdlumrLfVLycseTOCnaWCUCjBHo3 1Nd7zdJRisai6QJB+QaRzjlOr1ipqEvE93C910F1kbLwu7FlFWfQ+ZAkA8VR8WpM1csA5QEvwMq bMbZ7JMAPeuh3paB7Xx0HYo5yBDV/NRJtTkTsqvhog== X-Google-Smtp-Source: AGHT+IFD0pCZU2Nr49gIHzLCsBv8Uuo5pgTVQnqtBCa8Whmgp7Ik8tpSC3Po4fxkCGrypPm28euEuH4wlR4s X-Received: by 2002:a05:6a20:43a0:b0:1e8:bd15:6801 with SMTP id adf61e73a8af0-1ede88b225dmr9717873637.29.1738809969479; Wed, 05 Feb 2025 18:46:09 -0800 (PST) Received: from postal.iol.unh.edu (postal.iol.unh.edu. [2606:4100:3880:1234::84]) by smtp-relay.gmail.com with ESMTPS id 41be03b00d2f7-ad51aecf463sm13297a12.7.2025.02.05.18.46.09 (version=TLS1_2 cipher=ECDHE-ECDSA-AES128-GCM-SHA256 bits=128/128); Wed, 05 Feb 2025 18:46:09 -0800 (PST) X-Relaying-Domain: iol.unh.edu Date: Wed, 05 Feb 2025 18:46:09 -0800 (PST) Message-ID: <67a42271.630a0220.54b15.0c4cSMTPIN_ADDED_MISSING@mx.google.com> Received: from [172.21.0.5] (unknown [172.18.0.240]) by postal.iol.unh.edu (Postfix) with ESMTP id AFFBB6052471; Wed, 5 Feb 2025 21:46:08 -0500 (EST) Subject: |SUCCESS| pw151008-151011 [PATCH] [v5,4/4] lib: change find device a From: dpdklab@iol.unh.edu To: Test Report Cc: dpdk-test-reports@iol.unh.edu In-Reply-To: <20250206000838.23428-5-shperetz@nvidia.com> References: <20250206000838.23428-5-shperetz@nvidia.com> Content-Type: text/plain X-BeenThere: test-report@dpdk.org X-Mailman-Version: 2.1.29 Precedence: list List-Id: automatic DPDK test reports List-Unsubscribe: , List-Archive: List-Post: List-Help: List-Subscribe: , Errors-To: test-report-bounces@dpdk.org Test-Label: iol-compile-amd64-testing Test-Status: SUCCESS http://dpdk.org/patch/151011 _Testing PASS_ Submitter: Shani Peretz Date: Thursday, February 06 2025 00:08:38 DPDK git baseline: Repo:dpdk Branch: master CommitID:32c18e7364e30a8e43cc7cc6709a7ce606fa285e 151008-151011 --> testing pass Upstream job id: Generic-VM-DPDK-Compile-Meson#33076 Test environment and result as below: +---------------------+--------------------+-------------------+ | Environment | dpdk_meson_compile | dpdk_msvc_compile | +=====================+====================+===================+ | FreeBSD 13.4 | PASS | SKIPPED | +---------------------+--------------------+-------------------+ | FreeBSD 14.2 | PASS | SKIPPED | +---------------------+--------------------+-------------------+ | Windows Server 2022 | SKIPPED | PASS | +---------------------+--------------------+-------------------+ FreeBSD 13.4 Kernel: 13.4-RELEASE-p1 Compiler: clang 18.1.6 FreeBSD 14.2 Kernel: 14.2-RELEASE Compiler: clang 18.1.6 Windows Server 2022 Kernel: 10.0.20348.2031 Compiler: clang 15.0.7, gcc 14.1.0 (MinGW), and MSVC VS 19.39.33521 To view detailed results, visit: https://lab.dpdk.org/results/dashboard/patchsets/32506/ UNH-IOL DPDK Community Lab To manage your email subscriptions, visit: https://lab.dpdk.org/results/dashboard/preferences/subscriptions/