From mboxrd@z Thu Jan 1 00:00:00 1970 Return-Path: Received: from mails.dpdk.org (mails.dpdk.org [217.70.189.124]) by inbox.dpdk.org (Postfix) with ESMTP id D8E20461A3 for ; Thu, 6 Feb 2025 03:55:31 +0100 (CET) Received: from mails.dpdk.org (localhost [127.0.0.1]) by mails.dpdk.org (Postfix) with ESMTP id D57D74065A; Thu, 6 Feb 2025 03:55:31 +0100 (CET) Received: from mail-io1-f98.google.com (mail-io1-f98.google.com [209.85.166.98]) by mails.dpdk.org (Postfix) with ESMTP id 2CBA5402F1 for ; Thu, 6 Feb 2025 03:55:30 +0100 (CET) Received: by mail-io1-f98.google.com with SMTP id ca18e2360f4ac-844e10ef3cfso37846739f.2 for ; Wed, 05 Feb 2025 18:55:30 -0800 (PST) DKIM-Signature: v=1; a=rsa-sha256; c=relaxed/relaxed; d=iol.unh.edu; s=unh-iol; t=1738810529; x=1739415329; darn=dpdk.org; h=references:in-reply-to:cc:to:from:subject:message-id:date:from:to :cc:subject:date:message-id:reply-to; bh=iOFATLTlVzHTkTzmm7DGC8ZC9b8F7hG3vOFonzo2l7M=; b=IUwubzACiOZxmvw5dTEtj2Vo3h+BAC2zrF8lo+d6FdIg2VZDzPi2Mn2MXohdAileFH /mPRT9v/rmX+nhcIUtXkCSJT+WIPVVXfOqzjuFL0TmG3TuGFLwKpL7rNwuMYQUizFAj6 pmxeYRnU3ZMxOlsa66m0aI1v2hWa1Q97kGVdA= X-Google-DKIM-Signature: v=1; a=rsa-sha256; c=relaxed/relaxed; d=1e100.net; s=20230601; t=1738810529; x=1739415329; h=references:in-reply-to:cc:to:from:subject:message-id:date :x-gm-message-state:from:to:cc:subject:date:message-id:reply-to; bh=iOFATLTlVzHTkTzmm7DGC8ZC9b8F7hG3vOFonzo2l7M=; b=tvB/DlNqAPEPA7vG4kEEqeP3H9slyljZqWmPZxGAKpwCyvUXy4xp2FfgKF2ytppvmH 9/ghOqBcnvoLJRgAyfqprQwWbI8zPopCmdNsml6zpNXD8uaGpuw0jZtjnzpXnLPYRGB7 FSz/y5l1TOFyZ0GBjTK1exu7/hbkomYx6y0ltLuaSvS+vfq/DLOhcTIXY34QNFzqRD2U I3oqbgIoYSKDdLxuVSpU194WDc2U/F/YMXCLR0F/cVUJreycVxlDwnfBmVxfU1xrC5jv osF+Do6T98fA54ZAKf7u5ucCxL1HbsQj9SD3b8FmtTRxPOAlKqn0dOLi1zeA0x8Zoya3 +tEQ== X-Gm-Message-State: AOJu0YwC1rCcFDkMWHRlLWjqP0puaieLfw6HdfJUoFLL2eu87U2OLqVO QH4swbvFUIrNrdrZwDCyXz4VleOh/KVq8kzt3kdUDKFJQi0AY3ShR2mRHICxlXLT6yy9QYUoeqQ 5kLg19Zc6kC6HGjbb4viQa5lDFWK4sXlXMvpNxslrGlmxZknH0e1wMw1/ X-Gm-Gg: ASbGncsLG462496MDbClpo8G+bDOza8hwyGkfbBD/Uro4r199/9F3EbhzTytOhGJ/It gB7VkIiL3ocGa0NYP/fRjpWkaCT+Bo3im1yBdl+OYc+tVzuFo5B2kEt78Fmz1DkKr6KZ7S9CcC7 y7hrufSPx3GNj6RNvkY/meHqKMuXB+YuEksgp9y4QxfwvnsguqShvORYI4QSfXwSRQRW7nwpIcD Zw5KnTYVTgveZX/FDVjhlFpS74ew9srFzCmqKu6NeLIsoxvYRz291FhupN6dlQ1wi5Xye5v4n3z G/+1fTwpAgUS9a8r+y7OuH+LLZ5IliWu+ije43b78A== X-Google-Smtp-Source: AGHT+IF7h73flz9JgPuQB+ZX33wzacqV1d5Eam7vKZnYAsdhzHsk2CMI5yPZ8CsuHFV/68VVynR7kKYYd9W+ X-Received: by 2002:a05:6602:3a17:b0:847:51e2:eb0 with SMTP id ca18e2360f4ac-854ea53b85amr531077939f.12.1738810529530; Wed, 05 Feb 2025 18:55:29 -0800 (PST) Received: from postal.iol.unh.edu (postal.iol.unh.edu. [2606:4100:3880:1234::84]) by smtp-relay.gmail.com with ESMTPS id 8926c6da1cb9f-4eccf9a97c3sm24284173.7.2025.02.05.18.55.29 (version=TLS1_2 cipher=ECDHE-ECDSA-AES128-GCM-SHA256 bits=128/128); Wed, 05 Feb 2025 18:55:29 -0800 (PST) X-Relaying-Domain: iol.unh.edu Date: Wed, 05 Feb 2025 18:55:29 -0800 (PST) Message-ID: <67a424a1.050a0220.1da93a.172dSMTPIN_ADDED_MISSING@mx.google.com> Received: from [172.21.0.9] (unknown [172.18.0.240]) by postal.iol.unh.edu (Postfix) with ESMTP id 1E2036052471; Wed, 5 Feb 2025 21:55:29 -0500 (EST) Subject: |SUCCESS| pw151006-151005 [PATCH] [v3,2/2] drivers/net: add MSVC com From: dpdklab@iol.unh.edu To: Test Report Cc: dpdk-test-reports@iol.unh.edu In-Reply-To: <1738781590-2408-3-git-send-email-andremue@linux.microsoft.com> References: <1738781590-2408-3-git-send-email-andremue@linux.microsoft.com> Content-Type: text/plain X-BeenThere: test-report@dpdk.org X-Mailman-Version: 2.1.29 Precedence: list List-Id: automatic DPDK test reports List-Unsubscribe: , List-Archive: List-Post: List-Help: List-Subscribe: , Errors-To: test-report-bounces@dpdk.org Test-Label: iol-compile-amd64-testing Test-Status: SUCCESS http://dpdk.org/patch/151005 _Testing PASS_ Submitter: Andre Muezerie Date: Wednesday, February 05 2025 18:53:10 DPDK git baseline: Repo:dpdk Branch: master CommitID:e595e7b5758fc73d99b810f5a8748f94bd467084 151006-151005 --> testing pass Upstream job id: Windows-Compile-DPDK-Native#26458 Test environment and result as below: +---------------------+-------------------+--------------------+-------------------------+ | Environment | dpdk_msvc_compile | dpdk_meson_compile | dpdk_llvm_clang_compile | +=====================+===================+====================+=========================+ | Windows Server 2022 | PASS | SKIPPED | PASS | +---------------------+-------------------+--------------------+-------------------------+ | FreeBSD 13.4 | SKIPPED | PASS | SKIPPED | +---------------------+-------------------+--------------------+-------------------------+ | FreeBSD 14.2 | SKIPPED | PASS | SKIPPED | +---------------------+-------------------+--------------------+-------------------------+ Windows Server 2022 Kernel: 10.0.20348.2031 Compiler: clang 15.0.7, gcc 14.1.0 (MinGW), and MSVC VS 19.39.33521 FreeBSD 13.4 Kernel: 13.4-RELEASE-p1 Compiler: clang 18.1.6 FreeBSD 14.2 Kernel: 14.2-RELEASE Compiler: clang 18.1.6 To view detailed results, visit: https://lab.dpdk.org/results/dashboard/patchsets/32504/ UNH-IOL DPDK Community Lab To manage your email subscriptions, visit: https://lab.dpdk.org/results/dashboard/preferences/subscriptions/