From mboxrd@z Thu Jan 1 00:00:00 1970 Return-Path: Received: from mails.dpdk.org (mails.dpdk.org [217.70.189.124]) by inbox.dpdk.org (Postfix) with ESMTP id 1D25C461A5 for ; Thu, 6 Feb 2025 04:12:33 +0100 (CET) Received: from mails.dpdk.org (localhost [127.0.0.1]) by mails.dpdk.org (Postfix) with ESMTP id 182984065A; Thu, 6 Feb 2025 04:12:33 +0100 (CET) Received: from mail-pl1-f228.google.com (mail-pl1-f228.google.com [209.85.214.228]) by mails.dpdk.org (Postfix) with ESMTP id D964D402F1 for ; Thu, 6 Feb 2025 04:12:31 +0100 (CET) Received: by mail-pl1-f228.google.com with SMTP id d9443c01a7336-21f0b5d6c6eso6490805ad.0 for ; Wed, 05 Feb 2025 19:12:31 -0800 (PST) DKIM-Signature: v=1; a=rsa-sha256; c=relaxed/relaxed; d=iol.unh.edu; s=unh-iol; t=1738811551; x=1739416351; darn=dpdk.org; h=references:in-reply-to:cc:to:from:subject:message-id:date:from:to :cc:subject:date:message-id:reply-to; bh=Ha4k4DZItwm1OyxZhikhiSTzagJPQP+PyccNAu5p/SM=; b=aCZXi/040a1lyveeESpRHaQEoC/QQjQSCIRH9URPOrrCvuMAmUUVmG4eR4CFhYfWm+ 6v7hFaOBHMBTzAhtJxExSU2pv6/0OPoOHq8DgjT37W2RlSi68omrLUuR+s0T8P+kDXzl eladexwwbk+H65odXnkbv30nkao/RK9ZkpMXU= X-Google-DKIM-Signature: v=1; a=rsa-sha256; c=relaxed/relaxed; d=1e100.net; s=20230601; t=1738811551; x=1739416351; h=references:in-reply-to:cc:to:from:subject:message-id:date :x-gm-message-state:from:to:cc:subject:date:message-id:reply-to; bh=Ha4k4DZItwm1OyxZhikhiSTzagJPQP+PyccNAu5p/SM=; b=vBXtfTTO+oAVUkOPmYbK5Gz+ZiMDn+SEEmWyROLMX7ojk5T/LwwyFSUBkcKC00w5X9 3qZ/DjBU3Gdjx6HyuMhHgCquzFz+5u9dFav0HVxmCY18TmE5ixjPRGAnWeunYK1ofsPx OCTiDCnuIorqK9LcrzU48Ypfbd0kLr9zVyaqvq6pxSL9z+Rcn35aLXBOsKPlMXsM+T4w 1TOVpT+o1ZQ6/QQSS0f1jZjVF+7iIW8UUTiGlWFWQ1OkvjzDiwWi30YfYuXDDMCNnQhA HjYZaNx7Rz88DDQDrBbykke7Y9RRtR/DOcISm+YxTTuvsHmHQ1oSr0W0z//X9+hDLuL+ JYew== X-Gm-Message-State: AOJu0YwzZbh/hBw6/sBv49t9qLns9rVXgSjfKJrxma4ncvGPnHkGC+UQ m9d8j1F9aNB0B+FICALDBqPIPu3qJgH2ibqJwqRqCHN3cyuY3/UKT5VT+QrquzHgRj1FQB1RYjr 5M8ijKOiNn3G4NearCRaw2FBhZLiYwh5K2kAaVYr4 X-Gm-Gg: ASbGncs1KPvHrw6tFS1uUcj7STN2vS/JOMENFjBes7aomcFssltJn04/YYTpxhqEIC3 pOUcBKtvLJFM5/io3xSiYCzUGsM+dG3V4EUzEKcWYbU1q5wwxoHWfHdlyWv+aK5pI+3nadqYtQh qRGpAjXJe3en+T+ghGlqc1c+CsyEjDdml0mJUVISSsh8pmRwglMQZrXt4KwW3qpd0XDGRCP3j8j 2YLofYeukPEORyQrqQFpJ3qLY/hdGMpPaOAYjTa00J14xQSp/bS5/Fj/qqdOvswP3BNgD6qVCss 7+VT7mtRW9mXy1hnDoPzpEwzNOJY2g== X-Google-Smtp-Source: AGHT+IGtbOK9lQ9WzH7JCHg9vyz0lMUflg6lBh9elKYWKAX6vtM23lt2c8C+zqBQiyWG7DTKm1LbvhSI5eY/ X-Received: by 2002:a17:903:987:b0:21d:90d0:6c10 with SMTP id d9443c01a7336-21f2f1c56c9mr32135545ad.23.1738811550955; Wed, 05 Feb 2025 19:12:30 -0800 (PST) Received: from postal.iol.unh.edu (postal.iol.unh.edu. [132.177.123.84]) by smtp-relay.gmail.com with ESMTPS id d9443c01a7336-21f3650cee6sm8125ad.15.2025.02.05.19.12.30 (version=TLS1_2 cipher=ECDHE-ECDSA-AES128-GCM-SHA256 bits=128/128); Wed, 05 Feb 2025 19:12:30 -0800 (PST) X-Relaying-Domain: iol.unh.edu Date: Wed, 05 Feb 2025 19:12:30 -0800 (PST) Message-ID: <67a4289e.170a0220.117970.00aeSMTPIN_ADDED_MISSING@mx.google.com> Received: from [172.21.0.8] (unknown [172.18.0.240]) by postal.iol.unh.edu (Postfix) with ESMTP id 177F96052471; Wed, 5 Feb 2025 22:12:30 -0500 (EST) Subject: |SUCCESS| pw151006-151005 [PATCH] [v3,2/2] drivers/net: add MSVC com From: dpdklab@iol.unh.edu To: Test Report Cc: dpdk-test-reports@iol.unh.edu In-Reply-To: <1738781590-2408-3-git-send-email-andremue@linux.microsoft.com> References: <1738781590-2408-3-git-send-email-andremue@linux.microsoft.com> Content-Type: text/plain X-BeenThere: test-report@dpdk.org X-Mailman-Version: 2.1.29 Precedence: list List-Id: automatic DPDK test reports List-Unsubscribe: , List-Archive: List-Post: List-Help: List-Subscribe: , Errors-To: test-report-bounces@dpdk.org Test-Label: iol-compile-amd64-testing Test-Status: SUCCESS http://dpdk.org/patch/151005 _Testing PASS_ Submitter: Andre Muezerie Date: Wednesday, February 05 2025 18:53:10 DPDK git baseline: Repo:dpdk Branch: master CommitID:e595e7b5758fc73d99b810f5a8748f94bd467084 151006-151005 --> testing pass Upstream job id: Windows-Compile-DPDK-Native#26459 Test environment and result as below: +---------------------+-------------------+--------------------+-------------------------+----------------------+ | Environment | dpdk_msvc_compile | dpdk_meson_compile | dpdk_llvm_clang_compile | dpdk_mingw64_compile | +=====================+===================+====================+=========================+======================+ | Windows Server 2022 | PASS | SKIPPED | PASS | PASS | +---------------------+-------------------+--------------------+-------------------------+----------------------+ | FreeBSD 13.4 | SKIPPED | PASS | SKIPPED | SKIPPED | +---------------------+-------------------+--------------------+-------------------------+----------------------+ | FreeBSD 14.2 | SKIPPED | PASS | SKIPPED | SKIPPED | +---------------------+-------------------+--------------------+-------------------------+----------------------+ Windows Server 2022 Kernel: 10.0.20348.2031 Compiler: clang 15.0.7, gcc 14.1.0 (MinGW), and MSVC VS 19.39.33521 FreeBSD 13.4 Kernel: 13.4-RELEASE-p1 Compiler: clang 18.1.6 FreeBSD 14.2 Kernel: 14.2-RELEASE Compiler: clang 18.1.6 To view detailed results, visit: https://lab.dpdk.org/results/dashboard/patchsets/32504/ UNH-IOL DPDK Community Lab To manage your email subscriptions, visit: https://lab.dpdk.org/results/dashboard/preferences/subscriptions/