From mboxrd@z Thu Jan 1 00:00:00 1970 Return-Path: Received: from mails.dpdk.org (mails.dpdk.org [217.70.189.124]) by inbox.dpdk.org (Postfix) with ESMTP id B2FE7461A5 for ; Thu, 6 Feb 2025 04:18:17 +0100 (CET) Received: from mails.dpdk.org (localhost [127.0.0.1]) by mails.dpdk.org (Postfix) with ESMTP id B01524065A; Thu, 6 Feb 2025 04:18:17 +0100 (CET) Received: from mail-qv1-f100.google.com (mail-qv1-f100.google.com [209.85.219.100]) by mails.dpdk.org (Postfix) with ESMTP id 00E29402F1 for ; Thu, 6 Feb 2025 04:18:15 +0100 (CET) Received: by mail-qv1-f100.google.com with SMTP id 6a1803df08f44-6e432d88179so4368806d6.1 for ; Wed, 05 Feb 2025 19:18:15 -0800 (PST) DKIM-Signature: v=1; a=rsa-sha256; c=relaxed/relaxed; d=iol.unh.edu; s=unh-iol; t=1738811895; x=1739416695; darn=dpdk.org; h=references:in-reply-to:cc:to:from:subject:message-id:date:from:to :cc:subject:date:message-id:reply-to; bh=QeBt4v3pcoHkDU/mJ84nYyD57yHNp6G34t9akSARNQE=; b=XUqINhJ3+7cHWqUdzM3ujao+IA//Hk5oxyy5lMBH0+QDCnj8LeLVxcHPgz9PGFbhcc kLZHyuydGqUeRD71+Yhn1szZQlEivyu7Pi3lGNSpENgR4pxQbgUAKxkte+lEq4cOLRQD tnfwxdAyYP/CfnYXyOSp5p++iiE8fsyCbixZI= X-Google-DKIM-Signature: v=1; a=rsa-sha256; c=relaxed/relaxed; d=1e100.net; s=20230601; t=1738811895; x=1739416695; h=references:in-reply-to:cc:to:from:subject:message-id:date :x-gm-message-state:from:to:cc:subject:date:message-id:reply-to; bh=QeBt4v3pcoHkDU/mJ84nYyD57yHNp6G34t9akSARNQE=; b=xByDtyez4e5fBzuLB4p4fBIiqKBPybKRk9miRorFa1G7Gq7gL88MxlX0R3E+3ORo3j HhgE0845MHHUZDwDITPdSwTN9R8lAgkjOhD/9d+8NOuhDhSZIdKT5M1aClWYAZGy2AzF kHHYDI3jsIwMSTww7HYwdvStDuDGJK6oAIbSwPAPzok4fq28U8jlPYOYAlenk/xWZfvX j6E7iXa0upgASxM9HWPz8dbLPBz++KK66GJz+EsYR5AwXHql0nkJVCxCV5MmHLqlwBDl Jp8Db0p7J+MfLgPqeFrsPfM/00ofBvGUCAheqcHFPmMohoARo5x+s5ZJNVCNMc9B0tYk tkVA== X-Gm-Message-State: AOJu0Yw96wX98ZDecpRbcmefPAGkE+0MFD2l++cjXJ13rv5k2oLxQDFo WgBpjjS/q6mglcC8xapmU3UPYYIMg4YytevqguFwgvRe6Bm/dDmYW7ad6k7MyuzSXKcanLBoi1r 009B6RpATTwEJGHsMj/ytFvup21LFz/hKmJvO4fvO X-Gm-Gg: ASbGncvw5+3SqQk4iin+dA3KPu9D5SmTIfXy+ySkrp2Q1CpakIW+D5u/Kk9DTIzSAlD O6Do4A43bMWmoXLmCpXpSXbWciqIwPfmvQgy8NjUIi1O8QYTf1LGXQQabT1LhrdZ8OwvbTrVQl2 L3eGOD057y3XmCgpPcsUdHIIEDEO4BNE3mPXAbRV5Q6MzaYqE7wWZcjc6kvfIAqCuXKNzOi+UOH ofWtxXXs1iMzlVP9+WmfHJVNpotmLHBWXYAJl8/93jiWw06e1zG6jsefBasw04LGA913/oZGbzp TeeKFNq7Ux44X74etSxDC41T5KxQpw== X-Google-Smtp-Source: AGHT+IEvaeSzDhZNAHB3vsLwXlkDAQWMUG0iGG9xL+EHxgYhxt9gcQigRj+oFDdZ+nKv8/yscoJtuQGHfuUG X-Received: by 2002:a05:6214:d68:b0:6e4:2e5b:8d3f with SMTP id 6a1803df08f44-6e439b469demr24392936d6.14.1738811895452; Wed, 05 Feb 2025 19:18:15 -0800 (PST) Received: from postal.iol.unh.edu (postal.iol.unh.edu. [132.177.123.84]) by smtp-relay.gmail.com with ESMTPS id 6a1803df08f44-6e43ba34378sm238166d6.1.2025.02.05.19.18.15 (version=TLS1_2 cipher=ECDHE-ECDSA-AES128-GCM-SHA256 bits=128/128); Wed, 05 Feb 2025 19:18:15 -0800 (PST) X-Relaying-Domain: iol.unh.edu Date: Wed, 05 Feb 2025 19:18:15 -0800 (PST) Message-ID: <67a429f7.d40a0220.261782.1701SMTPIN_ADDED_MISSING@mx.google.com> Received: from [172.21.0.7] (unknown [172.18.0.240]) by postal.iol.unh.edu (Postfix) with ESMTP id 264216052471; Wed, 5 Feb 2025 22:18:15 -0500 (EST) Subject: |SUCCESS| pw151013-151029 [PATCH] [v22,27/27] config: add -Wvla proj From: dpdklab@iol.unh.edu To: Test Report Cc: dpdk-test-reports@iol.unh.edu In-Reply-To: <1738805610-17507-28-git-send-email-andremue@linux.microsoft.com> References: <1738805610-17507-28-git-send-email-andremue@linux.microsoft.com> Content-Type: text/plain X-BeenThere: test-report@dpdk.org X-Mailman-Version: 2.1.29 Precedence: list List-Id: automatic DPDK test reports List-Unsubscribe: , List-Archive: List-Post: List-Help: List-Subscribe: , Errors-To: test-report-bounces@dpdk.org Test-Label: iol-compile-amd64-testing Test-Status: SUCCESS http://dpdk.org/patch/151029 _Testing PASS_ Submitter: Andre Muezerie Date: Thursday, February 06 2025 01:33:30 DPDK git baseline: Repo:dpdk Branch: master CommitID:32c18e7364e30a8e43cc7cc6709a7ce606fa285e 151013-151029 --> testing pass Upstream job id: Generic-VM-DPDK-Compile-Meson#33080 Test environment and result as below: +---------------------+--------------------+-------------------+ | Environment | dpdk_meson_compile | dpdk_msvc_compile | +=====================+====================+===================+ | FreeBSD 13.4 | PASS | SKIPPED | +---------------------+--------------------+-------------------+ | FreeBSD 14.2 | PASS | SKIPPED | +---------------------+--------------------+-------------------+ | Windows Server 2022 | SKIPPED | PASS | +---------------------+--------------------+-------------------+ FreeBSD 13.4 Kernel: 13.4-RELEASE-p1 Compiler: clang 18.1.6 FreeBSD 14.2 Kernel: 14.2-RELEASE Compiler: clang 18.1.6 Windows Server 2022 Kernel: 10.0.20348.2031 Compiler: clang 15.0.7, gcc 14.1.0 (MinGW), and MSVC VS 19.39.33521 To view detailed results, visit: https://lab.dpdk.org/results/dashboard/patchsets/32507/ UNH-IOL DPDK Community Lab To manage your email subscriptions, visit: https://lab.dpdk.org/results/dashboard/preferences/subscriptions/