From mboxrd@z Thu Jan 1 00:00:00 1970 Return-Path: Received: from mails.dpdk.org (mails.dpdk.org [217.70.189.124]) by inbox.dpdk.org (Postfix) with ESMTP id 33BBE461A5 for ; Thu, 6 Feb 2025 04:20:47 +0100 (CET) Received: from mails.dpdk.org (localhost [127.0.0.1]) by mails.dpdk.org (Postfix) with ESMTP id 303054065A; Thu, 6 Feb 2025 04:20:47 +0100 (CET) Received: from mail-qk1-f227.google.com (mail-qk1-f227.google.com [209.85.222.227]) by mails.dpdk.org (Postfix) with ESMTP id 24ED0402F1 for ; Thu, 6 Feb 2025 04:20:46 +0100 (CET) Received: by mail-qk1-f227.google.com with SMTP id af79cd13be357-7b6ed0de64aso42107985a.0 for ; Wed, 05 Feb 2025 19:20:46 -0800 (PST) DKIM-Signature: v=1; a=rsa-sha256; c=relaxed/relaxed; d=iol.unh.edu; s=unh-iol; t=1738812045; x=1739416845; darn=dpdk.org; h=references:in-reply-to:cc:to:from:subject:message-id:date:from:to :cc:subject:date:message-id:reply-to; bh=zOXabjAVh23unBGzXKxrT7cOlU9ZPU7hxGJyaiB5stE=; b=hTljsdYKfAyY7UWFgp6d0VRMpeTdtC9QDkjaKkUnkgQ4hhvxrQHE+2GrHooLuuY8Tt CnYkUI391V67UUXSdodwX/EZDo+uLjG/8EMN8QzRCclSjubYa8+Y5R1zSzgt1/eiklCm XfZLS5pfIXslhtVgIHwPPXg8lrlpXZe+QC/9k= X-Google-DKIM-Signature: v=1; a=rsa-sha256; c=relaxed/relaxed; d=1e100.net; s=20230601; t=1738812045; x=1739416845; h=references:in-reply-to:cc:to:from:subject:message-id:date :x-gm-message-state:from:to:cc:subject:date:message-id:reply-to; bh=zOXabjAVh23unBGzXKxrT7cOlU9ZPU7hxGJyaiB5stE=; b=koZ1/mXQCp55d/wWvJemXwz4goqW+lwpI2S9RcemrC/eOs+JcHoesx1LsnqPN5o8oq MJ8t4kCp6bDY98lDEty2I40pj389w5N5jQF6LzfpQGCMOcjQgTSUrR5FYUZCJe7tfiF5 ZFQ/RdqpfSoPCCtLigVt8I6QIUX2Coee5kWho/V63jw2y3b9efIu5pNQS4OR1gTkz+U8 AVkmC3abps1le/HqatKamc4abGHii2+ySFNi6wt/zAwIBzbfLytmlgVnr8vNwBhc4sHf s0XwIeJLK2zPhCyP/8y/mDumn+o8hVDS3mXabMomV4wHHv/fWa6b2K18xBDY+cxQziNa dC8w== X-Gm-Message-State: AOJu0YzhPHNJM7Ukvp9RbqDS2gcKK51HbcXrMKmgRzBMRmc/BtMH4fIb BYrdlR3Lr0epgFNnOPFWHVxaaAiUj6gZSwAZPli7VxWTxQaf4eBHkCRXnIrzLJOgHcsM1vhGg7D 7N1sC5nxZJxBpYfLf1XrDEnRJXbUGj2lT2TWk06cu X-Gm-Gg: ASbGncsbCJ/eLmsClV7gxgPdW9e0Z1o5kjFwocMNB+nnd2JIRaPZXzhNoGAl5wGWJPc qklj2jvgu1/NJ7dGZHOhmMKxmp/a8re2MwVMaJL21IWxCaQWJhti6fcp1wz35U5NNmIZUDNwkl1 fOk+4UaIEmFfpZllbLUN1RJLL9m7KxB1xjHdL9+7N0jYYtgbT4oEnzIrnqVLmUtnZ2R4/rfpIBz q0236Fw8tB71Zzg0QJxUmvPP2XHXFBEfzzRFBekWL57zp3VKNZ6ybUwdIHOuNmswkIaWKgol3Sm 4F2kPGoBegiQkcfVwxEvdMN79t+PgQ== X-Google-Smtp-Source: AGHT+IH63Gec4wM27WmG0W5p9XbIB/uKMJoktYZCZ8+yPy59H2nUeTJUO5U0u00A7CGXhGOigguV0Mww9HVg X-Received: by 2002:a05:620a:424b:b0:7b6:d7be:2e4 with SMTP id af79cd13be357-7c0402a1bd2mr221754885a.26.1738812045553; Wed, 05 Feb 2025 19:20:45 -0800 (PST) Received: from postal.iol.unh.edu (postal.iol.unh.edu. [132.177.123.84]) by smtp-relay.gmail.com with ESMTPS id 6a1803df08f44-6e43bb09cffsm214456d6.58.2025.02.05.19.20.45 (version=TLS1_2 cipher=ECDHE-ECDSA-AES128-GCM-SHA256 bits=128/128); Wed, 05 Feb 2025 19:20:45 -0800 (PST) X-Relaying-Domain: iol.unh.edu Date: Wed, 05 Feb 2025 19:20:45 -0800 (PST) Message-ID: <67a42a8d.050a0220.216e55.1371SMTPIN_ADDED_MISSING@mx.google.com> Received: from [172.21.0.7] (unknown [172.18.0.240]) by postal.iol.unh.edu (Postfix) with ESMTP id 3EA946052471; Wed, 5 Feb 2025 22:20:45 -0500 (EST) Subject: |SUCCESS| pw150971 [PATCH] log: avoid call close with negative value From: dpdklab@iol.unh.edu To: Test Report Cc: dpdk-test-reports@iol.unh.edu In-Reply-To: <20250205161518.143865-1-stephen@networkplumber.org> References: <20250205161518.143865-1-stephen@networkplumber.org> Content-Type: text/plain X-BeenThere: test-report@dpdk.org X-Mailman-Version: 2.1.29 Precedence: list List-Id: automatic DPDK test reports List-Unsubscribe: , List-Archive: List-Post: List-Help: List-Subscribe: , Errors-To: test-report-bounces@dpdk.org Test-Label: iol-compile-arm64-testing Test-Status: SUCCESS http://dpdk.org/patch/150971 _Testing PASS_ Submitter: Stephen Hemminger Date: Wednesday, February 05 2025 16:15:18 DPDK git baseline: Repo:dpdk Branch: master CommitID:32c18e7364e30a8e43cc7cc6709a7ce606fa285e 150971 --> testing pass Upstream job id: Generic-DPDK-Compile-Meson#358088 Test environment and result as below: +----------------------------------------+--------------------+ | Environment | dpdk_meson_compile | +========================================+====================+ | RHEL9 (ARM) | PASS | +----------------------------------------+--------------------+ | Ubuntu 20.04 ARM GCC Cross Compile | PASS | +----------------------------------------+--------------------+ | Ubuntu 20.04 ARM SVE | PASS | +----------------------------------------+--------------------+ | Debian 12 with MUSDK | PASS | +----------------------------------------+--------------------+ | Fedora 40 (ARM) | PASS | +----------------------------------------+--------------------+ | Fedora 40 (ARM Clang) | PASS | +----------------------------------------+--------------------+ | Fedora 41 (ARM) | PASS | +----------------------------------------+--------------------+ | Fedora 41 (ARM Clang) | PASS | +----------------------------------------+--------------------+ | Ubuntu 20.04 (ARM) | PASS | +----------------------------------------+--------------------+ | Ubuntu 22.04 (ARM) | PASS | +----------------------------------------+--------------------+ | Ubuntu 24.04 (ARM) | PASS | +----------------------------------------+--------------------+ | CentOS Stream 9 (ARM) | PASS | +----------------------------------------+--------------------+ | Debian 11 (Buster) (ARM) | PASS | +----------------------------------------+--------------------+ | Debian 12 (arm) | PASS | +----------------------------------------+--------------------+ | Ubuntu 20.04 ARM Clang Cross Compile | PASS | +----------------------------------------+--------------------+ | Ubuntu 20.04 aarch32 GCC Cross Compile | PASS | +----------------------------------------+--------------------+ RHEL9 (ARM) Kernel: Depends on container host Compiler: gcc 11.5.0 20240719 (Red Hat 11.5.0-2) Ubuntu 20.04 ARM GCC Cross Compile Kernel: Depends on container host Compiler: aarch64-linux-gnu-gcc (Ubuntu 9.4.0-1ubuntu1~20.04.2) 9.4.0 Ubuntu 20.04 ARM SVE Kernel: Depends on container host Compiler: gcc (Ubuntu 10.5.0-1ubuntu1~20.04) 10.5.0 Debian 12 with MUSDK Kernel: Depends on container host Compiler: gcc (Debian 12.2.0-14) 12.2.0 Fedora 40 (ARM) Kernel: Depends on container host Compiler: gcc 14.2.1 20240912 (Red Hat 14.2.1-3) Fedora 40 (ARM Clang) Kernel: Depends on container host Compiler: clang 18.1.8 (Fedora 18.1.8-1.fc40) Fedora 41 (ARM) Kernel: Depends on container host Compiler: gcc 14.2.1 20240912 (Red Hat 14.2.1-3) Fedora 41 (ARM Clang) Kernel: Depends on container host Compiler: clang 19.1.5 (Fedora 19.1.5-1.fc41) Ubuntu 20.04 (ARM) Kernel: Depends on container host Compiler: gcc (Ubuntu 9.4.0-1ubuntu1~20.04.2) 9.4.0 Ubuntu 22.04 (ARM) Kernel: Depends on container host Compiler: gcc (Ubuntu 11.4.0-1ubuntu1~22.04) 11.4.0 Ubuntu 24.04 (ARM) Kernel: Depends on container host Compiler: gcc (Ubuntu 13.3.0-6ubuntu2~24.04) 13.3.0 CentOS Stream 9 (ARM) Kernel: Depends on container host Compiler: gcc 11.5.0 20240719 (Red Hat 11.5.0-2) Debian 11 (Buster) (ARM) Kernel: Depends on container host Compiler: gcc (Debian 10.2.1-6) 10.2.1 20210110 Debian 12 (arm) Kernel: Depends on container host Compiler: gcc (Debian 12.2.0-14) 12.2.0 Ubuntu 20.04 ARM Clang Cross Compile Kernel: Depends on container host Compiler: clang 10.0.0-4ubuntu1 Ubuntu 20.04 aarch32 GCC Cross Compile Kernel: Depends on container host Compiler: gcc 9.4.0 To view detailed results, visit: https://lab.dpdk.org/results/dashboard/patchsets/32499/ UNH-IOL DPDK Community Lab To manage your email subscriptions, visit: https://lab.dpdk.org/results/dashboard/preferences/subscriptions/