From mboxrd@z Thu Jan  1 00:00:00 1970
Return-Path: <test-report-bounces@dpdk.org>
Received: from mails.dpdk.org (mails.dpdk.org [217.70.189.124])
	by inbox.dpdk.org (Postfix) with ESMTP id 6A67D461A5
	for <public@inbox.dpdk.org>; Thu,  6 Feb 2025 04:37:01 +0100 (CET)
Received: from mails.dpdk.org (localhost [127.0.0.1])
	by mails.dpdk.org (Postfix) with ESMTP id 2B912402F1;
	Thu,  6 Feb 2025 04:37:01 +0100 (CET)
Received: from mail-qv1-f100.google.com (mail-qv1-f100.google.com
 [209.85.219.100])
 by mails.dpdk.org (Postfix) with ESMTP id 2FD62402D6
 for <test-report@dpdk.org>; Thu,  6 Feb 2025 04:37:00 +0100 (CET)
Received: by mail-qv1-f100.google.com with SMTP id
 6a1803df08f44-6dd420f82e2so6950826d6.1
 for <test-report@dpdk.org>; Wed, 05 Feb 2025 19:37:00 -0800 (PST)
DKIM-Signature: v=1; a=rsa-sha256; c=relaxed/relaxed;
 d=iol.unh.edu; s=unh-iol; t=1738813019; x=1739417819; darn=dpdk.org;
 h=references:in-reply-to:cc:to:from:subject:message-id:date:from:to
 :cc:subject:date:message-id:reply-to;
 bh=wdH5drJnDjZbGTSBrGs+uhEblLoG5IaoAJKcbDavAk4=;
 b=MR9id7dPx+PnZSmUvvhM2molHhuK3lciwEH9YwOcivHHJLTXdsdsRM9NuHuVfhLe9k
 sCaTORjKME6z5Hfl3KqbVR5Nl6rX1iwtJcSDkznjpQP7YYMuCkv86MFk5IM2WTfKVODC
 WUYkmlJCchCsHf0V9/WKFVhP5ZH33OKQkTAps=
X-Google-DKIM-Signature: v=1; a=rsa-sha256; c=relaxed/relaxed;
 d=1e100.net; s=20230601; t=1738813019; x=1739417819;
 h=references:in-reply-to:cc:to:from:subject:message-id:date
 :x-gm-message-state:from:to:cc:subject:date:message-id:reply-to;
 bh=wdH5drJnDjZbGTSBrGs+uhEblLoG5IaoAJKcbDavAk4=;
 b=IuKtjLrPt/TNv1v6Z3hmjVaxIe0+CMNsIPpu7VFJrOCkj1g6mBf3cEWBPCwxQ/Sczk
 hevKpwT7VKtVqW0OX4EqoRor/9yU6kcG61zFyNfzuljVeSunu8Z7qBziFHMGGPg82YjR
 qgkjE1y3v+741gxbEsPeGR3BM99sQz1ej80p2W3GAn6k3osQvOogZOmU/05lCsH74rSN
 k16T1a4kzMyxDM+aP2h0esPHIgA4criTpcLnvB+t6cTfSS8jh9cY/OHlC6PmOibhT3Z8
 JNnHoUatf0OG81P2nq13dx3z1y5DbBfI8KESQdWnNGkPI1IDja4Qr314I3nGf+G9LmxP
 pOMw==
X-Gm-Message-State: AOJu0YwO6WuqS062T1OI5CwMGJMA/ulUOOHGn68G4z1dXPGE7fNONZxb
 jXzzNFJV1RFkA1EoUeUBQPzRlSMcvL1GlfMYI/BMSFRWfWTKL1+dPv6TS6+EmNa8l1e1BjIF9N9
 TRnb/K53BOO4zx1bxAhdzBBFoFg9ygOdvBZkDsvwFX3EyVh1fRmws/5KG
X-Gm-Gg: ASbGnctRAxOfLrGPvhj/J/+soVZSkDe9K3wleZxWoNG3pxJY0WoRNvr8ytSrRa2Swci
 NPzKDQwXC8Vgc94a4oZokGdK+hrg7VU/uryTpvFH/NXIyZLQmioeEGEu2eEFHQVfMyKLQ26Hcxm
 209PjIBSrjlwLcxdCGhYgSmQtBHGk3xGyEvPbkAOIpQZN+pXFdbOFKwGmnwshA6yhbZZJSjiQef
 YmD9ysnbMW7hG3MnJmKVh+ofs6JmST9hfRuDIJog8BYZbcazAmIWJlCeW4HgBX5EVzSUycOkCU8
 KyiWXJ5bTP1W+lfFGsQiueRn7NX1BsfssrA7/0p8UQ==
X-Google-Smtp-Source: AGHT+IHo9AOX/teqbHhT0SmyqVEVOX8n7kXLZ+Ki8v4RfpV49xU55pGi0T5+MZfZZP61dKsfAO9RVGGwhYWt
X-Received: by 2002:ad4:5c87:0:b0:6dd:d513:6124 with SMTP id
 6a1803df08f44-6e42fc4a8d4mr82814866d6.35.1738813019559; 
 Wed, 05 Feb 2025 19:36:59 -0800 (PST)
Received: from postal.iol.unh.edu (postal.iol.unh.edu.
 [2606:4100:3880:1234::84]) by smtp-relay.gmail.com with ESMTPS id
 6a1803df08f44-6e43baf0c82sm263446d6.52.2025.02.05.19.36.59
 (version=TLS1_2 cipher=ECDHE-ECDSA-AES128-GCM-SHA256 bits=128/128);
 Wed, 05 Feb 2025 19:36:59 -0800 (PST)
X-Relaying-Domain: iol.unh.edu
Date: Wed, 05 Feb 2025 19:36:59 -0800 (PST)
Message-ID: <67a42e5b.d40a0220.20cac5.1accSMTPIN_ADDED_MISSING@mx.google.com>
Received: from [172.21.0.8] (unknown [172.18.0.240])
 by postal.iol.unh.edu (Postfix) with ESMTP id 3B0E76052471;
 Wed,  5 Feb 2025 22:36:59 -0500 (EST)
Subject: |SUCCESS| pw151007 [PATCH] [v4] drivers/net: use 64-bit shift and av
From: dpdklab@iol.unh.edu
To: Test Report <test-report@dpdk.org>
Cc: dpdk-test-reports@iol.unh.edu
In-Reply-To: <1738783944-10172-1-git-send-email-andremue@linux.microsoft.com>
References: <1738783944-10172-1-git-send-email-andremue@linux.microsoft.com>
Content-Type: text/plain
X-BeenThere: test-report@dpdk.org
X-Mailman-Version: 2.1.29
Precedence: list
List-Id: automatic DPDK test reports <test-report.dpdk.org>
List-Unsubscribe: <https://mails.dpdk.org/options/test-report>,
 <mailto:test-report-request@dpdk.org?subject=unsubscribe>
List-Archive: <http://mails.dpdk.org/archives/test-report/>
List-Post: <mailto:test-report@dpdk.org>
List-Help: <mailto:test-report-request@dpdk.org?subject=help>
List-Subscribe: <https://mails.dpdk.org/listinfo/test-report>,
 <mailto:test-report-request@dpdk.org?subject=subscribe>
Errors-To: test-report-bounces@dpdk.org

Test-Label: iol-compile-amd64-testing
Test-Status: SUCCESS
http://dpdk.org/patch/151007

_Testing PASS_

Submitter: Andre Muezerie <andremue@linux.microsoft.com>
Date: Wednesday, February 05 2025 19:32:24 
DPDK git baseline: Repo:dpdk
  Branch: master
  CommitID:e595e7b5758fc73d99b810f5a8748f94bd467084

151007 --> testing pass

Upstream job id: Generic-DPDK-Compile-Meson#358192

Test environment and result as below:

+---------------------+-------------------+--------------------+------------------+-------------------+-------------------------+----------------------+
|     Environment     | dpdk_msvc_compile | dpdk_meson_compile | dpdk_compile_ovs | dpdk_compile_spdk | dpdk_llvm_clang_compile | dpdk_mingw64_compile |
+=====================+===================+====================+==================+===================+=========================+======================+
| Windows Server 2022 | PASS              | SKIPPED            | SKIPPED          | SKIPPED           | PASS                    | PASS                 |
+---------------------+-------------------+--------------------+------------------+-------------------+-------------------------+----------------------+
| FreeBSD 13.4        | SKIPPED           | PASS               | SKIPPED          | SKIPPED           | SKIPPED                 | SKIPPED              |
+---------------------+-------------------+--------------------+------------------+-------------------+-------------------------+----------------------+
| FreeBSD 14.2        | SKIPPED           | PASS               | SKIPPED          | SKIPPED           | SKIPPED                 | SKIPPED              |
+---------------------+-------------------+--------------------+------------------+-------------------+-------------------------+----------------------+
| CentOS Stream 9     | SKIPPED           | PASS               | PASS             | PASS              | SKIPPED                 | SKIPPED              |
+---------------------+-------------------+--------------------+------------------+-------------------+-------------------------+----------------------+
| Debian Bullseye     | SKIPPED           | PASS               | PASS             | PASS              | SKIPPED                 | SKIPPED              |
+---------------------+-------------------+--------------------+------------------+-------------------+-------------------------+----------------------+
| Debian 12           | SKIPPED           | PASS               | PASS             | PASS              | SKIPPED                 | SKIPPED              |
+---------------------+-------------------+--------------------+------------------+-------------------+-------------------------+----------------------+
| Fedora 40 (Clang)   | SKIPPED           | PASS               | PASS             | PASS              | SKIPPED                 | SKIPPED              |
+---------------------+-------------------+--------------------+------------------+-------------------+-------------------------+----------------------+
| Fedora 40           | SKIPPED           | PASS               | PASS             | PASS              | SKIPPED                 | SKIPPED              |
+---------------------+-------------------+--------------------+------------------+-------------------+-------------------------+----------------------+
| Fedora 41 (Clang)   | SKIPPED           | PASS               | PASS             | PASS              | SKIPPED                 | SKIPPED              |
+---------------------+-------------------+--------------------+------------------+-------------------+-------------------------+----------------------+
| Fedora 41           | SKIPPED           | PASS               | PASS             | PASS              | SKIPPED                 | SKIPPED              |
+---------------------+-------------------+--------------------+------------------+-------------------+-------------------------+----------------------+
| openSUSE Leap 15    | SKIPPED           | PASS               | SKIPPED          | SKIPPED           | SKIPPED                 | SKIPPED              |
+---------------------+-------------------+--------------------+------------------+-------------------+-------------------------+----------------------+
| RHEL8               | SKIPPED           | PASS               | PASS             | SKIPPED           | SKIPPED                 | SKIPPED              |
+---------------------+-------------------+--------------------+------------------+-------------------+-------------------------+----------------------+
| RHEL9               | SKIPPED           | PASS               | PASS             | SKIPPED           | SKIPPED                 | SKIPPED              |
+---------------------+-------------------+--------------------+------------------+-------------------+-------------------------+----------------------+
| Ubuntu 20.04        | SKIPPED           | PASS               | SKIPPED          | SKIPPED           | SKIPPED                 | SKIPPED              |
+---------------------+-------------------+--------------------+------------------+-------------------+-------------------------+----------------------+
| Ubuntu 22.04        | SKIPPED           | PASS               | PASS             | PASS              | SKIPPED                 | SKIPPED              |
+---------------------+-------------------+--------------------+------------------+-------------------+-------------------------+----------------------+
| Ubuntu 24.04        | SKIPPED           | PASS               | PASS             | PASS              | SKIPPED                 | SKIPPED              |
+---------------------+-------------------+--------------------+------------------+-------------------+-------------------------+----------------------+
| Alpine              | SKIPPED           | PASS               | PASS             | SKIPPED           | SKIPPED                 | SKIPPED              |
+---------------------+-------------------+--------------------+------------------+-------------------+-------------------------+----------------------+


Windows Server 2022
	Kernel: 10.0.20348.2031
	Compiler: clang 15.0.7, gcc 14.1.0 (MinGW), and MSVC VS 19.39.33521

FreeBSD 13.4
	Kernel: 13.4-RELEASE-p1
	Compiler: clang 18.1.6

FreeBSD 14.2
	Kernel: 14.2-RELEASE
	Compiler: clang 18.1.6

CentOS Stream 9
	Kernel: Depends on container host
	Compiler: gcc 11.5.0 20240719 (Red Hat 11.5.0-2)

Debian Bullseye
	Kernel: Depends on container host
	Compiler: gcc (Debian 10.2.1-6) 10.2.1 20210110

Debian 12
	Kernel: Depends on container host
	Compiler: gcc (Debian 12.2.0-14) 12.2.0

Fedora 40 (Clang)
	Kernel: Depends on container host
	Compiler: clang 18.1.8 (Fedora 18.1.8-1.fc40)

Fedora 40
	Kernel: Depends on container host
	Compiler: gcc 14.2.1 20240912 (Red Hat 14.2.1-3)

Fedora 41 (Clang)
	Kernel: Depends on container host
	Compiler: clang 19.1.5 (Fedora 19.1.5-1.fc41)

Fedora 41
	Kernel: Depends on container host
	Compiler: gcc 14.2.1 20240912 (Red Hat 14.2.1-3)

openSUSE Leap 15
	Kernel: Depends on container host
	Compiler: gcc (SUSE Linux) 7.5.0

RHEL8
	Kernel: Depends on container host
	Compiler: gcc 8.5.0 20210514 (Red Hat 8.5.0-22)

RHEL9
	Kernel: Depends on container host
	Compiler: gcc 11.5.0 20240719 (Red Hat 11.5.0-2)

Ubuntu 20.04
	Kernel: Depends on container host
	Compiler: gcc (Ubuntu 9.4.0-1ubuntu1~20.04.2) 9.4.0

Ubuntu 22.04
	Kernel: Depends on container host
	Compiler: gcc (Ubuntu 11.4.0-1ubuntu1~22.04) 11.4.0

Ubuntu 24.04
	Kernel: Depends on container host
	Compiler: gcc (Ubuntu 13.3.0-6ubuntu2~24.04) 13.3.0

Alpine
	Kernel: Depends on container host
	Compiler: gcc (Alpine 14.2.0) 14.2.0

To view detailed results, visit:
https://lab.dpdk.org/results/dashboard/patchsets/32505/

UNH-IOL DPDK Community Lab

To manage your email subscriptions, visit: 
https://lab.dpdk.org/results/dashboard/preferences/subscriptions/