From mboxrd@z Thu Jan  1 00:00:00 1970
Return-Path: <test-report-bounces@dpdk.org>
Received: from mails.dpdk.org (mails.dpdk.org [217.70.189.124])
	by inbox.dpdk.org (Postfix) with ESMTP id A4AB8461A5
	for <public@inbox.dpdk.org>; Thu,  6 Feb 2025 04:40:12 +0100 (CET)
Received: from mails.dpdk.org (localhost [127.0.0.1])
	by mails.dpdk.org (Postfix) with ESMTP id A1FB5402F1;
	Thu,  6 Feb 2025 04:40:12 +0100 (CET)
Received: from mail-io1-f98.google.com (mail-io1-f98.google.com
 [209.85.166.98]) by mails.dpdk.org (Postfix) with ESMTP id 1B1CE402D6
 for <test-report@dpdk.org>; Thu,  6 Feb 2025 04:40:11 +0100 (CET)
Received: by mail-io1-f98.google.com with SMTP id
 ca18e2360f4ac-844e61f3902so40198939f.0
 for <test-report@dpdk.org>; Wed, 05 Feb 2025 19:40:11 -0800 (PST)
DKIM-Signature: v=1; a=rsa-sha256; c=relaxed/relaxed;
 d=iol.unh.edu; s=unh-iol; t=1738813210; x=1739418010; darn=dpdk.org;
 h=references:in-reply-to:cc:to:from:subject:message-id:date:from:to
 :cc:subject:date:message-id:reply-to;
 bh=ykZmE+SP8AvZ24ptzZ50rW0EoeMZCoTZ0QTHBm9z8bI=;
 b=KcGv7j/iBdNy/beMiAbwbt3KwYmXjSPOrGtK6pz2IDXMpDHhGpfDNDauBCTj/9W+Kg
 Ip7MmWQDfRwOEfy/CDw7mhMSOaYoKGGfkkdweYi0dNJXxSD0btzVUbOiNCOW71mwwu2N
 FUBfMjRbyKbOrkBJA+Z6C13cwL0XRpnPlxrd8=
X-Google-DKIM-Signature: v=1; a=rsa-sha256; c=relaxed/relaxed;
 d=1e100.net; s=20230601; t=1738813210; x=1739418010;
 h=references:in-reply-to:cc:to:from:subject:message-id:date
 :x-gm-message-state:from:to:cc:subject:date:message-id:reply-to;
 bh=ykZmE+SP8AvZ24ptzZ50rW0EoeMZCoTZ0QTHBm9z8bI=;
 b=fR9lJqinZR6jJRjwsrUhBlgvhbSHbgHdWto69EszSgM5RskUbUDJ8mZ2KJcD+XJsPZ
 x4PwMlOns0J+ajgW4SWLXW8NGT2lj2Z56ZYm9S/laN6bCpjocdCzQLd+TBwFk3PGHktK
 i7/PhBtUVhSh7iJ+PxASvP3IT2f9VW/VyZ+Z041G0aaypTbA2EDAGfzspal23ntnN6de
 qqG2P6eNSKQBAZggNS5qLbMBKvRyeFDl6idJqYHoT65coDQsd7rD/4lj+7Om5/rvy52g
 aAA7UKCUPme8L8aQvw7klhqf8eXNm1UuXCKE2/LmuWjyL+CTEQ2ShO5MYBp7R6mxfA68
 b12w==
X-Gm-Message-State: AOJu0Yz3EskqAAggsxw6yyA3WmSyJ829GLPpu1fXoA0K3hcblzdCaM3k
 +tmzYdXhH9egRL58ruRAJ1DLc77KqKSg8kKbcvSSGrx3+tUb/PSKjm9SGNfzwj+qhG/q+z4q21+
 JGjVdND/QxKiZQTmJHHGTPia1td+J9DNTluWpxwpT
X-Gm-Gg: ASbGncvnTVhifU0PIjrcXkgqBsnRVhEpv+YsPA8BrkKMF2avAzqK10uC2VFwH7Rd4nk
 Y27fe/zxdjTv6WuzHaglQnvcz66F81YksMVut7eT6csvxjDil6XjVetG+TAQs12O5oUN80zQRWB
 BA6gwNNvUccznFAy+FHW0wt0NKp9+KXGhQC8+bcQt+Dv21F53rgeDt2ZUK3d3foDaiJo7hse3t1
 LXr6R2JjQrtXms/5A62LLuZGPcUGJCM/Cp+u56cG6zKpMBoEaHyzoGgf1XlxeU6E3qf89iVuzWH
 ddkLSpaxYAVVhylvBPgEIirBzxAbCA==
X-Google-Smtp-Source: AGHT+IERf3fjd1UcBJrm3hxIw5NHXlDXHmLqBcas9YxfmNqWETWVewBVtOsbcPAshecO8BmAMl1pyqSmicIy
X-Received: by 2002:a05:6602:3810:b0:84f:41d9:9932 with SMTP id
 ca18e2360f4ac-854ea514f79mr553744039f.9.1738813210431; 
 Wed, 05 Feb 2025 19:40:10 -0800 (PST)
Received: from postal.iol.unh.edu (postal.iol.unh.edu. [132.177.123.84])
 by smtp-relay.gmail.com with ESMTPS id
 ca18e2360f4ac-854f67402c3sm1940339f.20.2025.02.05.19.40.10
 (version=TLS1_2 cipher=ECDHE-ECDSA-AES128-GCM-SHA256 bits=128/128);
 Wed, 05 Feb 2025 19:40:10 -0800 (PST)
X-Relaying-Domain: iol.unh.edu
Date: Wed, 05 Feb 2025 19:40:10 -0800 (PST)
Message-ID: <67a42f1a.050a0220.3bd18c.1357SMTPIN_ADDED_MISSING@mx.google.com>
Received: from [172.21.0.5] (unknown [172.18.0.240])
 by postal.iol.unh.edu (Postfix) with ESMTP id F1FD56052471;
 Wed,  5 Feb 2025 22:40:09 -0500 (EST)
Subject: |SUCCESS| pw151006-151005 [PATCH] [v3,2/2] drivers/net: add MSVC com
From: dpdklab@iol.unh.edu
To: Test Report <test-report@dpdk.org>
Cc: dpdk-test-reports@iol.unh.edu
In-Reply-To: <1738781590-2408-3-git-send-email-andremue@linux.microsoft.com>
References: <1738781590-2408-3-git-send-email-andremue@linux.microsoft.com>
Content-Type: text/plain
X-BeenThere: test-report@dpdk.org
X-Mailman-Version: 2.1.29
Precedence: list
List-Id: automatic DPDK test reports <test-report.dpdk.org>
List-Unsubscribe: <https://mails.dpdk.org/options/test-report>,
 <mailto:test-report-request@dpdk.org?subject=unsubscribe>
List-Archive: <http://mails.dpdk.org/archives/test-report/>
List-Post: <mailto:test-report@dpdk.org>
List-Help: <mailto:test-report-request@dpdk.org?subject=help>
List-Subscribe: <https://mails.dpdk.org/listinfo/test-report>,
 <mailto:test-report-request@dpdk.org?subject=subscribe>
Errors-To: test-report-bounces@dpdk.org

Test-Label: iol-unit-amd64-testing
Test-Status: SUCCESS
http://dpdk.org/patch/151005

_Testing PASS_

Submitter: Andre Muezerie <andremue@linux.microsoft.com>
Date: Wednesday, February 05 2025 18:53:10 
DPDK git baseline: Repo:dpdk
  Branch: master
  CommitID:e595e7b5758fc73d99b810f5a8748f94bd467084

151006-151005 --> testing pass

Upstream job id: Generic-Unit-Test-DPDK#312013

Test environment and result as below:

+---------------------+----------------+
|     Environment     | dpdk_unit_test |
+=====================+================+
| Debian Bullseye     | PASS           |
+---------------------+----------------+
| Fedora 40           | PASS           |
+---------------------+----------------+
| CentOS Stream 9     | PASS           |
+---------------------+----------------+
| Fedora 41           | PASS           |
+---------------------+----------------+
| Debian 12           | PASS           |
+---------------------+----------------+
| Fedora 40 (Clang)   | PASS           |
+---------------------+----------------+
| RHEL8               | PASS           |
+---------------------+----------------+
| Fedora 41 (Clang)   | PASS           |
+---------------------+----------------+
| Ubuntu 20.04        | PASS           |
+---------------------+----------------+
| Ubuntu 22.04        | PASS           |
+---------------------+----------------+
| RHEL9               | PASS           |
+---------------------+----------------+
| Ubuntu 24.04        | PASS           |
+---------------------+----------------+
| Windows Server 2022 | PASS           |
+---------------------+----------------+


Debian Bullseye
	Kernel: Depends on container host
	Compiler: gcc (Debian 10.2.1-6) 10.2.1 20210110

Fedora 40
	Kernel: Depends on container host
	Compiler: gcc 14.2.1 20240912 (Red Hat 14.2.1-3)

CentOS Stream 9
	Kernel: Depends on container host
	Compiler: gcc 11.5.0 20240719 (Red Hat 11.5.0-2)

Fedora 41
	Kernel: Depends on container host
	Compiler: gcc 14.2.1 20240912 (Red Hat 14.2.1-3)

Debian 12
	Kernel: Depends on container host
	Compiler: gcc (Debian 12.2.0-14) 12.2.0

Fedora 40 (Clang)
	Kernel: Depends on container host
	Compiler: clang 18.1.8 (Fedora 18.1.8-1.fc40)

RHEL8
	Kernel: Depends on container host
	Compiler: gcc 8.5.0 20210514 (Red Hat 8.5.0-22)

Fedora 41 (Clang)
	Kernel: Depends on container host
	Compiler: clang 19.1.5 (Fedora 19.1.5-1.fc41)

Ubuntu 20.04
	Kernel: Depends on container host
	Compiler: gcc (Ubuntu 9.4.0-1ubuntu1~20.04.2) 9.4.0

Ubuntu 22.04
	Kernel: Depends on container host
	Compiler: gcc (Ubuntu 11.4.0-1ubuntu1~22.04) 11.4.0

RHEL9
	Kernel: Depends on container host
	Compiler: gcc 11.5.0 20240719 (Red Hat 11.5.0-2)

Ubuntu 24.04
	Kernel: Depends on container host
	Compiler: gcc (Ubuntu 13.3.0-6ubuntu2~24.04) 13.3.0

Windows Server 2022
	Kernel: 10.0.20348.2031
	Compiler: clang 15.0.7, gcc 14.1.0 (MinGW), and MSVC VS 19.39.33521

To view detailed results, visit:
https://lab.dpdk.org/results/dashboard/patchsets/32504/

UNH-IOL DPDK Community Lab

To manage your email subscriptions, visit: 
https://lab.dpdk.org/results/dashboard/preferences/subscriptions/