From mboxrd@z Thu Jan 1 00:00:00 1970 Return-Path: Received: from mails.dpdk.org (mails.dpdk.org [217.70.189.124]) by inbox.dpdk.org (Postfix) with ESMTP id 45919461A5 for ; Thu, 6 Feb 2025 04:48:48 +0100 (CET) Received: from mails.dpdk.org (localhost [127.0.0.1]) by mails.dpdk.org (Postfix) with ESMTP id 1D459402F1; Thu, 6 Feb 2025 04:48:48 +0100 (CET) Received: from mail-qv1-f98.google.com (mail-qv1-f98.google.com [209.85.219.98]) by mails.dpdk.org (Postfix) with ESMTP id 2B129402D6 for ; Thu, 6 Feb 2025 04:48:47 +0100 (CET) Received: by mail-qv1-f98.google.com with SMTP id 6a1803df08f44-6e1a41935c3so6851456d6.3 for ; Wed, 05 Feb 2025 19:48:47 -0800 (PST) DKIM-Signature: v=1; a=rsa-sha256; c=relaxed/relaxed; d=iol.unh.edu; s=unh-iol; t=1738813726; x=1739418526; darn=dpdk.org; h=references:in-reply-to:cc:to:from:subject:message-id:date:from:to :cc:subject:date:message-id:reply-to; bh=VFlE5gFtiVRfGxwlOmTskwRYJj+nuNxuqNJ0Lr9FpCU=; b=jjAivyEYfYlJ61IrEOOOCR9966KmZar6RgNgg4It1Vzihi0msep6k20H3enzeoyJXc cFh8+DE01ylFmkUYi5RzPil1Z4JD4c4drIEqgrd7FUTZkYNSDtDSBtSlFjDS54aj4Pw4 El36h19hLKVm0wGXaVO+LjqO/9BsQQTs0Jm0Q= X-Google-DKIM-Signature: v=1; a=rsa-sha256; c=relaxed/relaxed; d=1e100.net; s=20230601; t=1738813726; x=1739418526; h=references:in-reply-to:cc:to:from:subject:message-id:date :x-gm-message-state:from:to:cc:subject:date:message-id:reply-to; bh=VFlE5gFtiVRfGxwlOmTskwRYJj+nuNxuqNJ0Lr9FpCU=; b=Z3VoDcytS05pjZtFNAs6DS+ELfDwBCaXZI0jtPA5nNqdwDK6M4zaK5zFMvRI0CCXjx 0zFRZwE4rhJx8ZtKaJq97qKGm84EZpvmve6BNK+t7HzdclVtGtzwjHctSZwGgv2lO9DE i+wbwDWnGx5Nubbf7205Zcmx8ALA5dcfzHT4dVMiupl9begZPpjxtzLtN2EPddcNc83h hrtkZwjtWziq1SI86FIr9ALBrv94il5STUuQIgvNh46jr3nHkmpXeyZN/dKs0NgoeVda Qty+P+nmC/zdxDZfC3vJPTNodbuRcPiSWjY+a/ydLNpy0HxceOkIxT8qABEJyBs1X0X3 N7Nw== X-Gm-Message-State: AOJu0Yztsycf5bM75FpGLwFPRBFZy2VyYUv7zOmga55lkwF3BnjoKVQh PMsgEGErZNRfQpgSB+lYxQj8I9d5TJl5tcJmKoLJPcX2BToH9TMcWuAZczN9xP3LBoHttb3zfWD 84Wocsso5zHrykEuNt0b1q2y1CazeUV60sWfNRIlwc1CqA6qMOls1oKSm X-Gm-Gg: ASbGnctuwPcBI9oBZ4VMBJenkSSuXa09uCdJjhjKj0t9i8jQeQ2fzm2EFpes0faS+0M VaB24qNL/HOJO/eiZi0jWhsvimYAGn7eHjaxdK1jja9mYDaP828H2ea7wkWs5MJ9XKKMZ0cEaQr lnhgNpcMMfEZS/3groZ8ugF9KyYSvlY8BUZASy3W/wlshJN+zJiGPLuvROt8ucXwyPOkBsAEruQ n8nQj/KP0QS0dHJuXkNVsfcr9Thm/6QenAOg06DeoU3jDahA3aCqzaxaEJjSimdueErajbtpVqF /mFjpZq9xUAA31G6ZtmFhlztvU+VQnNNQ4JU4yVNaA== X-Google-Smtp-Source: AGHT+IFPA8dD2INfW1CyDoGSrLiikCcv1FxZtWC0E1LRVvoqXJtjlgNMnfPjNvpuLS01e55MpA3TwEE9DeQx X-Received: by 2002:a05:6214:21ef:b0:6e2:4859:f054 with SMTP id 6a1803df08f44-6e42fbd6eaamr62641066d6.24.1738813726565; Wed, 05 Feb 2025 19:48:46 -0800 (PST) Received: from postal.iol.unh.edu (postal.iol.unh.edu. [2606:4100:3880:1234::84]) by smtp-relay.gmail.com with ESMTPS id 6a1803df08f44-6e43bb27f43sm271306d6.70.2025.02.05.19.48.46 (version=TLS1_2 cipher=ECDHE-ECDSA-AES128-GCM-SHA256 bits=128/128); Wed, 05 Feb 2025 19:48:46 -0800 (PST) X-Relaying-Domain: iol.unh.edu Date: Wed, 05 Feb 2025 19:48:46 -0800 (PST) Message-ID: <67a4311e.050a0220.4c16c.1aa3SMTPIN_ADDED_MISSING@mx.google.com> Received: from [172.21.0.5] (unknown [172.18.0.240]) by postal.iol.unh.edu (Postfix) with ESMTP id 3C60E6052471; Wed, 5 Feb 2025 22:48:46 -0500 (EST) Subject: |SUCCESS| pw151003-151004 [PATCH] [v2,2/2] build: replace support fo From: dpdklab@iol.unh.edu To: Test Report Cc: dpdk-test-reports@iol.unh.edu In-Reply-To: <20250205182918.4041268-3-bruce.richardson@intel.com> References: <20250205182918.4041268-3-bruce.richardson@intel.com> Content-Type: text/plain X-BeenThere: test-report@dpdk.org X-Mailman-Version: 2.1.29 Precedence: list List-Id: automatic DPDK test reports List-Unsubscribe: , List-Archive: List-Post: List-Help: List-Subscribe: , Errors-To: test-report-bounces@dpdk.org Test-Label: iol-compile-amd64-testing Test-Status: SUCCESS http://dpdk.org/patch/151004 _Testing PASS_ Submitter: Bruce Richardson Date: Wednesday, February 05 2025 18:29:15 DPDK git baseline: Repo:dpdk Branch: master CommitID:32c18e7364e30a8e43cc7cc6709a7ce606fa285e 151003-151004 --> testing pass Upstream job id: Windows-Compile-DPDK-Native#26461 Test environment and result as below: +---------------------+--------------------+-------------------+-------------------------+----------------------+ | Environment | dpdk_meson_compile | dpdk_msvc_compile | dpdk_llvm_clang_compile | dpdk_mingw64_compile | +=====================+====================+===================+=========================+======================+ | FreeBSD 13.4 | PASS | SKIPPED | SKIPPED | SKIPPED | +---------------------+--------------------+-------------------+-------------------------+----------------------+ | FreeBSD 14.2 | PASS | SKIPPED | SKIPPED | SKIPPED | +---------------------+--------------------+-------------------+-------------------------+----------------------+ | Windows Server 2022 | SKIPPED | PASS | PASS | PASS | +---------------------+--------------------+-------------------+-------------------------+----------------------+ FreeBSD 13.4 Kernel: 13.4-RELEASE-p1 Compiler: clang 18.1.6 FreeBSD 14.2 Kernel: 14.2-RELEASE Compiler: clang 18.1.6 Windows Server 2022 Kernel: 10.0.20348.2031 Compiler: clang 15.0.7, gcc 14.1.0 (MinGW), and MSVC VS 19.39.33521 To view detailed results, visit: https://lab.dpdk.org/results/dashboard/patchsets/32503/ UNH-IOL DPDK Community Lab To manage your email subscriptions, visit: https://lab.dpdk.org/results/dashboard/preferences/subscriptions/