From mboxrd@z Thu Jan 1 00:00:00 1970 Return-Path: Received: from mails.dpdk.org (mails.dpdk.org [217.70.189.124]) by inbox.dpdk.org (Postfix) with ESMTP id 64AE4461A5 for ; Thu, 6 Feb 2025 05:05:56 +0100 (CET) Received: from mails.dpdk.org (localhost [127.0.0.1]) by mails.dpdk.org (Postfix) with ESMTP id 3FF6D402F1; Thu, 6 Feb 2025 05:05:56 +0100 (CET) Received: from mail-oa1-f100.google.com (mail-oa1-f100.google.com [209.85.160.100]) by mails.dpdk.org (Postfix) with ESMTP id C8D04402D6 for ; Thu, 6 Feb 2025 05:05:54 +0100 (CET) Received: by mail-oa1-f100.google.com with SMTP id 586e51a60fabf-2b7f4ed0468so277515fac.0 for ; Wed, 05 Feb 2025 20:05:54 -0800 (PST) DKIM-Signature: v=1; a=rsa-sha256; c=relaxed/relaxed; d=iol.unh.edu; s=unh-iol; t=1738814754; x=1739419554; darn=dpdk.org; h=references:in-reply-to:cc:to:from:subject:message-id:date:from:to :cc:subject:date:message-id:reply-to; bh=0W1O3M7cKWTRx0R5Znm4U78tx2iqLPeJGGbmfpNiUs4=; b=EkWRz/wBq1+8iXvimBqO0qb6Mfbcl2nO851laNH/sVK0HfKc6nrnJKWFRSWJHeIQGR 75zd2aUdJdgXOZCEONYAz+sEvhb+Neb/53Cy5Zvg+n+5IwC00sol3XffkGE682uIWFeF OY6nJokrJiASnYFtiVcrHoRc1/xz30NIQxqWg= X-Google-DKIM-Signature: v=1; a=rsa-sha256; c=relaxed/relaxed; d=1e100.net; s=20230601; t=1738814754; x=1739419554; h=references:in-reply-to:cc:to:from:subject:message-id:date :x-gm-message-state:from:to:cc:subject:date:message-id:reply-to; bh=0W1O3M7cKWTRx0R5Znm4U78tx2iqLPeJGGbmfpNiUs4=; b=WAW6NHEStnc3rKhVaEdXjNm0pfqDNP5bso8WdOKTQl9IaNweXBB6Q8bIqvhgRGim64 OjPbZhFbzj/f0XazNFbdsFLrZV1DW66H7okatkrTBSYorj7z5SblyZssmzneciHtySVO lpgAcF+3IdiZXidopJC0cOSPceNBNfjvQG69rhNsPbI0oxWdcL2AKBKDAltuZkvmW8Ni zAOREu46bfihBBXmDLiamwrshTJXKrpSJ9WVqMs17zZVCkt51qUdRcz8ok05sdNyPnRS Z0ltPVvglhMHwUuEw2e07yw80hR4/yBn5hD9G/CCtimoI9vCwNVoTXi6zD/Ro87zA7kr VuOQ== X-Gm-Message-State: AOJu0Yyay15acxpBx6oBG1GiFbJjsYfyMDVbudqbFrl0IG3bSGAqjaop 59q1i4XS0L+kSJt8FYYQKFwyy+6kMqiMS7DS59ih0Sqq2kL+JfJRGbHLB85iYg5G2lvz7DaG0+f MlAOHjH3at2IfoHXH+qw7CYLMO0h5QJkh3kqkeqZW X-Gm-Gg: ASbGncvDcNhUisJa1WXO3JaFEaEcTwbFymG80JsJum9Xxx7RNCyrT8soVi5vd4y5gpp 1ELCrmj9j6k7JCEs3aBl9qWjoXyPfW08hn45SrqlN+tko1paXq1vqg81Uow11CAXC2w6Y8MEt+A qjRLujhUs/pU64ZzUt0YHShAd2+1iNBS6hTAHcwLOBcSZw4CvA9Qv5xTKG+ryiVlmLZ1xZMRWHh tEReWTKWziOdh148yzNfyzbqZy3nJAuUzbGlQOoIpS31/Z9sN8a4nuTR6tC7rlk1+s5+Pvwrysy bpv2uKYPuBZrbueiE9laUzzQzmKsQA== X-Google-Smtp-Source: AGHT+IF4G6srRr3/UGdx0jXIH0ekKCO2IPfL0KQx/v077skZJSxVSaZxRsbMdN3jyhLkUryZpPY5vB5Ul9Na X-Received: by 2002:a05:6871:8905:b0:27b:55af:ca2b with SMTP id 586e51a60fabf-2b804f4eab4mr3476321fac.11.1738814753948; Wed, 05 Feb 2025 20:05:53 -0800 (PST) Received: from postal.iol.unh.edu (postal.iol.unh.edu. [132.177.123.84]) by smtp-relay.gmail.com with ESMTPS id 586e51a60fabf-2b825fb7906sm22336fac.9.2025.02.05.20.05.53 (version=TLS1_2 cipher=ECDHE-ECDSA-AES128-GCM-SHA256 bits=128/128); Wed, 05 Feb 2025 20:05:53 -0800 (PST) X-Relaying-Domain: iol.unh.edu Date: Wed, 05 Feb 2025 20:05:53 -0800 (PST) Message-ID: <67a43521.050a0220.f6ced.13a3SMTPIN_ADDED_MISSING@mx.google.com> Received: from [172.21.0.5] (unknown [172.18.0.240]) by postal.iol.unh.edu (Postfix) with ESMTP id 5785E6052471; Wed, 5 Feb 2025 23:05:53 -0500 (EST) Subject: |SUCCESS| pw150992-151002 [PATCH] [11/11] net/bnxt: address coverity From: dpdklab@iol.unh.edu To: Test Report Cc: dpdk-test-reports@iol.unh.edu In-Reply-To: <20250205172004.50395-12-ajit.khaparde@broadcom.com> References: <20250205172004.50395-12-ajit.khaparde@broadcom.com> Content-Type: text/plain X-BeenThere: test-report@dpdk.org X-Mailman-Version: 2.1.29 Precedence: list List-Id: automatic DPDK test reports List-Unsubscribe: , List-Archive: List-Post: List-Help: List-Subscribe: , Errors-To: test-report-bounces@dpdk.org Test-Label: iol-unit-arm64-testing Test-Status: SUCCESS http://dpdk.org/patch/151002 _Testing PASS_ Submitter: Ajit Khaparde Date: Wednesday, February 05 2025 17:20:04 DPDK git baseline: Repo:dpdk Branch: master CommitID:32c18e7364e30a8e43cc7cc6709a7ce606fa285e 150992-151002 --> testing pass Upstream job id: Generic-Unit-Test-DPDK#311919 Test environment and result as below: +-----------------------------+----------------+--------------+------------------------------+---------------------------+ | Environment | dpdk_unit_test | lpm_autotest | cryptodev_sw_snow3g_autotest | cryptodev_sw_zuc_autotest | +=============================+================+==============+==============================+===========================+ | Debian 11 (Buster) (ARM) | PASS | SKIPPED | SKIPPED | SKIPPED | +-----------------------------+----------------+--------------+------------------------------+---------------------------+ | Debian 12 (arm) | PASS | SKIPPED | PASS | PASS | +-----------------------------+----------------+--------------+------------------------------+---------------------------+ | Fedora 40 (ARM) | PASS | SKIPPED | SKIPPED | SKIPPED | +-----------------------------+----------------+--------------+------------------------------+---------------------------+ | CentOS Stream 9 (ARM) | PASS | SKIPPED | SKIPPED | SKIPPED | +-----------------------------+----------------+--------------+------------------------------+---------------------------+ | Fedora 40 (ARM Clang) | PASS | SKIPPED | SKIPPED | SKIPPED | +-----------------------------+----------------+--------------+------------------------------+---------------------------+ | Fedora 41 (ARM) | PASS | SKIPPED | SKIPPED | SKIPPED | +-----------------------------+----------------+--------------+------------------------------+---------------------------+ | Fedora 41 (ARM Clang) | PASS | SKIPPED | SKIPPED | SKIPPED | +-----------------------------+----------------+--------------+------------------------------+---------------------------+ | RHEL9 (ARM) | PASS | SKIPPED | SKIPPED | SKIPPED | +-----------------------------+----------------+--------------+------------------------------+---------------------------+ | Ubuntu 20.04 (ARM) | PASS | SKIPPED | SKIPPED | SKIPPED | +-----------------------------+----------------+--------------+------------------------------+---------------------------+ | Ubuntu 22.04 (ARM) | PASS | SKIPPED | SKIPPED | SKIPPED | +-----------------------------+----------------+--------------+------------------------------+---------------------------+ | Ubuntu 24.04 (ARM) | PASS | SKIPPED | SKIPPED | SKIPPED | +-----------------------------+----------------+--------------+------------------------------+---------------------------+ | 32-bit Ubuntu 22.04.4 (ARM) | PASS | SKIPPED | SKIPPED | SKIPPED | +-----------------------------+----------------+--------------+------------------------------+---------------------------+ | Ubuntu 20.04 ARM SVE | SKIPPED | PASS | SKIPPED | SKIPPED | +-----------------------------+----------------+--------------+------------------------------+---------------------------+ Debian 11 (Buster) (ARM) Kernel: Depends on container host Compiler: gcc (Debian 10.2.1-6) 10.2.1 20210110 Debian 12 (arm) Kernel: Depends on container host Compiler: gcc (Debian 12.2.0-14) 12.2.0 Fedora 40 (ARM) Kernel: Depends on container host Compiler: gcc 14.2.1 20240912 (Red Hat 14.2.1-3) CentOS Stream 9 (ARM) Kernel: Depends on container host Compiler: gcc 11.5.0 20240719 (Red Hat 11.5.0-2) Fedora 40 (ARM Clang) Kernel: Depends on container host Compiler: clang 18.1.8 (Fedora 18.1.8-1.fc40) Fedora 41 (ARM) Kernel: Depends on container host Compiler: gcc 14.2.1 20240912 (Red Hat 14.2.1-3) Fedora 41 (ARM Clang) Kernel: Depends on container host Compiler: clang 19.1.5 (Fedora 19.1.5-1.fc41) RHEL9 (ARM) Kernel: Depends on container host Compiler: gcc 11.5.0 20240719 (Red Hat 11.5.0-2) Ubuntu 20.04 (ARM) Kernel: Depends on container host Compiler: gcc (Ubuntu 9.4.0-1ubuntu1~20.04.2) 9.4.0 Ubuntu 22.04 (ARM) Kernel: Depends on container host Compiler: gcc (Ubuntu 11.4.0-1ubuntu1~22.04) 11.4.0 Ubuntu 24.04 (ARM) Kernel: Depends on container host Compiler: gcc (Ubuntu 13.3.0-6ubuntu2~24.04) 13.3.0 32-bit Ubuntu 22.04.4 (ARM) Kernel: 5.15.83+ aarch64 Compiler: gcc (Ubuntu 11.4.0-1ubuntu1~22.04) 11.4.0 Ubuntu 20.04 ARM SVE Kernel: Depends on container host Compiler: gcc (Ubuntu 10.5.0-1ubuntu1~20.04) 10.5.0 To view detailed results, visit: https://lab.dpdk.org/results/dashboard/patchsets/32502/ UNH-IOL DPDK Community Lab To manage your email subscriptions, visit: https://lab.dpdk.org/results/dashboard/preferences/subscriptions/