From mboxrd@z Thu Jan 1 00:00:00 1970 Return-Path: Received: from mails.dpdk.org (mails.dpdk.org [217.70.189.124]) by inbox.dpdk.org (Postfix) with ESMTP id 2BF5D461A5 for ; Thu, 6 Feb 2025 05:11:15 +0100 (CET) Received: from mails.dpdk.org (localhost [127.0.0.1]) by mails.dpdk.org (Postfix) with ESMTP id 06D5D402F1; Thu, 6 Feb 2025 05:11:15 +0100 (CET) Received: from mail-yb1-f228.google.com (mail-yb1-f228.google.com [209.85.219.228]) by mails.dpdk.org (Postfix) with ESMTP id C3535402D6 for ; Thu, 6 Feb 2025 05:11:13 +0100 (CET) Received: by mail-yb1-f228.google.com with SMTP id 3f1490d57ef6-e4930eca0d4so348083276.3 for ; Wed, 05 Feb 2025 20:11:13 -0800 (PST) DKIM-Signature: v=1; a=rsa-sha256; c=relaxed/relaxed; d=iol.unh.edu; s=unh-iol; t=1738815073; x=1739419873; darn=dpdk.org; h=references:in-reply-to:cc:to:from:subject:message-id:date:from:to :cc:subject:date:message-id:reply-to; bh=7Rl0x51K55JSoRPCA0WAyHKWiTQ912cVHM5peW1+H4o=; b=StBi3XaPcGTEB3F+lS/to5c74+43ls4xKU0M7lB1oBXyORSC7+lnfuAZGLHtboAcKs PIqVklCd4bhEAXr5KIbhRF4L619/QSFJRkxeW8B4JhTpV/WoZh9mYeJ48Mm4CTGPAfFo FnnyPP19suFGFvj1asSR/FiWAp3dpvOSC68ho= X-Google-DKIM-Signature: v=1; a=rsa-sha256; c=relaxed/relaxed; d=1e100.net; s=20230601; t=1738815073; x=1739419873; h=references:in-reply-to:cc:to:from:subject:message-id:date :x-gm-message-state:from:to:cc:subject:date:message-id:reply-to; bh=7Rl0x51K55JSoRPCA0WAyHKWiTQ912cVHM5peW1+H4o=; b=htTCDAhPFrspQODnQrNFc8CnxfwfQLxhIKCoFglWr8SrUpMhSmG3/upL+5hYpREorU IntatBOWFf2ozyUDK+/ktSqGWxi3oBAYMQyf3s8iMXtp7CtF+E9k6fHKEmPHU0bXOmyt /Q0O97GZms4KQETKJDyUpk2bXRcq9ulA8ISercKIu2ZOF+wFcsoqUiNLx/+bGQrgxLbt ekKPjmrxKVG30Y6Jf3uQiWcdigEW+xV+mFy/ctTQgb4OtfenJI5/2NfEHkJTCIrjsF9I lvMi5J2EDDOG+QT08RrbAI1T0SvtzrgrIZhMmXY91wfmpfVIuMjckm43XC83A8NRUsll CdSw== X-Gm-Message-State: AOJu0Yx7itAZOeN+a6pPg0DiZP9BbKJbyivFiaC6uA85qI2Ru3S3x7zm /YhynB5N0Rsyz5VxasZSC/QKoVevrcIU+jOgC/Ql9sOj9UA2xQwSSox54Ax2x+gLd19S7U0L07+ wdyCRmClRwjgJC2N/mLjgPgbGlNqRoUv2dVIggsPnM3t7tFF8wT37bPSA X-Gm-Gg: ASbGncv2Y4F52RTUqe9DNwB9/iFZs1UGE+LzzvI1iu5JUDOnbLxHHuJK4Im82FvtQsY mnnh8P0LkgwkYEDjCUSRgPVq0X90Y6JzE0oBpvlGCyJwe6DJ4SKY+Iw6275speDNfICeycaoluf lrCqpgdbACeBpa6eyM5ImQhmbgNbR4SpCVFzQtUFkacpMByS/n+hq2C+ZCRAwOGR+77YAojz+65 /iznAulGswyaufoRuk3QdFV0FlJ8bvjmlea8d73D3LI3lustr+DgIWlzom1fAsgmCIPOxnx0Vnt nrAwa8YVYjfg2I5AWKjXH2yupISlYXv1uQKt5UI2EA== X-Google-Smtp-Source: AGHT+IEUuh9E2w8L8WkOKRmfVELjhmsW0/yzUXfxFFLNpQfgtl9gvK2Q1aRzDx9y4YRTkBCyANMamSfFOFMA X-Received: by 2002:a25:5f47:0:b0:e5b:399c:7129 with SMTP id 3f1490d57ef6-e5b399c74a8mr409177276.13.1738815073188; Wed, 05 Feb 2025 20:11:13 -0800 (PST) Received: from postal.iol.unh.edu (postal.iol.unh.edu. [2606:4100:3880:1234::84]) by smtp-relay.gmail.com with ESMTPS id 3f1490d57ef6-e5b3a1f0ae2sm7752276.6.2025.02.05.20.11.13 (version=TLS1_2 cipher=ECDHE-ECDSA-AES128-GCM-SHA256 bits=128/128); Wed, 05 Feb 2025 20:11:13 -0800 (PST) X-Relaying-Domain: iol.unh.edu Date: Wed, 05 Feb 2025 20:11:13 -0800 (PST) Message-ID: <67a43661.050a0220.3af945.06ceSMTPIN_ADDED_MISSING@mx.google.com> Received: from [172.21.0.6] (unknown [172.18.0.240]) by postal.iol.unh.edu (Postfix) with ESMTP id BE9636052471; Wed, 5 Feb 2025 23:11:12 -0500 (EST) Subject: |SUCCESS| pw150992-151002 [PATCH] [11/11] net/bnxt: address coverity From: dpdklab@iol.unh.edu To: Test Report Cc: dpdk-test-reports@iol.unh.edu In-Reply-To: <20250205172004.50395-12-ajit.khaparde@broadcom.com> References: <20250205172004.50395-12-ajit.khaparde@broadcom.com> Content-Type: text/plain X-BeenThere: test-report@dpdk.org X-Mailman-Version: 2.1.29 Precedence: list List-Id: automatic DPDK test reports List-Unsubscribe: , List-Archive: List-Post: List-Help: List-Subscribe: , Errors-To: test-report-bounces@dpdk.org Test-Label: iol-compile-arm64-testing Test-Status: SUCCESS http://dpdk.org/patch/151002 _Testing PASS_ Submitter: Ajit Khaparde Date: Wednesday, February 05 2025 17:20:04 DPDK git baseline: Repo:dpdk Branch: master CommitID:32c18e7364e30a8e43cc7cc6709a7ce606fa285e 150992-151002 --> testing pass Upstream job id: Generic-DPDK-Compile-Meson#358110 Test environment and result as below: +----------------------------------------+--------------------+ | Environment | dpdk_meson_compile | +========================================+====================+ | RHEL9 (ARM) | PASS | +----------------------------------------+--------------------+ | Ubuntu 20.04 ARM GCC Cross Compile | PASS | +----------------------------------------+--------------------+ | Ubuntu 20.04 ARM SVE | PASS | +----------------------------------------+--------------------+ | Debian 12 with MUSDK | PASS | +----------------------------------------+--------------------+ | Fedora 40 (ARM) | PASS | +----------------------------------------+--------------------+ | Fedora 40 (ARM Clang) | PASS | +----------------------------------------+--------------------+ | Fedora 41 (ARM) | PASS | +----------------------------------------+--------------------+ | Ubuntu 20.04 (ARM) | PASS | +----------------------------------------+--------------------+ | Fedora 41 (ARM Clang) | PASS | +----------------------------------------+--------------------+ | Ubuntu 22.04 (ARM) | PASS | +----------------------------------------+--------------------+ | Ubuntu 24.04 (ARM) | PASS | +----------------------------------------+--------------------+ | CentOS Stream 9 (ARM) | PASS | +----------------------------------------+--------------------+ | Debian 11 (Buster) (ARM) | PASS | +----------------------------------------+--------------------+ | Debian 12 (arm) | PASS | +----------------------------------------+--------------------+ | Ubuntu 20.04 ARM Clang Cross Compile | PASS | +----------------------------------------+--------------------+ | Ubuntu 20.04 aarch32 GCC Cross Compile | PASS | +----------------------------------------+--------------------+ RHEL9 (ARM) Kernel: Depends on container host Compiler: gcc 11.5.0 20240719 (Red Hat 11.5.0-2) Ubuntu 20.04 ARM GCC Cross Compile Kernel: Depends on container host Compiler: aarch64-linux-gnu-gcc (Ubuntu 9.4.0-1ubuntu1~20.04.2) 9.4.0 Ubuntu 20.04 ARM SVE Kernel: Depends on container host Compiler: gcc (Ubuntu 10.5.0-1ubuntu1~20.04) 10.5.0 Debian 12 with MUSDK Kernel: Depends on container host Compiler: gcc (Debian 12.2.0-14) 12.2.0 Fedora 40 (ARM) Kernel: Depends on container host Compiler: gcc 14.2.1 20240912 (Red Hat 14.2.1-3) Fedora 40 (ARM Clang) Kernel: Depends on container host Compiler: clang 18.1.8 (Fedora 18.1.8-1.fc40) Fedora 41 (ARM) Kernel: Depends on container host Compiler: gcc 14.2.1 20240912 (Red Hat 14.2.1-3) Ubuntu 20.04 (ARM) Kernel: Depends on container host Compiler: gcc (Ubuntu 9.4.0-1ubuntu1~20.04.2) 9.4.0 Fedora 41 (ARM Clang) Kernel: Depends on container host Compiler: clang 19.1.5 (Fedora 19.1.5-1.fc41) Ubuntu 22.04 (ARM) Kernel: Depends on container host Compiler: gcc (Ubuntu 11.4.0-1ubuntu1~22.04) 11.4.0 Ubuntu 24.04 (ARM) Kernel: Depends on container host Compiler: gcc (Ubuntu 13.3.0-6ubuntu2~24.04) 13.3.0 CentOS Stream 9 (ARM) Kernel: Depends on container host Compiler: gcc 11.5.0 20240719 (Red Hat 11.5.0-2) Debian 11 (Buster) (ARM) Kernel: Depends on container host Compiler: gcc (Debian 10.2.1-6) 10.2.1 20210110 Debian 12 (arm) Kernel: Depends on container host Compiler: gcc (Debian 12.2.0-14) 12.2.0 Ubuntu 20.04 ARM Clang Cross Compile Kernel: Depends on container host Compiler: clang 10.0.0-4ubuntu1 Ubuntu 20.04 aarch32 GCC Cross Compile Kernel: Depends on container host Compiler: gcc 9.4.0 To view detailed results, visit: https://lab.dpdk.org/results/dashboard/patchsets/32502/ UNH-IOL DPDK Community Lab To manage your email subscriptions, visit: https://lab.dpdk.org/results/dashboard/preferences/subscriptions/