From mboxrd@z Thu Jan 1 00:00:00 1970 Return-Path: Received: from mails.dpdk.org (mails.dpdk.org [217.70.189.124]) by inbox.dpdk.org (Postfix) with ESMTP id E0E95461A5 for ; Thu, 6 Feb 2025 05:19:02 +0100 (CET) Received: from mails.dpdk.org (localhost [127.0.0.1]) by mails.dpdk.org (Postfix) with ESMTP id C69D4402F1; Thu, 6 Feb 2025 05:19:02 +0100 (CET) Received: from mail-il1-f227.google.com (mail-il1-f227.google.com [209.85.166.227]) by mails.dpdk.org (Postfix) with ESMTP id 404C7402D6 for ; Thu, 6 Feb 2025 05:19:01 +0100 (CET) Received: by mail-il1-f227.google.com with SMTP id e9e14a558f8ab-3d06026ddf8so93145ab.3 for ; Wed, 05 Feb 2025 20:19:01 -0800 (PST) DKIM-Signature: v=1; a=rsa-sha256; c=relaxed/relaxed; d=iol.unh.edu; s=unh-iol; t=1738815540; x=1739420340; darn=dpdk.org; h=references:in-reply-to:cc:to:from:subject:message-id:date:from:to :cc:subject:date:message-id:reply-to; bh=JKqrU/hhkQiPF6BJP5IaieIwWkN3Uf8GAUtYRRvf4DQ=; b=Q4LV5mFrhByZIPdgeP9yewmXOXC02bIgTPbpDFwyyRJww3kREEpz7MzNJauXu8OeoQ FxFd+s5LTT9Acewr1t+L6nR2RNq0YQh9Q7RaoU1Hik9HyyDlFqBDg+384/H+xicWRJtG +VsumqXC/OMd+uZxBbRzchtc/neMbjssFcF8I= X-Google-DKIM-Signature: v=1; a=rsa-sha256; c=relaxed/relaxed; d=1e100.net; s=20230601; t=1738815540; x=1739420340; h=references:in-reply-to:cc:to:from:subject:message-id:date :x-gm-message-state:from:to:cc:subject:date:message-id:reply-to; bh=JKqrU/hhkQiPF6BJP5IaieIwWkN3Uf8GAUtYRRvf4DQ=; b=bkwLa4+Ghte4aB6zKTI3ZtxPveNMxM4iTJaKqcInCHGffhBN0Hu4COPHJ1Yo8yv70I 5vkwT/pvQ9BHq+zvWzATlywi3QvVLpQlAoo4b6pG/lwMcuwS8+VqNW+sCezsnyYFMB+v zpYs4iD+jaLEs1HVvKkZFNwNc32T9L2HYPeTrahwkKCf35BTRTnk5IBgb6biQWAMk07b /PMPUlPeYhFESb6xlGeIGNfMliVj14QQ5WypLL7DgYXwdyZKrGMeacTB/jMRupq/lOuK 8/S2cwOfjl1+CBIH/jF+jf8DKMumM6F2DHFnvQN1p/Ili/tu8V+BHWdu3h8teQgHBIaX v2BA== X-Gm-Message-State: AOJu0YyI8tR/wJMtRBj+WL+aAl1V5a7BOWRtTuoBB6fcOz9vk+nkgz9/ 6XUB4d91OrfPIdSREfDa8Y05q2B+sGCYGdtzsdsDDMs7FLaxoyZOHqdlGt2WK9tdBBBDa8+A0Eb 4RPVUFOCjskjthHGzxaKAhtryP+qtu0HZT3HK8QUg X-Gm-Gg: ASbGncsEv0IHJMbAFKskZMlJ9M47gWstWyxN2veFzB5nYdSCoKKvU5VgVZSsjEsd9NM +JvAksNvqJXh15LpytOmNuz3f8+Fco2lc8LF42eJBWUnEAd3uDppxHCAN82OJBCygsbt/EjAxhb k+a/irjiI9b+H8zUrQt1RfetWAFo+8rr0/RUCVILKKk3qHAgXuolbcwc2pwUGVlC7yXx+wlB4NV YUw1mcL75sT7EhNszECxlp9Y0c0zvPeCyFF7pP3+bOMup4jlJ6uKZ0Rig5Dk10eSPCbc+RcXviA kz+KLikmD6ukdHBWFUN4fWrDxJc9Lg== X-Google-Smtp-Source: AGHT+IGvns0UdRfyI01HdPeUjYvcfDfp4H1HxvllIPvXdfkgWUAUYOvDCj7Eb9JP5cslAE2bBvESFiXpEXaO X-Received: by 2002:a05:6e02:1cab:b0:3d0:bd5:b863 with SMTP id e9e14a558f8ab-3d04f932d5emr56294025ab.20.1738815540375; Wed, 05 Feb 2025 20:19:00 -0800 (PST) Received: from postal.iol.unh.edu (postal.iol.unh.edu. [132.177.123.84]) by smtp-relay.gmail.com with ESMTPS id e9e14a558f8ab-3d05e918566sm227295ab.28.2025.02.05.20.19.00 (version=TLS1_2 cipher=ECDHE-ECDSA-AES128-GCM-SHA256 bits=128/128); Wed, 05 Feb 2025 20:19:00 -0800 (PST) X-Relaying-Domain: iol.unh.edu Date: Wed, 05 Feb 2025 20:19:00 -0800 (PST) Message-ID: <67a43834.050a0220.398e84.14cdSMTPIN_ADDED_MISSING@mx.google.com> Received: from [172.21.0.5] (unknown [172.18.0.240]) by postal.iol.unh.edu (Postfix) with ESMTP id CC57E6052471; Wed, 5 Feb 2025 23:18:59 -0500 (EST) Subject: |SUCCESS| pw151006-151005 [PATCH] [v3,2/2] drivers/net: add MSVC com From: dpdklab@iol.unh.edu To: Test Report Cc: dpdk-test-reports@iol.unh.edu In-Reply-To: <1738781590-2408-3-git-send-email-andremue@linux.microsoft.com> References: <1738781590-2408-3-git-send-email-andremue@linux.microsoft.com> Content-Type: text/plain X-BeenThere: test-report@dpdk.org X-Mailman-Version: 2.1.29 Precedence: list List-Id: automatic DPDK test reports List-Unsubscribe: , List-Archive: List-Post: List-Help: List-Subscribe: , Errors-To: test-report-bounces@dpdk.org Test-Label: iol-compile-amd64-testing Test-Status: SUCCESS http://dpdk.org/patch/151005 _Testing PASS_ Submitter: Andre Muezerie Date: Wednesday, February 05 2025 18:53:10 DPDK git baseline: Repo:dpdk Branch: master CommitID:e595e7b5758fc73d99b810f5a8748f94bd467084 151006-151005 --> testing pass Upstream job id: Generic-DPDK-Compile-Meson#358222 Test environment and result as below: +---------------------+-------------------+--------------------+------------------+-------------------+-------------------------+----------------------+ | Environment | dpdk_msvc_compile | dpdk_meson_compile | dpdk_compile_ovs | dpdk_compile_spdk | dpdk_llvm_clang_compile | dpdk_mingw64_compile | +=====================+===================+====================+==================+===================+=========================+======================+ | Windows Server 2022 | PASS | SKIPPED | SKIPPED | SKIPPED | PASS | PASS | +---------------------+-------------------+--------------------+------------------+-------------------+-------------------------+----------------------+ | FreeBSD 13.4 | SKIPPED | PASS | SKIPPED | SKIPPED | SKIPPED | SKIPPED | +---------------------+-------------------+--------------------+------------------+-------------------+-------------------------+----------------------+ | FreeBSD 14.2 | SKIPPED | PASS | SKIPPED | SKIPPED | SKIPPED | SKIPPED | +---------------------+-------------------+--------------------+------------------+-------------------+-------------------------+----------------------+ | CentOS Stream 9 | SKIPPED | PASS | PASS | PASS | SKIPPED | SKIPPED | +---------------------+-------------------+--------------------+------------------+-------------------+-------------------------+----------------------+ | Debian Bullseye | SKIPPED | PASS | PASS | PASS | SKIPPED | SKIPPED | +---------------------+-------------------+--------------------+------------------+-------------------+-------------------------+----------------------+ | Debian 12 | SKIPPED | PASS | PASS | PASS | SKIPPED | SKIPPED | +---------------------+-------------------+--------------------+------------------+-------------------+-------------------------+----------------------+ | Fedora 40 (Clang) | SKIPPED | PASS | PASS | PASS | SKIPPED | SKIPPED | +---------------------+-------------------+--------------------+------------------+-------------------+-------------------------+----------------------+ | Fedora 40 | SKIPPED | PASS | PASS | PASS | SKIPPED | SKIPPED | +---------------------+-------------------+--------------------+------------------+-------------------+-------------------------+----------------------+ | Fedora 41 | SKIPPED | PASS | PASS | PASS | SKIPPED | SKIPPED | +---------------------+-------------------+--------------------+------------------+-------------------+-------------------------+----------------------+ | openSUSE Leap 15 | SKIPPED | PASS | SKIPPED | SKIPPED | SKIPPED | SKIPPED | +---------------------+-------------------+--------------------+------------------+-------------------+-------------------------+----------------------+ | RHEL8 | SKIPPED | PASS | PASS | SKIPPED | SKIPPED | SKIPPED | +---------------------+-------------------+--------------------+------------------+-------------------+-------------------------+----------------------+ | RHEL9 | SKIPPED | PASS | PASS | SKIPPED | SKIPPED | SKIPPED | +---------------------+-------------------+--------------------+------------------+-------------------+-------------------------+----------------------+ | Ubuntu 20.04 | SKIPPED | PASS | SKIPPED | SKIPPED | SKIPPED | SKIPPED | +---------------------+-------------------+--------------------+------------------+-------------------+-------------------------+----------------------+ | Ubuntu 22.04 | SKIPPED | PASS | PASS | PASS | SKIPPED | SKIPPED | +---------------------+-------------------+--------------------+------------------+-------------------+-------------------------+----------------------+ | Ubuntu 24.04 | SKIPPED | PASS | PASS | PASS | SKIPPED | SKIPPED | +---------------------+-------------------+--------------------+------------------+-------------------+-------------------------+----------------------+ | Alpine | SKIPPED | PASS | PASS | SKIPPED | SKIPPED | SKIPPED | +---------------------+-------------------+--------------------+------------------+-------------------+-------------------------+----------------------+ | Fedora 41 (Clang) | SKIPPED | PASS | PASS | PASS | SKIPPED | SKIPPED | +---------------------+-------------------+--------------------+------------------+-------------------+-------------------------+----------------------+ Windows Server 2022 Kernel: 10.0.20348.2031 Compiler: clang 15.0.7, gcc 14.1.0 (MinGW), and MSVC VS 19.39.33521 FreeBSD 13.4 Kernel: 13.4-RELEASE-p1 Compiler: clang 18.1.6 FreeBSD 14.2 Kernel: 14.2-RELEASE Compiler: clang 18.1.6 CentOS Stream 9 Kernel: Depends on container host Compiler: gcc 11.5.0 20240719 (Red Hat 11.5.0-2) Debian Bullseye Kernel: Depends on container host Compiler: gcc (Debian 10.2.1-6) 10.2.1 20210110 Debian 12 Kernel: Depends on container host Compiler: gcc (Debian 12.2.0-14) 12.2.0 Fedora 40 (Clang) Kernel: Depends on container host Compiler: clang 18.1.8 (Fedora 18.1.8-1.fc40) Fedora 40 Kernel: Depends on container host Compiler: gcc 14.2.1 20240912 (Red Hat 14.2.1-3) Fedora 41 Kernel: Depends on container host Compiler: gcc 14.2.1 20240912 (Red Hat 14.2.1-3) openSUSE Leap 15 Kernel: Depends on container host Compiler: gcc (SUSE Linux) 7.5.0 RHEL8 Kernel: Depends on container host Compiler: gcc 8.5.0 20210514 (Red Hat 8.5.0-22) RHEL9 Kernel: Depends on container host Compiler: gcc 11.5.0 20240719 (Red Hat 11.5.0-2) Ubuntu 20.04 Kernel: Depends on container host Compiler: gcc (Ubuntu 9.4.0-1ubuntu1~20.04.2) 9.4.0 Ubuntu 22.04 Kernel: Depends on container host Compiler: gcc (Ubuntu 11.4.0-1ubuntu1~22.04) 11.4.0 Ubuntu 24.04 Kernel: Depends on container host Compiler: gcc (Ubuntu 13.3.0-6ubuntu2~24.04) 13.3.0 Alpine Kernel: Depends on container host Compiler: gcc (Alpine 14.2.0) 14.2.0 Fedora 41 (Clang) Kernel: Depends on container host Compiler: clang 19.1.5 (Fedora 19.1.5-1.fc41) To view detailed results, visit: https://lab.dpdk.org/results/dashboard/patchsets/32504/ UNH-IOL DPDK Community Lab To manage your email subscriptions, visit: https://lab.dpdk.org/results/dashboard/preferences/subscriptions/