From mboxrd@z Thu Jan 1 00:00:00 1970 Return-Path: Received: from mails.dpdk.org (mails.dpdk.org [217.70.189.124]) by inbox.dpdk.org (Postfix) with ESMTP id 4B961461A5 for ; Thu, 6 Feb 2025 05:46:34 +0100 (CET) Received: from mails.dpdk.org (localhost [127.0.0.1]) by mails.dpdk.org (Postfix) with ESMTP id 134AF402F1; Thu, 6 Feb 2025 05:46:34 +0100 (CET) Received: from mail-il1-f227.google.com (mail-il1-f227.google.com [209.85.166.227]) by mails.dpdk.org (Postfix) with ESMTP id AA02B402D6 for ; Thu, 6 Feb 2025 05:46:32 +0100 (CET) Received: by mail-il1-f227.google.com with SMTP id e9e14a558f8ab-3ce873818a3so4640795ab.1 for ; Wed, 05 Feb 2025 20:46:32 -0800 (PST) DKIM-Signature: v=1; a=rsa-sha256; c=relaxed/relaxed; d=iol.unh.edu; s=unh-iol; t=1738817192; x=1739421992; darn=dpdk.org; h=references:in-reply-to:cc:to:from:subject:message-id:date:from:to :cc:subject:date:message-id:reply-to; bh=Y5eOdAkwX1hog0KvxwXQu0FGWbIzDSv3S//F/8Q8Mjk=; b=eolNAIu6/a1xpXxm99EgCRId6iKaVu9HKTnFtccWS0GtdDrWYZkUUJJqzW+x9ahIJ2 ToKBaSoktZt/LtRf19IMvDt8OH5OzREX5vwqjFqMlcpBIhAayHLeVOfxB9UDrqFgOL/h sTab/fV4P1ZPlaqpcK01i4C9X0UwTVskYYr8Q= X-Google-DKIM-Signature: v=1; a=rsa-sha256; c=relaxed/relaxed; d=1e100.net; s=20230601; t=1738817192; x=1739421992; h=references:in-reply-to:cc:to:from:subject:message-id:date :x-gm-message-state:from:to:cc:subject:date:message-id:reply-to; bh=Y5eOdAkwX1hog0KvxwXQu0FGWbIzDSv3S//F/8Q8Mjk=; b=DwuLhIiQ0E0NywesvtBG2ftlgNbG/9VhwwJLMyreI1LOGvVpE5jfJwD3QxawIjY7Ik xOCNKlPLL+t6xEDQNSWsYyFQwsDHgd9HUYuDKdKApwhO9CLmXkCZ9ipG7EB71jyCxX6c 0AN1BCtPNXrjSzeOfOvFlMlmkhDCQYSvZNLg1Cb6u0XaI8rp026nuPU6Gtm3dR1/PqtP O3ryI5EM4KKceOuR30AsqQCGBgaDlyM1z42w4oI/9fLqQaRgDd+lurzZJTC3Pd5qbk7c girgKtH2KaCVQydN8n2RhrSTEXxw8wPVgTM5Rmp1W/gZhd4z1mcaHWQxrSuW5vrHpkRh ilWw== X-Gm-Message-State: AOJu0YztJVUHMhrUdMd0cDmwcpPmsAJH26ni5VsZflTr5496i1CAwpWZ dBdCg8M6vVegZf7OhvqPnFgP1lYcT97Pkn4JNqNeT2DD0Vp2uBtmnuoerHnvOX0WQRnTyAuyd2u Z3SdmjkHUnjtF1fBw/j0psAYV/xPrNSKUGH1UJpY9vvJv3nkpDShhRtYU X-Gm-Gg: ASbGnctrMcsiK47R67LrJq9xOUD5uCV9gTk1fqK0B1pI3r5jJ/0EvGv0Vs4/kgXU/gR Ik/pkXDC2DlBsdBTYr4oVXIA384CT/IEu/av2lkCB3spko2VslR23Nh0tquTwY/rJHt2tqT9lR3 l90D2LacPXG+ERGfQ9SSCmFilRX3qKm+2wYIp/x/i4qqDy6zUjuUAZbfWaSaVuds12pxIgumHRI 4ecIJB0/GoY18ru/HkTJhA/AHFXsT42IFR0FAMsbYLv/gZcQqyPhiEJsaqSf5COwulm2cmnHqB7 3Z235aPBUo95t275tfSStBWuYSjbB0DgTJQ7qg6Ncw== X-Google-Smtp-Source: AGHT+IFzUcuz8Lj70WnhH49ae20lp40VpxDM97xNRLfotMLEPAiXfvhHroQOIT4hz9Jzc2+Jxz4MCCIALBJo X-Received: by 2002:a05:6e02:2163:b0:3d0:4b06:def3 with SMTP id e9e14a558f8ab-3d04f4429femr48917525ab.10.1738817192010; Wed, 05 Feb 2025 20:46:32 -0800 (PST) Received: from postal.iol.unh.edu (postal.iol.unh.edu. [2606:4100:3880:1234::84]) by smtp-relay.gmail.com with ESMTPS id 8926c6da1cb9f-4eccfad6a85sm33538173.71.2025.02.05.20.46.19 (version=TLS1_2 cipher=ECDHE-ECDSA-AES128-GCM-SHA256 bits=128/128); Wed, 05 Feb 2025 20:46:31 -0800 (PST) X-Relaying-Domain: iol.unh.edu Date: Wed, 05 Feb 2025 20:46:31 -0800 (PST) Message-ID: <67a43ea7.050a0220.2415b8.1f04SMTPIN_ADDED_MISSING@mx.google.com> Received: from [172.21.0.7] (unknown [172.18.0.240]) by postal.iol.unh.edu (Postfix) with ESMTP id E18DB6052471; Wed, 5 Feb 2025 23:46:18 -0500 (EST) Subject: |SUCCESS| pw151003-151004 [PATCH] [v2,2/2] build: replace support fo From: dpdklab@iol.unh.edu To: Test Report Cc: dpdk-test-reports@iol.unh.edu In-Reply-To: <20250205182918.4041268-3-bruce.richardson@intel.com> References: <20250205182918.4041268-3-bruce.richardson@intel.com> Content-Type: text/plain X-BeenThere: test-report@dpdk.org X-Mailman-Version: 2.1.29 Precedence: list List-Id: automatic DPDK test reports List-Unsubscribe: , List-Archive: List-Post: List-Help: List-Subscribe: , Errors-To: test-report-bounces@dpdk.org Test-Label: iol-unit-amd64-testing Test-Status: SUCCESS http://dpdk.org/patch/151004 _Testing PASS_ Submitter: Bruce Richardson Date: Wednesday, February 05 2025 18:29:15 DPDK git baseline: Repo:dpdk Branch: master CommitID:32c18e7364e30a8e43cc7cc6709a7ce606fa285e 151003-151004 --> testing pass Upstream job id: Generic-Unit-Test-DPDK#312035 Test environment and result as below: +---------------------+----------------+ | Environment | dpdk_unit_test | +=====================+================+ | Debian 12 | PASS | +---------------------+----------------+ | CentOS Stream 9 | PASS | +---------------------+----------------+ | Debian Bullseye | PASS | +---------------------+----------------+ | RHEL9 | PASS | +---------------------+----------------+ | Fedora 40 | PASS | +---------------------+----------------+ | RHEL8 | PASS | +---------------------+----------------+ | Fedora 41 | PASS | +---------------------+----------------+ | Fedora 41 (Clang) | PASS | +---------------------+----------------+ | Fedora 40 (Clang) | PASS | +---------------------+----------------+ | Ubuntu 20.04 | PASS | +---------------------+----------------+ | Ubuntu 22.04 | PASS | +---------------------+----------------+ | Ubuntu 24.04 | PASS | +---------------------+----------------+ | Windows Server 2022 | PASS | +---------------------+----------------+ Debian 12 Kernel: Depends on container host Compiler: gcc (Debian 12.2.0-14) 12.2.0 CentOS Stream 9 Kernel: Depends on container host Compiler: gcc 11.5.0 20240719 (Red Hat 11.5.0-2) Debian Bullseye Kernel: Depends on container host Compiler: gcc (Debian 10.2.1-6) 10.2.1 20210110 RHEL9 Kernel: Depends on container host Compiler: gcc 11.5.0 20240719 (Red Hat 11.5.0-2) Fedora 40 Kernel: Depends on container host Compiler: gcc 14.2.1 20240912 (Red Hat 14.2.1-3) RHEL8 Kernel: Depends on container host Compiler: gcc 8.5.0 20210514 (Red Hat 8.5.0-22) Fedora 41 Kernel: Depends on container host Compiler: gcc 14.2.1 20240912 (Red Hat 14.2.1-3) Fedora 41 (Clang) Kernel: Depends on container host Compiler: clang 19.1.5 (Fedora 19.1.5-1.fc41) Fedora 40 (Clang) Kernel: Depends on container host Compiler: clang 18.1.8 (Fedora 18.1.8-1.fc40) Ubuntu 20.04 Kernel: Depends on container host Compiler: gcc (Ubuntu 9.4.0-1ubuntu1~20.04.2) 9.4.0 Ubuntu 22.04 Kernel: Depends on container host Compiler: gcc (Ubuntu 11.4.0-1ubuntu1~22.04) 11.4.0 Ubuntu 24.04 Kernel: Depends on container host Compiler: gcc (Ubuntu 13.3.0-6ubuntu2~24.04) 13.3.0 Windows Server 2022 Kernel: 10.0.20348.2031 Compiler: clang 15.0.7, gcc 14.1.0 (MinGW), and MSVC VS 19.39.33521 To view detailed results, visit: https://lab.dpdk.org/results/dashboard/patchsets/32503/ UNH-IOL DPDK Community Lab To manage your email subscriptions, visit: https://lab.dpdk.org/results/dashboard/preferences/subscriptions/