From mboxrd@z Thu Jan 1 00:00:00 1970 Return-Path: Received: from mails.dpdk.org (mails.dpdk.org [217.70.189.124]) by inbox.dpdk.org (Postfix) with ESMTP id 733D3461A5 for ; Thu, 6 Feb 2025 05:46:56 +0100 (CET) Received: from mails.dpdk.org (localhost [127.0.0.1]) by mails.dpdk.org (Postfix) with ESMTP id 6A91B40609; Thu, 6 Feb 2025 05:46:56 +0100 (CET) Received: from mail-pj1-f97.google.com (mail-pj1-f97.google.com [209.85.216.97]) by mails.dpdk.org (Postfix) with ESMTP id 2E34D4065A for ; Thu, 6 Feb 2025 05:46:55 +0100 (CET) Received: by mail-pj1-f97.google.com with SMTP id 98e67ed59e1d1-2f9bed1f521so626306a91.3 for ; Wed, 05 Feb 2025 20:46:55 -0800 (PST) DKIM-Signature: v=1; a=rsa-sha256; c=relaxed/relaxed; d=iol.unh.edu; s=unh-iol; t=1738817214; x=1739422014; darn=dpdk.org; h=references:in-reply-to:cc:to:from:subject:message-id:date:from:to :cc:subject:date:message-id:reply-to; bh=sDA/776jCkpYebN8LWkNVydsIuFxh9vC2mCe37MUROA=; b=WANQh2a/7vALmz4Se3IV/uzZKx8W3tc4d3iZkpZzoH5b1cot5BlPmeRHMeMMXLl7oy 92M3GW3TK5NLOUIQDDiWedX0p0SzBkhCCjuXxOWMfO03tRGygQQZwW/fv2MMR+uVuuUq dEsQUGHtWVcLoLuw9CF8FQKITQ08mFV7nQAxA= X-Google-DKIM-Signature: v=1; a=rsa-sha256; c=relaxed/relaxed; d=1e100.net; s=20230601; t=1738817214; x=1739422014; h=references:in-reply-to:cc:to:from:subject:message-id:date :x-gm-message-state:from:to:cc:subject:date:message-id:reply-to; bh=sDA/776jCkpYebN8LWkNVydsIuFxh9vC2mCe37MUROA=; b=CzZqWXMGcb0LdGog9MhfFmTkfdsjjQdcwVEhjJu9Utoq9FiA3uv4i13cGIXW5CYdVB xS4WhjzrOFBuXjKP63UmkEU0vDM0W+BUrGPDDq50EAkUppuZhTNcJLOBCXQV0Axf0hd2 Ow8b2GWlVrtWox0Od/Ec9LXsZ4JVviMNwqDFyTa8b31HQeUlpUNFIOKOncEIcQqHqYOT Yi/H45ISM+bVbVXDXPP9tHEB1W7wjVXFDObLSgQQt5IFHNxUrGxNsGJiXCqaKJxsbXMF 0kOwtQJ9qf06tZ0+YHCSArM4rdtY4yZZV+XrNgOFcHKunBVtcakZiILv/bJfnFCJd/wm v4eQ== X-Gm-Message-State: AOJu0YznWWZDA8+xnViVMMJgcaTmcL3z8/8QBIsHfIzjZa5VM7m8JWXk nsXvR6O51+idPE52pof4i529BA6dIPGVR8ZHgCEGe4ON2akc0zE+NnObVZTt+p9dAe+qu6dJcgg g0nctMzhcHv/24atmxnMgdj2PfiRf/9tLRNyUmUa0i6ngAbDYD425Nc4h X-Gm-Gg: ASbGncsWXTsHi7SNrkbo35H+ANKyD9UKZ7fM2oY+SpOTOId/gH63mBuLNvGM3v2gO8s 5b0HfI43Sg4b6Ma5wD2NFTpQ87EzxrVq3NIDdGKzu3bIRYRk3jAM27YpR4JJs9eXEu9jTSVLS0f 3uJeHuJrEr4C4+PfGs8mvwFdFMW/vdNKGASrlqS1nIll8yyESxTNFrGZmNKzGfTUhXY4d+blATb 0Xh1SJXKJ3ql6h7yY6pwL59T4QRQxqeAPraFIl1vloFIEl6MqvbVaygT8KNCxsKBjdQMZH+QSyk FPh2RgwxF3vpwpYwwmwQR45tGWbE94fQdp47H40nwQ== X-Google-Smtp-Source: AGHT+IFZpyAwJGHqzACadpy+OIYT5N7nGXnzLTj+H6ByeS61zysXWWUyJdqzD7zfwyYj9MrlAuzKhiURb/vy X-Received: by 2002:a17:90b:1e4d:b0:2f6:be57:49cd with SMTP id 98e67ed59e1d1-2f9e080012dmr8364510a91.25.1738817214110; Wed, 05 Feb 2025 20:46:54 -0800 (PST) Received: from postal.iol.unh.edu (postal.iol.unh.edu. [2606:4100:3880:1234::84]) by smtp-relay.gmail.com with ESMTPS id 98e67ed59e1d1-2f9e1d8cb21sm255218a91.9.2025.02.05.20.46.53 (version=TLS1_2 cipher=ECDHE-ECDSA-AES128-GCM-SHA256 bits=128/128); Wed, 05 Feb 2025 20:46:54 -0800 (PST) X-Relaying-Domain: iol.unh.edu Date: Wed, 05 Feb 2025 20:46:54 -0800 (PST) Message-ID: <67a43ebe.170a0220.31b813.c023SMTPIN_ADDED_MISSING@mx.google.com> Received: from [172.21.0.5] (unknown [172.18.0.240]) by postal.iol.unh.edu (Postfix) with ESMTP id 4BE776052471; Wed, 5 Feb 2025 23:46:53 -0500 (EST) Subject: |SUCCESS| pw150992-151002 [PATCH] [11/11] net/bnxt: address coverity From: dpdklab@iol.unh.edu To: Test Report Cc: dpdk-test-reports@iol.unh.edu In-Reply-To: <20250205172004.50395-12-ajit.khaparde@broadcom.com> References: <20250205172004.50395-12-ajit.khaparde@broadcom.com> Content-Type: text/plain X-BeenThere: test-report@dpdk.org X-Mailman-Version: 2.1.29 Precedence: list List-Id: automatic DPDK test reports List-Unsubscribe: , List-Archive: List-Post: List-Help: List-Subscribe: , Errors-To: test-report-bounces@dpdk.org Test-Label: iol-sample-apps-testing Test-Status: SUCCESS http://dpdk.org/patch/151002 _Testing PASS_ Submitter: Ajit Khaparde Date: Wednesday, February 05 2025 17:20:04 DPDK git baseline: Repo:dpdk Branch: master CommitID:32c18e7364e30a8e43cc7cc6709a7ce606fa285e 150992-151002 --> testing pass Upstream job id: ACVP-FIPS-testing#8794 Test environment and result as below: +--------------------+----------------------+----------------------+ | Environment | compressdev_zlib_pmd | dpdk_fips_validation | +====================+======================+======================+ | Ubuntu 22.04 (ARM) | PASS | SKIPPED | +--------------------+----------------------+----------------------+ | Ubuntu 22.04 | PASS | SKIPPED | +--------------------+----------------------+----------------------+ | Ubuntu 20.04 | SKIPPED | PASS | +--------------------+----------------------+----------------------+ Ubuntu 22.04 (ARM) Kernel: 5.15.0-97-generic Compiler: gcc gcc (Ubuntu 11.4.0-1ubuntu1~22.04) 11.4.0 Ubuntu 22.04 Kernel: 5.15.0-100-generic Compiler: gcc gcc (Ubuntu 11.4.0-1ubuntu1~22.04) 11.4.0 Ubuntu 20.04 Kernel: Depends on container host Compiler: gcc (Ubuntu 9.4.0-1ubuntu1~20.04.2) 9.4.0 To view detailed results, visit: https://lab.dpdk.org/results/dashboard/patchsets/32502/ UNH-IOL DPDK Community Lab To manage your email subscriptions, visit: https://lab.dpdk.org/results/dashboard/preferences/subscriptions/